BEGIN:VCALENDAR
VERSION:2.0
PRODID:-//MisterSaxr.ch | saxophonist-LIVE.ch | Blog | Firmenanlass Hochzeiten Events Saxofonist Musiker Saxophonist Schweiz Z&uuml;rich - ECPv6.15.8//NONSGML v1.0//EN
CALSCALE:GREGORIAN
METHOD:PUBLISH
X-WR-CALNAME:MisterSaxr.ch | saxophonist-LIVE.ch | Blog | Firmenanlass Hochzeiten Events Saxofonist Musiker Saxophonist Schweiz Z&uuml;rich
X-ORIGINAL-URL:https://www.saxophonist-live.ch/saxofonist-blog
X-WR-CALDESC:Veranstaltungen für MisterSaxr.ch | saxophonist-LIVE.ch | Blog | Firmenanlass Hochzeiten Events Saxofonist Musiker Saxophonist Schweiz Z&uuml;rich
REFRESH-INTERVAL;VALUE=DURATION:PT1H
X-Robots-Tag:noindex
X-PUBLISHED-TTL:PT1H
BEGIN:VTIMEZONE
TZID:Europe/Zurich
BEGIN:DAYLIGHT
TZOFFSETFROM:+0100
TZOFFSETTO:+0200
TZNAME:CEST
DTSTART:20230326T010000
END:DAYLIGHT
BEGIN:STANDARD
TZOFFSETFROM:+0200
TZOFFSETTO:+0100
TZNAME:CET
DTSTART:20231029T010000
END:STANDARD
BEGIN:DAYLIGHT
TZOFFSETFROM:+0100
TZOFFSETTO:+0200
TZNAME:CEST
DTSTART:20240331T010000
END:DAYLIGHT
BEGIN:STANDARD
TZOFFSETFROM:+0200
TZOFFSETTO:+0100
TZNAME:CET
DTSTART:20241027T010000
END:STANDARD
BEGIN:DAYLIGHT
TZOFFSETFROM:+0100
TZOFFSETTO:+0200
TZNAME:CEST
DTSTART:20250330T010000
END:DAYLIGHT
BEGIN:STANDARD
TZOFFSETFROM:+0200
TZOFFSETTO:+0100
TZNAME:CET
DTSTART:20251026T010000
END:STANDARD
END:VTIMEZONE
BEGIN:VEVENT
DTSTART;TZID=Europe/Zurich:20241106T180000
DTEND;TZID=Europe/Zurich:20241106T210000
DTSTAMP:20260423T072522
CREATED:20241009T130604Z
LAST-MODIFIED:20241009T130604Z
UID:4016-1730916000-1730926800@www.saxophonist-live.ch
SUMMARY:Mister Saxr Live im Restaurant Allmend
DESCRIPTION:Am Mittwoch\, den 06. November 2024\, wird der renommierte Saxophonist Mister Saxr die Gäste im Restaurant Allmend in Bern mit seinem unverwechselbaren Sound begeistern. Das Restaurant befindet sich in der malerischen Region Bern-Mittelland\, eine Gegend\, die sowohl für ihre naturnahe Atmosphäre als auch für ihre lebendige Kulturszene bekannt ist. Diese Veranstaltung wird von einem besonderen Highlight getragen: der Auftraggeber ist kein geringerer als die angesehene Bright Entertainment AG\, die als Garant für Events der Extraklasse gilt. \nDie Bright Entertainment AG gehört zu den führenden Veranstaltungsagenturen in der Schweiz und hat sich auf die Konzeption und Durchführung von exklusiven Events spezialisiert. Ob Corporate Events\, private Feiern oder grosse Festivals – das Unternehmen setzt auf Perfektion in Planung und Umsetzung. Durch ein breites Netzwerk an hochkarätigen Künstlern\, exzellentem Service und innovativen Konzepten gelingt es Bright Entertainment AG immer wieder\, Events auf höchstem Niveau zu realisieren. Der Auftritt von Mister Saxr im Restaurant Allmend unterstreicht einmal mehr das Gespür der Agentur für die Auswahl herausragender Künstler und Shows\, die jedes Event unvergesslich machen. Dank ihrer Expertise und ihres Engagements ist die Bright Entertainment AG in der gesamten Eventbranche hoch angesehen und bei namhaften Kunden gefragt. \nMister Saxr ist ein gefragter Saxophonist aus Zürich\, der sich in der gesamten Deutschschweiz einen Namen gemacht hat. Mit seiner Leidenschaft für Musik und seinem aussergewöhnlichen Talent hat er sich in den letzten Jahren als einer der Top-Entertainer etabliert. Ob bei exklusiven Firmenevents\, glamourösen Hochzeiten oder grossen Galas – Mister Saxr beeindruckt mit seiner einzigartigen Bühnenpräsenz und seinem musikalischen Feingefühl. Zu seinen zufriedenen Kunden zählen namhafte Unternehmen wie UBS\, Credit Suisse\, Swisscom und JURA. Neben seiner technischen Virtuosität am Saxophon begeistert Mister Saxr das Publikum vor allem durch seine Fähigkeit\, Emotionen in jedem gespielten Ton zum Ausdruck zu bringen und so eine besondere Verbindung mit den Zuhörern herzustellen. Sein Repertoire reicht von klassischen Jazz-Standards über Pop und Lounge bis hin zu modernen House-Klängen\, was ihn zu einem der vielseitigsten Musiker seiner Branche macht. \nFür seine Auftritte setzt Mister Saxr auf das Selmer Supreme Saxophon\, ein Instrument\, das für höchste klangliche Qualität und Präzision steht. Das Selmer Supreme verbindet Tradition und Innovation auf perfekte Weise und ist bekannt für seinen warmen\, vollen Ton und eine aussergewöhnlich leichte Spielbarkeit. Es ist die Wahl vieler internationaler Spitzenmusiker und wird in den besten Orchestern und Jazzbands weltweit eingesetzt. Für Mister Saxr ist das Selmer Supreme mehr als nur ein Instrument – es ist der Schlüssel\, um seine musikalische Vision zum Leben zu erwecken. Der herausragende Klang und die perfekte Intonation erlauben ihm\, die ganze Bandbreite seiner musikalischen Ausdruckskraft voll zur Geltung zu bringen und jedes Stück\, das er spielt\, zu einem emotionalen Erlebnis für das Publikum zu machen. \nFreuen Sie sich auf einen Abend voller musikalischer Highlights\, wenn Mister Saxr am 06. November 2024 das Restaurant Allmend in Bern mit seinen unverwechselbaren Saxophonklängen erfüllt. Begleitet von der Bright Entertainment AG\, die für die perfekte Organisation sorgt\, wird dieser Auftritt ein Event\, das Musikliebhaber aus der ganzen Region anzieht. Erleben Sie Mister Saxr live und lassen Sie sich von seinem meisterhaften Spiel und dem aussergewöhnlichen Klang seines Selmer Supreme Saxophons verzaubern.
URL:https://www.saxophonist-live.ch/saxofonist-blog/event/mister-saxr-live-im-restaurant-allmend/
LOCATION:Restaurant Allmend\, Mingerstrasse 6\, Bern\, 3014
CATEGORIES:MisterSaxr Event
ATTACH;FMTTYPE=image/jpeg:https://www.saxophonist-live.ch/saxofonist-blog/wp-content/uploads/2023/06/MisterSAXR_Saxofonist_Saxophonist_Schweiz_Zuerich_Event2.jpg
END:VEVENT
BEGIN:VEVENT
DTSTART;TZID=Europe/Zurich:20241108T143000
DTEND;TZID=Europe/Zurich:20241108T153000
DTSTAMP:20260423T072522
CREATED:20241031T135239Z
LAST-MODIFIED:20241031T135239Z
UID:4032-1731076200-1731079800@www.saxophonist-live.ch
SUMMARY:Mister Saxr spielt bei einer Trauerfeier in der Reformierten Kirche Zollikon
DESCRIPTION:Am 8. November 2024 wird Mister Saxr in der Reformierten Kirche Zollikon bei einer Beerdigung auftreten und die Trauergemeinde mit seiner einfühlsamen Musik begleiten. Ein Auftritt in solch einem Rahmen ist ein besonders sensibler und emotionaler Moment. Mister Saxr empfindet es als Ehre und zugleich als grosse Verantwortung\, durch seine Musik den Angehörigen in dieser Zeit des Abschieds Trost zu spenden. In der Kirche\, umgeben von Angehörigen und Freunden\, verwandeln seine sanften Saxophonklänge den Raum in eine Atmosphäre der Besinnlichkeit und Erinnerung\, in der Trauer und Trost einander begegnen dürfen. \nDie Musik spielt in Momenten des Abschieds eine bedeutende Rolle. Sie kann Erinnerungen wecken\, Trost spenden und Worte ersetzen\, die im Schmerz oft schwer zu finden sind. Mister Saxr weiss um die Kraft seiner Musik und begegnet diesem Anlass mit besonderer Sensibilität. Jeder Ton wird behutsam gewählt\, jeder Klang strahlt Ruhe und Würde aus\, um den Moment des Abschieds mit Respekt und Feingefühl zu begleiten. Die Klänge seines Saxophons erinnern daran\, dass Musik auch in Zeiten des Verlusts ein verbindendes Element sein kann\, das Gefühle ausdrückt und Verbundenheit schafft. \nFür die Trauerfeier hat die Familie eine Auswahl von Liedern getroffen\, die an den Verstorbenen und seine Lebensreise erinnern sollen. Mister Saxr wird diese Stücke mit besonderer Achtsamkeit interpretieren und so dem Lebenswerk und den Erinnerungen an den geliebten Menschen Ausdruck verleihen. \nAlways on My Mind von Elvis Presley: Ein Lied voller Wehmut und Dankbarkeit\, das daran erinnert\, dass der Verstorbene stets im Herzen der Hinterbliebenen bleibt. \nMy Way von Frank Sinatra: Ein kraftvolles Stück über ein Leben\, das eigenständig und auf einzigartige Weise gelebt wurde\, ein passender Tribut an ein erfülltes Leben. \nWhat a Wonderful World von Louis Armstrong: Mit seinen sanften und positiven Klängen ruft dieses Lied schöne Erinnerungen hervor und erinnert daran\, die Schönheit des Lebens zu würdigen. \nDie Titelmusik aus Forrest Gump: Ein instrumentales Stück\, das mit seiner sanften Melodie den Kreis der Emotionen schliesst und das Vergängliche sowie das Ewige im Leben berührt. \nIn dieser besonderen und emotionalen Atmosphäre wird Mister Saxr die Trauergemeinde in ihrem Schmerz und ihren Erinnerungen begleiten. Seine Musik bietet Momente des Trosts und der Besinnung\, die den Abschied ein wenig leichter machen können. Die Klänge seines Saxophons verweben sich mit der Stille der Kirche und füllen den Raum mit einer ruhigen\, respektvollen Energie\, die den Verlust würdigt und gleichzeitig Hoffnung schenkt. \nFür Mister Saxr ist es eine ehrenvolle Aufgabe\, diesen Moment des Abschieds musikalisch zu gestalten und damit einen kleinen Beitrag zum Trost der Angehörigen zu leisten. So wird die Musik\, die er spielt\, zu einem letzten liebevollen Gruss und einem leisen Versprechen\, dass die Erinnerungen an den Verstorbenen in den Herzen weiterleben.
URL:https://www.saxophonist-live.ch/saxofonist-blog/event/mister-saxr-spielt-bei-einer-trauerfeier-in-der-reformierten-kirche-zollikon/
LOCATION:Reformierten Kirche Zollikon\, Zollikon\, 8702
CATEGORIES:MisterSaxr Event
ATTACH;FMTTYPE=image/jpeg:https://www.saxophonist-live.ch/saxofonist-blog/wp-content/uploads/2024/10/MisterSaxr_Portrait_Fotoshooting_Kirche_RoniSolo_083-e1769073114787.jpg
END:VEVENT
END:VCALENDAR