BEGIN:VCALENDAR
VERSION:2.0
PRODID:-//MisterSaxr.ch | saxophonist-LIVE.ch | Blog | Firmenanlass Hochzeiten Events Saxofonist Musiker Saxophonist Schweiz Z&uuml;rich - ECPv6.15.8//NONSGML v1.0//EN
CALSCALE:GREGORIAN
METHOD:PUBLISH
X-ORIGINAL-URL:https://www.saxophonist-live.ch/saxofonist-blog
X-WR-CALDESC:Veranstaltungen für MisterSaxr.ch | saxophonist-LIVE.ch | Blog | Firmenanlass Hochzeiten Events Saxofonist Musiker Saxophonist Schweiz Z&uuml;rich
REFRESH-INTERVAL;VALUE=DURATION:PT1H
X-Robots-Tag:noindex
X-PUBLISHED-TTL:PT1H
BEGIN:VTIMEZONE
TZID:Europe/Zurich
BEGIN:DAYLIGHT
TZOFFSETFROM:+0100
TZOFFSETTO:+0200
TZNAME:CEST
DTSTART:20230326T010000
END:DAYLIGHT
BEGIN:STANDARD
TZOFFSETFROM:+0200
TZOFFSETTO:+0100
TZNAME:CET
DTSTART:20231029T010000
END:STANDARD
BEGIN:DAYLIGHT
TZOFFSETFROM:+0100
TZOFFSETTO:+0200
TZNAME:CEST
DTSTART:20240331T010000
END:DAYLIGHT
BEGIN:STANDARD
TZOFFSETFROM:+0200
TZOFFSETTO:+0100
TZNAME:CET
DTSTART:20241027T010000
END:STANDARD
BEGIN:DAYLIGHT
TZOFFSETFROM:+0100
TZOFFSETTO:+0200
TZNAME:CEST
DTSTART:20250330T010000
END:DAYLIGHT
BEGIN:STANDARD
TZOFFSETFROM:+0200
TZOFFSETTO:+0100
TZNAME:CET
DTSTART:20251026T010000
END:STANDARD
END:VTIMEZONE
BEGIN:VEVENT
DTSTART;TZID=Europe/Zurich:20241201T140000
DTEND;TZID=Europe/Zurich:20241201T160000
DTSTAMP:20260423T061414
CREATED:20240515T113243Z
LAST-MODIFIED:20240515T113243Z
UID:3830-1733061600-1733068800@www.saxophonist-live.ch
SUMMARY:Saxy-Chlaus Mister Saxr am Weihnachtsmarkt Winterthur
DESCRIPTION:Auch 2024 spielt Mister Saxr wieder als Chlaus auf der grossen Bühne zum traditionellen Chlauseinzug am Winterthurer Weihnachtsmarkt. Freuen Sie sich auf einen zauberhaften Nachmittag am Weihnachtsmarkt in Winterthur am 1. Dezember 2024. Der berühmte Zürcher Saxophonist\, Mister Saxr\, wird in einem charmanten Samichlaus-Kostüm auftreten und die festliche Stimmung mit seinem Saxophon bereichern. \nAls ehemaliger Samichlaus und auch als Vater von drei mittlerweile erwachsenen Kindern kann der versierte Saxophonist auch auf eine lange Erfahrung als «echter» Samichlaus mit entsprechenden pädagogischen Fähigkeiten zurückgreifen. Bei Kindern ist diese Darbietung äusserst beliebt und erzeugt grösstes Erstaunen. \nBekannt für seine malerische Kulisse und das vielfältige Angebot an Kunsthandwerk und lokalen Spezialitäten\, bietet der Weihnachtsmarkt Winterthur die perfekte Bühne für eine solche musikalische Darbietung. Bereits zum 27. Mal findet vom Donnerstag\, 21. November 2024 bis Sonntag\, 22. Dezember 2024 im Herzen der Winterthurer Altstadt der Winterthurer Weihnachtsmarkt statt. Von morgens elf Uhr bis in die späteren Abend­stunden an allen sieben Wochentagen geöffnet. Der Weihnachtsmarkt in der malerischen Altstadt von Winterthur zieht jedes Jahr Zehntausende Besucher aus der Umgebung der sechstgrössten Stadt der Schweiz an. Die historischen Altstadthäuser und etwa 60 festlich geschmückten Holzhäuschen schaffen eine perfekte Kulisse für die Aussteller während der Adventszeit. \nErleben Sie\, wie Mister Saxr mit seiner einzigartigen musikalischen Performance die Herzen erwärmt und die weihnachtliche Freude unter den glitzernden Lichtern des Marktes verbreitet. Seine Melodien reichen von klassischen Weihnachtsliedern bis hin zu modernen Interpretationen\, die jeden Besucher in Weihnachtsstimmung versetzen werden. \nKommen Sie vorbei und lassen Sie sich von der magischen Atmosphäre und der hinreissenden Musik verzaubern. Ein perfekter Start in die festliche Zeit!
URL:https://www.saxophonist-live.ch/saxofonist-blog/event/saxy-chlaus-mister-saxr-am-weihnachtsmarkt-winterthur/
LOCATION:Weihnachtsmarkt Winterthur\, Neumarkt 1\, Winterthur\, 8400\, Schweiz
CATEGORIES:MisterSaxr Event
ATTACH;FMTTYPE=image/jpeg:https://www.saxophonist-live.ch/saxofonist-blog/wp-content/uploads/2024/05/Mister-Saxr_Samichlaus_Weinachtsmarkt.jpg
END:VEVENT
BEGIN:VEVENT
DTSTART;TZID=Europe/Zurich:20241202T180000
DTEND;TZID=Europe/Zurich:20241202T220000
DTSTAMP:20260423T061414
CREATED:20240304T142509Z
LAST-MODIFIED:20240304T142509Z
UID:3786-1733162400-1733176800@www.saxophonist-live.ch
SUMMARY:magicMonday Stiftung Wunderlampe
DESCRIPTION:Der erste magicMonday des Jahres 2024 findet am 2. Dezember für die Stiftung Wunderlampe statt. Es steht ein besonderes Ereignis bevor\, das dazu bestimmt ist\, Herzen zu berühren und Gutes zu tun. Dieses Jahr wird der magicMonday dazu genutzt\, um die wertvolle Arbeit der Stiftung Wunderlampe zu unterstützen. Unter der Schirmherrschaft von Christa Rigozzi\, der Botschafterin der Stiftung und Karin Haug-Bleuler\, Gründerin und Geschäftsleiterin der Stiftung Wunderlampe\, verspricht dieser Abend ein wahrhaft magisches Erlebnis zu werden. \nmagicMonday ist nicht nur ein wunderbarer Wochenstart\, sondern auch eine Gelegenheit\, Gutes zu tun. Diese regelmässige Veranstaltungsreihe lädt ihre Gäste dazu ein\, eine Spende für eine Nonprofit-Organisation zu leisten\, während sie kulinarisch und musikalisch verwöhnt werden. Dabei haben die Besucher die Möglichkeit\, die begünstigte Stiftung kennenzulernen und sich mit weiteren interessanten Gästen auszutauschen. Nach ein paar Stunden voller Genuss und erreichten Spenden in Höhe von CHF 5’000.– kann die Woche so richtig beginnen. \nDie Stiftung Wunderlampe setzt sich leidenschaftlich für Kinder und Jugendliche mit schweren Erkrankungen oder Beeinträchtigungen und ihre Familien ein. Ihr Ziel ist es\, diesen Kindern und Jugendlichen durch magische Momente und unvergessliche Erlebnisse während ihrer Krankheit/ Beeinträchtigung Trost und Freude zu spenden. Die Stiftung schafft es\, mit ihren Aktivitäten und Veranstaltungen ein Lächeln auf die Gesichter der Kinder und Jugendliche zu zaubern und ihnen Momente der Hoffnung und Zuversicht zu schenken. \nDie Location für dieses besondere Ereignis ist die Blumen Krämer AG\, ein zauberhafter Ort voller Schönheit und Inspiration. Umgeben von der Pracht und Vielfalt der Blumen und Pflanzen bietet die Blumen Krämer AG die perfekte Kulisse für einen Abend voller Magie und Wohltätigkeit. \nDie musikalische Unterhaltung wird von keinem Geringeren als dem talentierten Saxophonisten Mister Saxr gestaltet. Mit seiner einzigartigen live gespielten Saxophonklängen verspricht er\, die Gäste in eine Welt der Musik und des Tanzes zu entführen. \nDer magicMonday im Dezember 2024 ist nicht nur eine Gelegenheit\, um sich zu amüsieren und zu feiern\, sondern auch eine Möglichkeit\, einen Beitrag zu einer wichtigen und bewegenden Sache zu leisten. Lasst uns gemeinsam die Stiftung Wunderlampe unterstützen und dazu beitragen\, dass mehr magische Momente für Kinder und Jugendliche mit schweren Erkrankungen oder Beeinträchtigungen geschaffen werden können.
URL:https://www.saxophonist-live.ch/saxofonist-blog/event/magicmonday-stiftung-wunderlampe-3/
LOCATION:Blumen Krämer / Pflanzbar by Hiltl\, Talstrasse 62\, Zürich\, ZH\, 8001\, Schweiz
CATEGORIES:MisterSaxr Event
ATTACH;FMTTYPE=image/jpeg:https://www.saxophonist-live.ch/saxofonist-blog/wp-content/uploads/2024/03/MisterSaxr_Christa-Rigozzi_Karin-Haug_magicMonday.jpg
END:VEVENT
BEGIN:VEVENT
DTSTART;TZID=Europe/Zurich:20241204T140000
DTEND;TZID=Europe/Zurich:20241204T160000
DTSTAMP:20260423T061414
CREATED:20240515T114154Z
LAST-MODIFIED:20240515T114154Z
UID:3836-1733320800-1733328000@www.saxophonist-live.ch
SUMMARY:Ein musikalisches Weihnachtswunder mit Mister Saxr in Winterthur!
DESCRIPTION:Besuchen Sie den Weihnachtsmarkt in Winterthur am 4. Dezember 2024 und geniessen Sie einen unvergesslichen Nachmittag mit Mister Saxr. Gekleidet in einem entzückenden Samichlaus-Kostüm\, wird der talentierte Saxophonist aus Zürich die Besucher mit seinen melodischen Saxophonklängen verzaubern. \nDer Winterthurer Weihnachtsmarkt zieht jährlich Tausende von Besuchern an und ist berühmt für seine festliche Atmosphäre\, die von den liebevoll dekorierten Ständen und dem Duft von Glühwein und gebrannten Mandeln geprägt ist. Der 27. Winterthurer Weihnachtsmarkt\, der täglich (21.11.24 bis 22.12.24) ab 11 Uhr geöffnet ist\, bietet eine reiche Auswahl an festlichen und stimmungsvollen Produkten. Besucher können einzigartige Weihnachtsdekorationen\, Kerzen\, Kunsthandwerk\, feine Textilien\, edle Düfte und ätherische Öle entdecken\, die es ausschliesslich auf dem Weihnachtsmarkt zu kaufen gibt. \nMister Saxr spielt eine breite Palette von musikalischen Stücken\, die von herzlichen Weihnachtsklassikern bis zu lebendigen neuen Arrangements reichen\, um die festliche Freude zu verbreiten. Wenn seine Tenorsaxophon-Klänge eine Shoppingmall\, eine Messehalle oder einen Weihnachtsmarkt erfüllen\, weihnachtet es sehr. Wer fühlt sich da nicht gleich in bester Stimmung zum Auswählen von tollen Geschenken und feinen Festtags-Spezialitäten! \nEr verzaubert sein Publikum mit beschwingten\, feierlichen oder besinnlichen Weihnachts-Songs. Seine Konzert-Showblöcke sorgen in der geschäftigen Advents- und Weihnachtszeit für Momente des Innehaltens und Geniessens und für grosse Freude bei all seinen Zuhörerinnen und Zuhörern jeden Alters. \nUnter dem Himmel des Weihnachtsmarktes bietet seine Performance eine wunderbare Gelegenheit\, die vorweihnachtliche Zeit in einer Atmosphäre voller Musik\, Lichter und Freude zu geniessen. Verpassen Sie nicht die Chance\, Teil dieser festlichen Begegnung zu sein!
URL:https://www.saxophonist-live.ch/saxofonist-blog/event/ein-musikalisches-weihnachtswunder-mit-mister-saxr-in-winterthur/
LOCATION:Weihnachtsmarkt Winterthur\, Neumarkt 1\, Winterthur\, 8400\, Schweiz
CATEGORIES:MisterSaxr Event
ATTACH;FMTTYPE=image/jpeg:https://www.saxophonist-live.ch/saxofonist-blog/wp-content/uploads/2024/05/MisterSaxr_Chlauskostuem_Weihnachtsmarkt_Home.jpg
END:VEVENT
BEGIN:VEVENT
DTSTART;TZID=Europe/Zurich:20241228T180000
DTEND;TZID=Europe/Zurich:20241228T220000
DTSTAMP:20260423T061414
CREATED:20241024T073205Z
LAST-MODIFIED:20241024T073205Z
UID:4026-1735408800-1735423200@www.saxophonist-live.ch
SUMMARY:MisterSaxr live im Schweizerhof Flims
DESCRIPTION:Am Samstag\, den 28. Dezember 2024\, wird MisterSaxr wieder einmal im renommierten Schweizerhof Flims auftreten und seine Zuhörer mit seinen einzigartigen Saxophonklängen verzaubern. Es ist nicht das erste Mal\, dass MisterSaxr die Ehre hat\, in diesem traditionsreichen Haus zu spielen. Bereits bei mehreren Anlässen durfte er die Gäste des Schweizerhofs musikalisch begleiten und ihnen mit seiner Musik unvergessliche Momente schenken. Auch dieses Mal wird er die edle Atmosphäre des Hotels mit seiner sanften und loungigen Musik perfekt unterstreichen. \nDer Schweizerhof Flims ist weit mehr als nur ein Hotel – es ist ein historisches Wahrzeichen inmitten der eindrucksvollen Landschaft von Flims. Seit seiner Gründung im Jahr 1903 hat es sich als Ort etabliert\, der Tradition mit moderner Gastfreundschaft verbindet. Das elegante Jugendstil-Haus verströmt eine Atmosphäre von zeitloser Eleganz und bietet den Gästen ein luxuriöses und gleichzeitig gemütliches Zuhause auf Zeit. Mister Saxr spielt bereits seit mehreren Jahren regelmässig im beliebten Top-Hotel. Bekannt für seine herzliche Gastfreundschaft\, seine erstklassige Kulinarik und sein abwechslungsreiches Wellness-Angebot\, ist der Schweizerhof Flims seit Jahrzehnten ein beliebter Rückzugsort für Gäste aus der ganzen Welt. Besonders in der winterlichen Saison bietet das Hotel eine magische Kulisse\, die Tradition und Winterromantik miteinander vereint. \nDie Tage zwischen Weihnachten und Silvester haben eine ganz besondere Bedeutung. Diese Zeit des Jahres ist geprägt von Entschleunigung\, Besinnlichkeit und Vorfreude auf das neue Jahr. Viele Menschen nutzen diese Tage\, um dem Alltagsstress zu entfliehen\, sich zu erholen und die letzten Momente des Jahres in einer besonderen Atmosphäre zu geniessen. Der Schweizerhof Flims bietet in dieser Phase des Jahres eine besonders festliche und gleichzeitig entspannte Umgebung\, die perfekt dazu geeignet ist\, um abzuschalten und die winterliche Pracht der Flimser Bergwelt zu geniessen. MisterSaxr wird diese stimmungsvolle Zeit mit seiner Musik noch intensiver machen und den Gästen ein unvergessliches Erlebnis bieten. \nAm 28. Dezember 2024 dürfen sich die Gäste des Schweizerhof Flims auf ein besonderes musikalisches Highlight freuen. MisterSaxr wird den Abend mit seinen sanften Saxophonklängen untermalen und für eine harmonische\, entspannte und zugleich festliche Atmosphäre sorgen. Sein Auftritt verspricht\, die Magie der Tage zwischen Weihnachten und Silvester noch intensiver erlebbar zu machen und den Gästen einen unvergesslichen musikalischen Genuss zu bieten. \nOb als Teil eines gemütlichen Abends in der Lobby oder als musikalische Untermalung eines Schlummertrunks – MisterSaxr’s Musik wird die besondere Atmosphäre des Schweizerhofs Flims perfekt ergänzen und den Gästen einen stilvollen\, musikalischen Ausklang des Jahres bescheren. Verpassen Sie nicht die Gelegenheit\, sich von seinen Saxophonklängen verzaubern zu lassen!
URL:https://www.saxophonist-live.ch/saxofonist-blog/event/mistersaxr-live-im-schweizerhof-flims/
LOCATION:Hotel Schweizerhof Flims\, Rudi Dadens 1\, Flims Waldhaus\, Graubünden\, 7018\, Schweiz
CATEGORIES:MisterSaxr Event
ATTACH;FMTTYPE=image/jpeg:https://www.saxophonist-live.ch/saxofonist-blog/wp-content/uploads/2024/06/MisterSaxr_Wedding2b_Hochzeit_CristinaSieberBeck_Hochzeit_Saxophon_MisterSaxr__521.jpg
END:VEVENT
BEGIN:VEVENT
DTSTART;TZID=Europe/Zurich:20241229T200000
DTEND;TZID=Europe/Zurich:20241229T220000
DTSTAMP:20260423T061414
CREATED:20240927T115341Z
LAST-MODIFIED:20240927T115341Z
UID:4000-1735502400-1735509600@www.saxophonist-live.ch
SUMMARY:Sax & Spirits: mit Mister Saxr im Signina Hotel Laax
DESCRIPTION:Am Sonntag\, den 29. Dezember 2024\, lädt das Signina Hotel in Laax zu einem ganz besonderen musikalischen Highlight ein: Mister Saxr präsentiert “Sax & Spirits: December Finale”. In der gemütlichen Lounge des Signina Hotels wird er die Gäste mit seinen einzigartigen Saxophonklängen in die perfekte Stimmung für den Jahresausklang versetzen. Ein Abend voller musikalischer Leidenschaft\, gepaart mit exquisiten Drinks – das darf man nicht verpassen! \nMister Saxr\, bekannt für seine unvergleichliche Performance\, schafft es immer wieder\, sein Publikum zu begeistern. Mit einer Mischung aus Jazz\, Soul und modernen Klängen\, die er virtuos auf seinem Saxophon zum Leben erweckt\, sorgt er für ein unvergessliches musikalisches Erlebnis. Mister Saxr versteht es\, mit seinen improvisierten Melodien und gefühlvollen Interpretationen den Raum in eine wohlige Atmosphäre zu tauchen. \nDas Signina Hotel in Laax bietet dafür den idealen Rahmen. Das stilvolle Hotel\, das direkt am Fusse der Laaxer Bergwelt liegt\, ist nicht nur für seine erstklassige Gastfreundschaft bekannt\, sondern auch für seine Lounge\, die regelmässig Schauplatz exklusiver Events ist. Mit einem Panoramablick auf die winterliche Landschaft und einem gemütlichen Kamin im Hintergrund schafft das Signina Hotel die perfekte Kulisse für den Abend mit Mister Saxr. \nLaax selbst ist ein beliebtes Reiseziel für Wintersportler und Naturliebhaber. In Kombination mit dem benachbarten Flims bietet die Region eines der grössten Skigebiete der Schweiz und ist bekannt für seine erstklassigen Pisten\, Freeride-Hotspots und Schneesicherheit. Doch auch abseits der Pisten gibt es in Laax viel zu erleben. Mit Events wie „Sax & Spirits: December Finale“ zeigt Laax\, dass es nicht nur ein Paradies für Skifahrer ist\, sondern auch kulturell und musikalisch viel zu bieten hat. \nDie Kombination aus erstklassiger Musik von Mister Saxr\, der stilvollen Atmosphäre des Signina Hotels und der winterlichen Magie von Laax verspricht ein Event\, das man nicht so schnell vergessen wird. Geniessen Sie den Abend\, lassen Sie sich von den feinen Klängen des Saxophons verzaubern und stossen Sie auf einen gelungenen Jahresabschluss an.
URL:https://www.saxophonist-live.ch/saxofonist-blog/event/sax-spirits-mit-mister-saxr-im-signina-hotel-laax/
LOCATION:Signinahotel\, Via Murschetg 15\, Laax\, 7032
CATEGORIES:MisterSaxr Event
ATTACH;FMTTYPE=image/jpeg:https://www.saxophonist-live.ch/saxofonist-blog/wp-content/uploads/2024/09/MisterSaxr_BestOf_Event_Saxophonist_Zuerich.jpg
END:VEVENT
END:VCALENDAR