BEGIN:VCALENDAR
VERSION:2.0
PRODID:-//MisterSaxr.ch | saxophonist-LIVE.ch | Blog | Firmenanlass Hochzeiten Events Saxofonist Musiker Saxophonist Schweiz Z&uuml;rich - ECPv6.15.8//NONSGML v1.0//EN
CALSCALE:GREGORIAN
METHOD:PUBLISH
X-ORIGINAL-URL:https://www.saxophonist-live.ch/saxofonist-blog
X-WR-CALDESC:Veranstaltungen für MisterSaxr.ch | saxophonist-LIVE.ch | Blog | Firmenanlass Hochzeiten Events Saxofonist Musiker Saxophonist Schweiz Z&uuml;rich
REFRESH-INTERVAL;VALUE=DURATION:PT1H
X-Robots-Tag:noindex
X-PUBLISHED-TTL:PT1H
BEGIN:VTIMEZONE
TZID:Europe/Zurich
BEGIN:DAYLIGHT
TZOFFSETFROM:+0100
TZOFFSETTO:+0200
TZNAME:CEST
DTSTART:20240331T010000
END:DAYLIGHT
BEGIN:STANDARD
TZOFFSETFROM:+0200
TZOFFSETTO:+0100
TZNAME:CET
DTSTART:20241027T010000
END:STANDARD
BEGIN:DAYLIGHT
TZOFFSETFROM:+0100
TZOFFSETTO:+0200
TZNAME:CEST
DTSTART:20250330T010000
END:DAYLIGHT
BEGIN:STANDARD
TZOFFSETFROM:+0200
TZOFFSETTO:+0100
TZNAME:CET
DTSTART:20251026T010000
END:STANDARD
BEGIN:DAYLIGHT
TZOFFSETFROM:+0100
TZOFFSETTO:+0200
TZNAME:CEST
DTSTART:20260329T010000
END:DAYLIGHT
BEGIN:STANDARD
TZOFFSETFROM:+0200
TZOFFSETTO:+0100
TZNAME:CET
DTSTART:20261025T010000
END:STANDARD
END:VTIMEZONE
BEGIN:VEVENT
DTSTART;TZID=Europe/Zurich:20250214T180000
DTEND;TZID=Europe/Zurich:20250214T220000
DTSTAMP:20260423T040447
CREATED:20240628T131816Z
LAST-MODIFIED:20240628T131816Z
UID:3896-1739556000-1739570400@www.saxophonist-live.ch
SUMMARY:Valentinstag @ Schweizerhof Flims
DESCRIPTION:Auch dieses Jahr wird der renommierte Saxophonist Mister Saxr am Valentinstag im Hotel Schweizerhof Flims auftreten. Die Vorfreude ist gross\, denn seine jährlichen Auftritte sind ein fester Bestandteil des Valentinstagsprogramms im Hotel und werden stets mit Spannung erwartet. Am 14. Februar 2025 wird der talentierte Musiker die Gäste erneut mit seinen melodischen Klängen verzaubern und einen romantischen Abend voller Musik und Leidenschaft bieten. \nMister Saxr\, ein begnadeter Saxophonist aus Zürich\, ist bekannt für seine mitreissenden Auftritte und seine Liebe zur Musik. Mit seinem Selmer Saxophon zaubert er Klänge\, die das Publikum in ihren Bann ziehen. Seine Leidenschaft für das Saxophon ist in jeder Note spürbar\, und seine Auftritte sind ein emotionales Erlebnis für jeden Zuhörer. \nAls professioneller Saxophonist verschafft Mister Saxr jedem Anlass ein einzigartiges musikalisches Gepräge. Ob kleine Feier in privatem Rahmen oder öffentlicher Grossanlass– Mister Saxr weiss sein Publikum zu begeistern mit seinem besonderen Gespür für die richtige Stimmung. \nDer Valentinstag im Hotel Schweizerhof Flims wird als Themenabend rund um die Liebe gefeiert. Ein speziell kreiertes Menü verwöhnt die Gäste mit kulinarischen Köstlichkeiten\, die den romantischen Anlass perfekt unterstreichen. Begleitet wird der Abend von den bezaubernden Klängen von Mister SAXR\, der mit seinen Love-Songs für die passende musikalische Untermalung sorgt. Diese harmonische Kombination aus exquisitem Essen und berührender Musik schafft eine unvergessliche Atmosphäre\, die Herzen höher schlagen lässt. \nDer Auftritt von Mister Saxr ist das Highlight des Abends und verspricht unvergessliche Momente in einer unvergleichlichen Atmosphäre: Das Hotel Schweizerhof in Flims ist ein Ort der Eleganz und des Komforts. Es bietet eine einzigartige Kombination aus Tradition und Moderne\, die Gäste aus aller Welt anzieht. Die luxuriösen Zimmer\, der erstklassige Service und die atemberaubende Lage machen das Hotel zu einem perfekten Ort für einen romantischen Valentinstag. \nEingebettet in die malerische Region Surselva ist Flims Waldhaus ein wahres Juwel der Schweizer Alpen. Die Region beeindruckt mit einer Naturkulisse aus dichten Wäldern\, dem türkisfarbenen Caumasee und dem majestätischen Flimserstein. Flims ist ein beliebtes Reiseziel für Naturliebhaber und Abenteurer\, die das ganze Jahr über Outdoor-Aktivitäten geniessen können. Der Valentinstag im Hotel Schweizerhof\, begleitet von den Klängen von Mister Saxr\, bietet den perfekten Anlass\, um die Schönheit der Region zu erleben und gleichzeitig einen romantischen Abend zu verbringen. \nFreuen Sie sich auf einen unvergesslichen Valentinstag mit Mister Saxr im Hotel Schweizerhof Flims und geniessen Sie die harmonische Verbindung von Musik\, Luxus und Natur.
URL:https://www.saxophonist-live.ch/saxofonist-blog/event/valentinstag-schweizerhof-flims-4/
LOCATION:Hotel Schweizerhof Flims\, Rudi Dadens 1\, Flims Waldhaus\, Graubünden\, 7018\, Schweiz
CATEGORIES:MisterSaxr Event
ATTACH;FMTTYPE=image/jpeg:https://www.saxophonist-live.ch/saxofonist-blog/wp-content/uploads/2024/06/MisterSaxr_Wedding2b_Hochzeit_CristinaSieberBeck_Hochzeit_Saxophon_MisterSaxr__521.jpg
END:VEVENT
BEGIN:VEVENT
DTSTART;TZID=Europe/Zurich:20250227T180000
DTEND;TZID=Europe/Zurich:20250227T220000
DTSTAMP:20260423T040447
CREATED:20250123T143732Z
LAST-MODIFIED:20250123T143732Z
UID:4076-1740679200-1740693600@www.saxophonist-live.ch
SUMMARY:Corporate Event mit Mister Saxr im Schweizerhof Flims
DESCRIPTION:Am 27. Februar 2025 wird das elegante Hotel Schweizerhof Flims Schauplatz eines besonderen Corporate Events\, bei dem Mister Saxr mit seinen eindrucksvollen Saxophonklängen die Atmosphäre bereichern wird. Die einzigartige Verbindung von familiärem Charme und professioneller Eleganz im Schweizerhof bietet den perfekten Rahmen für einen gelungenen Anlass\, der durch Mister Saxr musikalisch unvergesslich wird. \nDie Surselva mit den bekannten Orten Flims und Laax ist nicht nur für ihre atemberaubenden Skipisten und Winterwanderwege bekannt\, sondern auch für ihre charmante Gastfreundschaft. Eingebettet in die beeindruckende Berglandschaft der Bündner Alpen\, ist die Region ein beliebtes Ziel für Veranstaltungen\, bei denen Natur und Exklusivität aufeinandertreffen. Für Mister Saxr\, der bereits mehrmals in dieser Region auftreten durfte\, ist die Surselva eine vertraute Kulisse. Seine Musik spiegelt die Dynamik und Ruhe der Berge wider und unterstreicht die besondere Atmosphäre\, die Flims und Laax so einzigartig macht. \nDas Hotel Schweizerhof Flims ist bekannt für seine charmante Mischung aus familiärer Herzlichkeit und stilvoller Eleganz. In den historischen Räumlichkeiten des Hauses trifft traditionelle Gemütlichkeit auf moderne Ansprüche – eine perfekte Kombination für private und geschäftliche Anlässe. Mit professionellem Service und einem Auge für Details schafft der Schweizerhof den idealen Rahmen für Corporate Events\, bei denen Professionalität und Wohlfühlambiente im Einklang stehen. Mister Saxr ist hier ein gern gesehener Gast\, dessen Musik das Ambiente perfekt ergänzt und Veranstaltungen zu einem besonderen Erlebnis macht. \nFür Mister Saxr ist der Schweizerhof Flims wie ein zweites Zuhause. Bereits mehrfach durfte er in diesem einzigartigen Hotel auftreten und mit seiner Musik die Gäste begeistern. Mit seinen wunderschönen Melodien fügt er sich nahtlos in die Umgebung des Hauses ein und macht jeden Auftritt zu einem Highlight. Auch an diesem Abend wird er mit seinen Saxophonklängen den Event musikalisch auf ein neues Niveau heben. \nDie Atmosphäre im Schweizerhof Flims verbindet Wärme und Exklusivität – ideal für ein Corporate Event\, bei dem Wohlbefinden und Produktivität Hand in Hand gehen. Mister Saxr trägt mit seinen Klängen dazu bei\, diese besondere Stimmung zu unterstreichen. Die winterliche Kulisse\, das elegante Ambiente des Hotels und die einfühlsame Musik schaffen zusammen ein Erlebnis\, das lange in Erinnerung bleiben wird.
URL:https://www.saxophonist-live.ch/saxofonist-blog/event/corporate-event-mit-mister-saxr-im-schweizerhof-flims/
LOCATION:Hotel Schweizerhof Flims\, Rudi Dadens 1\, Flims Waldhaus\, Graubünden\, 7018\, Schweiz
CATEGORIES:MisterSaxr Event
ATTACH;FMTTYPE=image/jpeg:https://www.saxophonist-live.ch/saxofonist-blog/wp-content/uploads/2018/08/MISTERSAXR_7432.jpg
END:VEVENT
END:VCALENDAR