BEGIN:VCALENDAR
VERSION:2.0
PRODID:-//MisterSaxr.ch | saxophonist-LIVE.ch | Blog | Firmenanlass Hochzeiten Events Saxofonist Musiker Saxophonist Schweiz Z&uuml;rich - ECPv6.15.8//NONSGML v1.0//EN
CALSCALE:GREGORIAN
METHOD:PUBLISH
X-WR-CALNAME:MisterSaxr.ch | saxophonist-LIVE.ch | Blog | Firmenanlass Hochzeiten Events Saxofonist Musiker Saxophonist Schweiz Z&uuml;rich
X-ORIGINAL-URL:https://www.saxophonist-live.ch/saxofonist-blog
X-WR-CALDESC:Veranstaltungen für MisterSaxr.ch | saxophonist-LIVE.ch | Blog | Firmenanlass Hochzeiten Events Saxofonist Musiker Saxophonist Schweiz Z&uuml;rich
REFRESH-INTERVAL;VALUE=DURATION:PT1H
X-Robots-Tag:noindex
X-PUBLISHED-TTL:PT1H
BEGIN:VTIMEZONE
TZID:Europe/Zurich
BEGIN:DAYLIGHT
TZOFFSETFROM:+0100
TZOFFSETTO:+0200
TZNAME:CEST
DTSTART:20240331T010000
END:DAYLIGHT
BEGIN:STANDARD
TZOFFSETFROM:+0200
TZOFFSETTO:+0100
TZNAME:CET
DTSTART:20241027T010000
END:STANDARD
BEGIN:DAYLIGHT
TZOFFSETFROM:+0100
TZOFFSETTO:+0200
TZNAME:CEST
DTSTART:20250330T010000
END:DAYLIGHT
BEGIN:STANDARD
TZOFFSETFROM:+0200
TZOFFSETTO:+0100
TZNAME:CET
DTSTART:20251026T010000
END:STANDARD
BEGIN:DAYLIGHT
TZOFFSETFROM:+0100
TZOFFSETTO:+0200
TZNAME:CEST
DTSTART:20260329T010000
END:DAYLIGHT
BEGIN:STANDARD
TZOFFSETFROM:+0200
TZOFFSETTO:+0100
TZNAME:CET
DTSTART:20261025T010000
END:STANDARD
END:VTIMEZONE
BEGIN:VEVENT
DTSTART;TZID=Europe/Zurich:20250801T180000
DTEND;TZID=Europe/Zurich:20250801T210000
DTSTAMP:20260422T211242
CREATED:20240821T120615Z
LAST-MODIFIED:20240821T130845Z
UID:3950-1754071200-1754082000@www.saxophonist-live.ch
SUMMARY:Nationalfeiertag mit Mister Saxr @ Signina Hotels
DESCRIPTION:Am 1. August 2024\, dem Schweizer Nationalfeiertag\, erwartet die Gäste des Signina Hotels in Laax ein ganz besonderes Highlight: Mister Saxr wird ein exklusives Barbecue mit seinen einzigartigen Klängen begleiten. Der schweizerische Nationalfeiertag wird durch seine Musik und die malerische Kulisse von Laax zu einem unvergesslichen Erlebnis. \nDer 1. August ist ein bedeutendes Datum in der Geschichte der Schweiz\, denn an diesem Tag wird die Gründung der Schweizerischen Eidgenossenschaft gefeiert. Der Ursprung dieses Nationalfeiertags geht auf das Jahr 1291 zurück\, als die Vertreter der drei Urkantone Uri\, Schwyz und Unterwalden auf dem Rütli am Vierwaldstättersee einen Bund schlossen. Dieser Bund gilt als Grundstein für die Entstehung der Schweiz\, wie wir sie heute kennen. Am 1. August wird in der ganzen Schweiz mit Feuerwerken\, Festreden und traditionellen Feiern an diese Gründung erinnert. Mister Saxr ist stolz\, dass er am einer dieser Feierlichkeiten für die musikalische Umrahmung sorgen darf. \nDas Signina Hotel\, zentral gelegen und umgeben von der atemberaubenden Berglandschaft der Surselva\, bietet die perfekte Kulisse für diese Feierlichkeiten. Es ist bekannt für seinen stilvollen Komfort\, seine herzliche Gastfreundschaft und die beeindruckende Nähe zur Natur. Anlässlich des Nationalfeiertags lädt das Hotel seine Gäste zu einem exklusiven Barbecue ein\, das kulinarisch keine Wünsche offenlässt. Die Küche des Signina Hotels ist für ihre Qualität und Kreativität bekannt und wird an diesem Tag eine Auswahl an traditionellen Schweizer Grillgerichten sowie internationale Spezialitäten anbieten\, die die Gaumen der Gäste verwöhnen. \nDas Barbecue im Signina Hotel wird jedoch nicht nur durch das exquisite Essen zu einem Highlight. Die musikalische Begleitung von Mister Saxr verleiht dem Event eine ganz besondere Note. Mister Saxr\, der die Surselva wie seine Westentasche kennt\, versteht es\, seine Musik mit der einzigartigen Atmosphäre des Nationalfeiertags zu verbinden. Seine tief empfundene Beziehung zur Region spiegelt sich in jedem Ton wider und schafft eine harmonische Verbindung zwischen der atemberaubenden Umgebung\, der festlichen Stimmung und dem kulinarischen Genuss. \nWährend die Gäste im Freien speisen und umgeben von der alpinen Pracht der Berge sind\, sorgt Mister Saxr mit seinem Saxophon für eine stimmungsvolle Begleitung. Seine Musik\, die eine Mischung aus Jazz\, Pop und traditionell inspirierten Melodien umfasst\, fügt sich nahtlos in die entspannte\, doch feierliche Atmosphäre des Abends ein. Das Barbecue wird so zu einem Fest für alle Sinne\, bei dem die Gäste die Schweizer Kultur und Gastfreundschaft in vollen Zügen genießen können. \nFeiern Sie mit uns am 1. August 2024 den Schweizer Nationalfeiertag in Laax – ein Tag\, der durch die Musik von Mister Saxr\, die Köstlichkeiten des Barbecues und die einzigartige Atmosphäre zu einem Highlight des Jahres wird.
URL:https://www.saxophonist-live.ch/saxofonist-blog/event/3950/
LOCATION:signina hotel\, Via Murschetg 15\, Laax\, 7032\, Schweiz
CATEGORIES:MisterSaxr Event
ATTACH;FMTTYPE=image/jpeg:https://www.saxophonist-live.ch/saxofonist-blog/wp-content/uploads/2024/08/MisterSaxr_BestOf_Event_Saxophonist_FischersFritz_162916.jpg
END:VEVENT
BEGIN:VEVENT
DTSTART;TZID=Europe/Zurich:20250801T180000
DTEND;TZID=Europe/Zurich:20250801T210000
DTSTAMP:20260422T211242
CREATED:20250930T151908Z
LAST-MODIFIED:20250930T151908Z
UID:4315-1754071200-1754082000@www.saxophonist-live.ch
SUMMARY:Nationalfeiertag 2026 mit Mister Saxr im Signina Hotel
DESCRIPTION:Am 1. August 2026\, dem Schweizer Nationalfeiertag\, dürfen sich die Gäste des Signina Hotels in Laax auf ein ganz besonderes Erlebnis freuen: Mister Saxr begleitet das exklusive Barbecue im Hotelgarten mit seinen unverwechselbaren Saxophonklängen. Vor der Kulisse der Bündner Berge verschmelzen Musik\, Kulinarik und Tradition zu einem Fest\, das lange in Erinnerung bleibt. \nDer 1. August ist ein symbolträchtiges Datum für die Schweiz. An diesem Tag wird die Gründung der Eidgenossenschaft im Jahr 1291 gefeiert\, als die Urkantone Uri\, Schwyz und Unterwalden auf dem Rütli den Grundstein für das Land legten. Seither erinnern Feuerwerke\, Festreden und Feiern in allen Regionen der Schweiz an diesen historischen Bund. Dass Mister Saxr Teil einer dieser Feierlichkeiten in Laax ist\, erfüllt ihn mit Stolz – seine Musik wird den Nationalfeiertag auf ganz besondere Weise bereichern. \nDas Signina Hotel bietet dafür den perfekten Rahmen. Zentral im Rocks Resort gelegen und umgeben von der beeindruckenden Landschaft der Surselva\, verbindet es stilvollen Komfort mit herzlicher Gastfreundschaft. Für den 1. August hat die Küche ein exklusives Barbecue vorbereitet\, das traditionelle Schweizer Grillgerichte ebenso umfasst wie internationale Spezialitäten. Mit frischen Zutaten und kreativer Zubereitung garantiert das Team des Hotels ein kulinarisches Erlebnis auf höchstem Niveau. \nDoch das Barbecue wird nicht nur durch die Speisen geprägt. Die Musik von Mister Saxr verleiht dem Abend seine besondere Note. Mit seinem Selmer Supreme Saxophon füllt er den Hotelgarten mit warmen Melodien\, die perfekt zur festlichen Stimmung passen. Seine Mischung aus Jazz\, Pop und feinfühlig interpretierten Klassikern schafft eine Atmosphäre\, die entspannt und zugleich feierlich ist. Jede Phrase greift die Stimmung des Moments auf\, jede Melodie verstärkt die festliche Energie. \nWährend die Gäste im Freien speisen\, schweift der Blick über die alpine Landschaft\, das Lachen der Menschen mischt sich mit den Saxophonklängen\, und die besondere Stimmung des Nationalfeiertags wird spürbar. Es ist die Kombination aus Tradition\, Natur\, Musik und Kulinarik\, die den 1. August im Signina Hotel unvergleichlich macht. \nFeiern Sie den Schweizer Nationalfeiertag 2026 in Laax – mit einem Barbecue\, das keine Wünsche offenlässt\, und mit Mister Saxr\, dessen Musik den Abend zu einem Höhepunkt des Jahres werden lässt.
URL:https://www.saxophonist-live.ch/saxofonist-blog/event/nationalfeiertag-2026-mit-mister-saxr-im-signina-hotel/
LOCATION:signina hotel\, Via Murschetg 15\, Laax\, 7032\, Schweiz
CATEGORIES:MisterSaxr Event
ATTACH;FMTTYPE=image/jpeg:https://www.saxophonist-live.ch/saxofonist-blog/wp-content/uploads/2018/08/MisterSaxrMäderHütte-e1533825907817.jpg
END:VEVENT
BEGIN:VEVENT
DTSTART;TZID=Europe/Zurich:20250805T180000
DTEND;TZID=Europe/Zurich:20250805T210000
DTSTAMP:20260422T211242
CREATED:20240821T123754Z
LAST-MODIFIED:20240821T131120Z
UID:3963-1754416800-1754427600@www.saxophonist-live.ch
SUMMARY:Mister Saxr: Klänge aus Graubünden
DESCRIPTION:Freuen Sie sich auf einen magischen Sommerabend im Signinahotel in Laax (Graubünden) am Dienstag\, dem 5. August 2025! Mister Saxr\, der Flimser Saxophonist\, wird von 18:00 bis 21:00 Uhr mit seinen faszinierenden Saxophonklängen für eine unvergleichliche Atmosphäre sorgen. Lassen Sie sich beim Sommer-BBQ kulinarisch verwöhnen und geniessen Sie die musikalischen Highlights dieses Abends. Mit einer einzigartigen Mischung aus Jazz\, Blues und modernen Melodien wird Mister Saxr Sie in den Bann ziehen und den Abend zu einem unvergesslichen Erlebnis machen. \nDas Bündnerland\, auch bekannt als Graubünden\, ist eine der schönsten und vielfältigsten Regionen der Schweiz. Diese Region\, die von Mister Saxr oft bespielt wird\, ist bekannt für ihre atemberaubende Natur\, die von hohen Bergen\, tiefen Tälern und kristallklaren Seen geprägt ist. Im Sommer verwandelt sich das Bündnerland in ein Paradies für Outdoor-Enthusiasten\, die die zahlreichen Wander- und Radwege erkunden möchten. Aber nicht nur die Natur\, auch die Kultur des Bündnerlands ist einzigartig. Hier wird Rätoromanisch gesprochen\, eine der vier Amtssprachen der Schweiz\, die tief in der Geschichte und den Traditionen der Region verwurzelt ist. \nGrischa ist der Rätoromanische Name für Graubünden und spiegelt die kulturelle Vielfalt und die tiefen Wurzeln der Region wider. Diese alte Sprache\, die nur in wenigen Teilen der Schweiz gesprochen wird\, ist ein wichtiger Teil der Identität des Bündnerlands. Viele Ortsnamen\, Traditionen und Bräuche sind eng mit der rätoromanischen Kultur verbunden und bieten Besuchern einen einzigartigen Einblick in eine jahrhundertealte Geschichte. Auch heute noch wird Rätoromanisch in vielen Dörfern gesprochen und gepflegt\, was dem Bündnerland einen besonderen Charme verleiht. Mister Saxr spielt gerne im Gebiet der vierten Landesprache der Schweiz. \nRätoromanisch ist nicht nur eine Sprache\, sondern auch ein Ausdruck der Kultur und Lebensweise der Menschen in Graubünden. Diese Sprache\, die im Laufe der Jahrhunderte weitergegeben wurde\, erzählt von den Geschichten und Legenden der Region und verbindet die Menschen mit ihrer Heimat. In Graubünden wird Rätoromanisch nicht nur in der Alltagssprache verwendet\, sondern auch in der Literatur\, der Musik und den Traditionen gepflegt. Für viele Einheimische ist es ein stolzes Zeichen ihrer Identität und ihrer Verbundenheit mit der Region. Und wenn wir schon bei Rätoromanisch angekommen sind\, so stellt sich Mister Saxr gleich selbst auf Rätoromanisch vor. \nMister Saxr è in musicist da Zurich\, renumnà per sia gronda abilitad sin il saxofon. Cun sias melodias captivantas da Pop\, Bossa-Nova\, Smooth-Jazz e hits contemporans\, fascinescha el il public adina danovamain. Sia musica suna en numerusas occurrenzas exclusivas e vegn savens accumpagnada da sias interpretaziuns expressivas e charismas. Cun sia capacitad da tutgar ils cors dals aspectaturs\, fa el da mintga concert ina experientscha inoltrada ed inolvidabla. \nEntdecken Sie die kulturelle Vielfalt des Bündnerlands und geniessen Sie einen unvergesslichen Sommerabend im Signinahotel in Laax. Lassen Sie sich von Mister Saxrs Musik verzaubern und erleben Sie die besondere Atmosphäre dieses Abends\, der die Schönheit der Natur und die reiche Kultur des Bündnerlands miteinander verbindet. Freuen Sie sich auf einen Abend voller Musik\, Genuss und kultureller Erlebnisse.
URL:https://www.saxophonist-live.ch/saxofonist-blog/event/mister-saxr-klaenge-aus-graubuenden/
LOCATION:signina hotel\, Via Murschetg 15\, Laax\, 7032\, Schweiz
CATEGORIES:MisterSaxr Event
ATTACH;FMTTYPE=image/jpeg:https://www.saxophonist-live.ch/saxofonist-blog/wp-content/uploads/2024/08/MisterSaxr_BestOf_Event_Saxophonist_BAND_SummerParty_190048-e1724245872290.jpg
END:VEVENT
END:VCALENDAR