BEGIN:VCALENDAR
VERSION:2.0
PRODID:-//MisterSaxr.ch | saxophonist-LIVE.ch | Blog | Firmenanlass Hochzeiten Events Saxofonist Musiker Saxophonist Schweiz Z&uuml;rich - ECPv6.15.8//NONSGML v1.0//EN
CALSCALE:GREGORIAN
METHOD:PUBLISH
X-ORIGINAL-URL:https://www.saxophonist-live.ch/saxofonist-blog
X-WR-CALDESC:Veranstaltungen für MisterSaxr.ch | saxophonist-LIVE.ch | Blog | Firmenanlass Hochzeiten Events Saxofonist Musiker Saxophonist Schweiz Z&uuml;rich
REFRESH-INTERVAL;VALUE=DURATION:PT1H
X-Robots-Tag:noindex
X-PUBLISHED-TTL:PT1H
BEGIN:VTIMEZONE
TZID:Europe/Zurich
BEGIN:DAYLIGHT
TZOFFSETFROM:+0100
TZOFFSETTO:+0200
TZNAME:CEST
DTSTART:20240331T010000
END:DAYLIGHT
BEGIN:STANDARD
TZOFFSETFROM:+0200
TZOFFSETTO:+0100
TZNAME:CET
DTSTART:20241027T010000
END:STANDARD
BEGIN:DAYLIGHT
TZOFFSETFROM:+0100
TZOFFSETTO:+0200
TZNAME:CEST
DTSTART:20250330T010000
END:DAYLIGHT
BEGIN:STANDARD
TZOFFSETFROM:+0200
TZOFFSETTO:+0100
TZNAME:CET
DTSTART:20251026T010000
END:STANDARD
BEGIN:DAYLIGHT
TZOFFSETFROM:+0100
TZOFFSETTO:+0200
TZNAME:CEST
DTSTART:20260329T010000
END:DAYLIGHT
BEGIN:STANDARD
TZOFFSETFROM:+0200
TZOFFSETTO:+0100
TZNAME:CET
DTSTART:20261025T010000
END:STANDARD
END:VTIMEZONE
BEGIN:VEVENT
DTSTART;TZID=Europe/Zurich:20251201T180000
DTEND;TZID=Europe/Zurich:20251201T220000
DTSTAMP:20260422T160331
CREATED:20250416T135515Z
LAST-MODIFIED:20250416T135515Z
UID:4202-1764612000-1764626400@www.saxophonist-live.ch
SUMMARY:10 Jahre MagicMonday – Mister Saxr spielt zum Jubiläum zugunsten der Stiftung Wunderlampe
DESCRIPTION:Der MagicMonday feiert in diesem Jahr sein 10-jähriges Jubiläum – und Mister Saxr ist mit dabei. Am kommenden Abend wird er im stimmungsvollen Ambiente der Blumen Krämer AG in Zürich auftreten und die Gäste mit seinen live gespielten Saxophonklängen durch den Abend begleiten. Es ist ein besonderer Anlass zugunsten der Stiftung Wunderlampe\, die sich für die Herzenswünsche schwer kranker oder beeinträchtigter Kinder und Jugendlicher einsetzt. \nFür Mister Saxr ist der MagicMonday längst ein Herzensprojekt. Bereits zum 23. Mal steht er bei diesem Format auf der Bühne – und wie immer bringt er seine musikalische Klasse\, seine Erfahrung und seine Leidenschaft mit. Als musikalischer Gastgeber verleiht er dem Abend jene Atmosphäre\, die den MagicMonday so besonders macht: warm\, elegant\, emotional. \nIns Leben gerufen wurde der MagicMonday\, um nicht nur gut in die Woche zu starten\, sondern auch etwas Gutes zu tun. Gäste sind eingeladen\, sich musikalisch und kulinarisch verwöhnen zu lassen – und dabei eine Spende für einen wohltätigen Zweck zu leisten. Mister Saxr ist seit vielen Jahren Teil dieser Idee und hat in der Vergangenheit schon mit zahlreichen Musikerinnen und Musikern auf der Bühne gestanden. \nAuch beim Jubiläum bleibt es nicht bei einem Solo: Dieses Mal wird Mister Saxr musikalisch begleitet von der charismatischen Sängerin Bella C\, die mit ihrer ausdrucksstarken Stimme und eindrucksvollen Bühnenpräsenz den Abend mitgestalten wird. Ihre Stimme ist kraftvoll\, gefühlvoll und voller Tiefe – perfekt abgestimmt auf die warmen Saxophonklänge von Mister Saxr. Wenn die beiden gemeinsam auftreten\, entsteht ein musikalischer Dialog\, der das Publikum fesselt: Zwei Künstler\, zwei Klangwelten\, eine gemeinsame Sprache – Musik\, die berührt. \nDie Stiftung Wunderlampe verfolgt das Ziel\, Kindern mit schweren Krankheiten oder Beeinträchtigungen unvergessliche Momente zu schenken. Mister Saxr unterstützt diese Mission mit Überzeugung. Für ihn bedeutet jeder Auftritt an einem MagicMonday mehr als nur Musik – es ist ein Zeichen der Solidarität und ein Beitrag zu etwas\, das bleibt. \nUmgeben von der floralen Pracht und der inspirierenden Atmosphäre der Blumen Krämer AG verspricht dieser Abend wieder ein ganz besonderes Erlebnis zu werden – mit Musik\, Menschlichkeit und magischen Augenblicken. \nDer MagicMonday zum 10-jährigen Jubiläum ist mehr als ein musikalischer Abend – er ist ein Zeichen dafür\, wie viel Kraft in Gemeinschaft\, Engagement und echtem Herzblut steckt. Mister Saxr\, als musikalischer Gastgeber\, bringt mit seinem Saxophon jene emotionale Tiefe in den Abend\, die ihn so besonders macht. Gemeinsam mit Bella C.\, der Stiftung Wunderlampe und allen Gästen entsteht ein Erlebnis\, das berührt\, inspiriert und bleibt. \nEin Abend\, der nicht nur musikalisch bewegt – sondern auch Hoffnung schenkt.
URL:https://www.saxophonist-live.ch/saxofonist-blog/event/10-jahre-magicmonday-mister-saxr-spielt-zum-jubilaeum-zugunsten-der-stiftung-wunderlampe/
LOCATION:Blumen Krämer AG\, Talstrasse 62\, Zürich\, 8001
CATEGORIES:MisterSaxr Event
ATTACH;FMTTYPE=image/jpeg:https://www.saxophonist-live.ch/saxofonist-blog/wp-content/uploads/2025/04/mm_wula_rgb_01.12.2025-e1744811709827.jpg
END:VEVENT
BEGIN:VEVENT
DTSTART;TZID=Europe/Zurich:20251231T170000
DTEND;TZID=Europe/Zurich:20251231T220000
DTSTAMP:20260422T160331
CREATED:20250826T103301Z
LAST-MODIFIED:20250913T075324Z
UID:4279-1767200400-1767218400@www.saxophonist-live.ch
SUMMARY:Silvester-Dinner mit Duo Bella C & Mister Saxr in der Casa Veglia in Laax
DESCRIPTION:Ein stilvoller Jahreswechsel erwartet die Gäste der Casa Veglia in Laax\, wenn das Duo Bella C & Mister Saxr das musikalische Herzstück des Silvester-Dinners bildet. Inmitten verschneiter Hügellandschaften\, knisternder Kaminwärme und feiner Kulinarik entsteht ein Abend\, der weit mehr ist als ein Jahresabschluss – er ist ein Erlebnis für alle Sinne. \nMit Stimme und Saxophon schaffen Bella C und Mister Saxr den perfekten Rahmen für einen stimmungsvollen\, feierlichen Abend. Dabei trifft musikalische Leichtigkeit auf emotionale Tiefe – genau richtig für einen besonderen Moment zwischen Rückblick und Neubeginn. \nDie Casa Veglia ist kein gewöhnliches Bergrestaurant – sie ist ein Ort voller Charakter und Geschichte. Das Gebäude\, ein altes Bündner Haus mit charmantem Holzinterieur\, ist heute eine feste Grösse in der kulturellen Szene von Laax. Zahlreiche Musiker:innen sind hier im Laufe der Jahre aufgetreten\, manche sagen sogar\, Louis Armstrong habe einst hier gesungen – was dem Ort einen Hauch von Legende verleiht. \nDie Kombination aus historischem Ambiente\, familiärer Gastlichkeit und hochwertiger Küche macht die Casa Veglia zu einer Location\, in der Musik nicht nur gespielt\, sondern gefühlt wird. Genau das ist der ideale Rahmen für den gefühlvollen\, fein abgestimmten Klang des Duos Bella C & Mister Saxr. \nDie Surselva ist für Mister Saxr kein unbekanntes Terrain. In der Region rund um Laax\, Flims und Ilanz hat er bereits mehrfach gespielt – bei privaten Anlässen\, Firmenveranstaltungen oder kulturellen Highlights. Die Weite der Berge\, die Klarheit der Luft und die besondere Ruhe\, die der Winter hier ausstrahlt\, haben für ihn eine ganz eigene Bedeutung. \nFür Mister Saxr ist es ein Privileg\, genau hier aufzutreten. Er sagt selbst: „Diese Gegend hat eine Natürlichkeit und Kraft\, die tief berührt – und genau das will ich mit meiner Musik widerspiegeln.“ Seine Verbindung zur Surselva ist nicht nur geographisch – sie ist emotional. \nBella C begeistert mit ihrer klaren\, warmen Stimme\, ihrer charmanten Bühnenpräsenz und ihrer Fähigkeit\, jeden Song mit Leben zu füllen. Mister Saxr ergänzt sie mit seinem samtweichen Saxophonklang – mal fein und dezent\, mal präsent und mitreissend. Gemeinsam interpretieren sie gefühlvolle Balladen\, rhythmischen Bossa Nova und stilvolle Pop-Melodien – alles live\, alles echt. \nAm Silvesterabend in der Casa Veglia entsteht so ein Dialog aus Musik\, Raum und Emotion. Keine laute Show\, kein aufgesetzter Glamour – sondern echte Atmosphäre\, geschaffen von zwei Musiker:innen\, die ein feines Gespür für den Moment mitbringen. \nEin Silvester-Dinner mit Bella C & Mister Saxr in der Casa Veglia ist mehr als ein musikalisches Highlight – es ist eine Einladung\, das alte Jahr stilvoll abzuschliessen und das neue mit Leichtigkeit und Tiefe zu beginnen. \nFür alle\, die Musik nicht nur hören\, sondern spüren möchten. Inmitten der winterlichen Stille der Surselva\, in einem Haus voller Geschichte\, mit zwei Künstler:innen\, die ihre Musik leben.
URL:https://www.saxophonist-live.ch/saxofonist-blog/event/silvester-dinner-mit-duo-bella-c-mister-saxr-in-der-casa-veglia-in-laax/
LOCATION:Casa Veglia\, Talstation\, Laax\, 7032
CATEGORIES:MisterSaxr Event
ATTACH;FMTTYPE=image/jpeg:https://www.saxophonist-live.ch/saxofonist-blog/wp-content/uploads/2025/08/MisterSaxr_BellaC_2025_DaveBiedert-67.jpg
END:VEVENT
END:VCALENDAR