BEGIN:VCALENDAR
VERSION:2.0
PRODID:-//MisterSaxr.ch | saxophonist-LIVE.ch | Blog | Firmenanlass Hochzeiten Events Saxofonist Musiker Saxophonist Schweiz Z&uuml;rich - ECPv6.15.8//NONSGML v1.0//EN
CALSCALE:GREGORIAN
METHOD:PUBLISH
X-WR-CALNAME:MisterSaxr.ch | saxophonist-LIVE.ch | Blog | Firmenanlass Hochzeiten Events Saxofonist Musiker Saxophonist Schweiz Z&uuml;rich
X-ORIGINAL-URL:https://www.saxophonist-live.ch/saxofonist-blog
X-WR-CALDESC:Veranstaltungen für MisterSaxr.ch | saxophonist-LIVE.ch | Blog | Firmenanlass Hochzeiten Events Saxofonist Musiker Saxophonist Schweiz Z&uuml;rich
REFRESH-INTERVAL;VALUE=DURATION:PT1H
X-Robots-Tag:noindex
X-PUBLISHED-TTL:PT1H
BEGIN:VTIMEZONE
TZID:Europe/Zurich
BEGIN:DAYLIGHT
TZOFFSETFROM:+0100
TZOFFSETTO:+0200
TZNAME:CEST
DTSTART:20200329T010000
END:DAYLIGHT
BEGIN:STANDARD
TZOFFSETFROM:+0200
TZOFFSETTO:+0100
TZNAME:CET
DTSTART:20201025T010000
END:STANDARD
BEGIN:DAYLIGHT
TZOFFSETFROM:+0100
TZOFFSETTO:+0200
TZNAME:CEST
DTSTART:20210328T010000
END:DAYLIGHT
BEGIN:STANDARD
TZOFFSETFROM:+0200
TZOFFSETTO:+0100
TZNAME:CET
DTSTART:20211031T010000
END:STANDARD
BEGIN:DAYLIGHT
TZOFFSETFROM:+0100
TZOFFSETTO:+0200
TZNAME:CEST
DTSTART:20220327T010000
END:DAYLIGHT
BEGIN:STANDARD
TZOFFSETFROM:+0200
TZOFFSETTO:+0100
TZNAME:CET
DTSTART:20221030T010000
END:STANDARD
END:VTIMEZONE
BEGIN:VEVENT
DTSTART;TZID=Europe/Zurich:20210417T233000
DTEND;TZID=Europe/Zurich:20210418T020000
DTSTAMP:20260423T133310
CREATED:20190520T125518Z
LAST-MODIFIED:20210819T080853Z
UID:2182-1618702200-1618711200@www.saxophonist-live.ch
SUMMARY:Sechseläuten Ball im Aura
DESCRIPTION:Wegen der aktuellen Situation ist diese Veranstaltung nicht durchführbar. Sobald sich etwas ändert aktualisieren wir den Kalender. \nMister Saxr ist auch Zünfter von Zürich und zwar als ehemaliger Stubenmeister der hochwohllöblichen Zunft Hard. Die Zunft Hard ist die Quartierzunft Aussersihl der Trendkreise 4 und 5 in Zürich. Mister Saxr bezeichnet sich deshalb auch als das KLEINSTE ZUNFTSPIEL von Zürich. Viele Musikvereine engagieren sich als offizielle Zunftmusik und spielen vor allem am Zürcher Sechseläuten mit über 50 Mitgliedern ihre Musik. Mister Saxr ist zöiftig\, original-kostümiert im Handwerkerkostüm aus der Barockzeit und er spielt sein Tenorsaxophon (welches notabene erst viel später erfunden worden ist). Es ist eine grosse Ehre für den Zürcher Saxophonisten Mister Saxr\, dass er von der befreundeten Zunft Wiedikon eingeladen worden ist am Samstag des Sechseläuten-Wochenende an deren Ball im AURA in der alten Börse zu spielen. Am Abend spielt auch die bekannte Partyband Sheeee auf. Damit ist für beste Unterhaltung der Ballgäste gesorgt. Das Aura ist bereits ein Jahr vor dem Anlass praktisch ausverkauft. Alle Gäste erscheinen im historischen Zunftkostüm. Die Party kann steigen. Organisiert wird der Ball von Vorstehern der Zunft Wiedikon mit Stubenmeister Reto Henger an der Spitze. Mister Saxr wird sein bestes Repertoire im Gepäck haben. Freuen Sie sich auf die kleinste Zunftmusik von Zürich. Mister Saxr\, der live-Saxophonist für Ihre Gala und Ihren Ball.
URL:https://www.saxophonist-live.ch/saxofonist-blog/event/sechselaeuten-ball-im-aura/
LOCATION:AURA Group AG\, Bleicherweg 5\, Zürich\, Zürich\, 8001\, Schweiz
CATEGORIES:MisterSaxr Event
ATTACH;FMTTYPE=image/jpeg:https://www.saxophonist-live.ch/saxofonist-blog/wp-content/uploads/2019/05/Mistersaxr_Zunftkostüm_6.jpg
END:VEVENT
END:VCALENDAR