BEGIN:VCALENDAR
VERSION:2.0
PRODID:-//MisterSaxr.ch | saxophonist-LIVE.ch | Blog | Firmenanlass Hochzeiten Events Saxofonist Musiker Saxophonist Schweiz Z&uuml;rich - ECPv6.15.8//NONSGML v1.0//EN
CALSCALE:GREGORIAN
METHOD:PUBLISH
X-ORIGINAL-URL:https://www.saxophonist-live.ch/saxofonist-blog
X-WR-CALDESC:Veranstaltungen für MisterSaxr.ch | saxophonist-LIVE.ch | Blog | Firmenanlass Hochzeiten Events Saxofonist Musiker Saxophonist Schweiz Z&uuml;rich
REFRESH-INTERVAL;VALUE=DURATION:PT1H
X-Robots-Tag:noindex
X-PUBLISHED-TTL:PT1H
BEGIN:VTIMEZONE
TZID:Europe/Zurich
BEGIN:DAYLIGHT
TZOFFSETFROM:+0100
TZOFFSETTO:+0200
TZNAME:CEST
DTSTART:20160327T010000
END:DAYLIGHT
BEGIN:STANDARD
TZOFFSETFROM:+0200
TZOFFSETTO:+0100
TZNAME:CET
DTSTART:20161030T010000
END:STANDARD
BEGIN:DAYLIGHT
TZOFFSETFROM:+0100
TZOFFSETTO:+0200
TZNAME:CEST
DTSTART:20170326T010000
END:DAYLIGHT
BEGIN:STANDARD
TZOFFSETFROM:+0200
TZOFFSETTO:+0100
TZNAME:CET
DTSTART:20171029T010000
END:STANDARD
BEGIN:DAYLIGHT
TZOFFSETFROM:+0100
TZOFFSETTO:+0200
TZNAME:CEST
DTSTART:20180325T010000
END:DAYLIGHT
BEGIN:STANDARD
TZOFFSETFROM:+0200
TZOFFSETTO:+0100
TZNAME:CET
DTSTART:20181028T010000
END:STANDARD
END:VTIMEZONE
BEGIN:VEVENT
DTSTART;TZID=Europe/Zurich:20170819T170000
DTEND;TZID=Europe/Zurich:20170819T190000
DTSTAMP:20260426T021650
CREATED:20170821T093545Z
LAST-MODIFIED:20170821T093737Z
UID:1527-1503162000-1503169200@www.saxophonist-live.ch
SUMMARY:Privatanlass Niederlenz
DESCRIPTION:Privates Geburtstagsfest in Niederlenz
URL:https://www.saxophonist-live.ch/saxofonist-blog/event/privatanlass-niederlenz/
LOCATION:Alterszentrum Niederlenz\, Hungeligrabenstrasse 11\, Niederlenz\, 5702\, Schweiz
END:VEVENT
END:VCALENDAR