BEGIN:VCALENDAR
VERSION:2.0
PRODID:-//MisterSaxr.ch | saxophonist-LIVE.ch | Blog | Firmenanlass Hochzeiten Events Saxofonist Musiker Saxophonist Schweiz Z&uuml;rich - ECPv6.15.8//NONSGML v1.0//EN
CALSCALE:GREGORIAN
METHOD:PUBLISH
X-ORIGINAL-URL:https://www.saxophonist-live.ch/saxofonist-blog
X-WR-CALDESC:Veranstaltungen für MisterSaxr.ch | saxophonist-LIVE.ch | Blog | Firmenanlass Hochzeiten Events Saxofonist Musiker Saxophonist Schweiz Z&uuml;rich
REFRESH-INTERVAL;VALUE=DURATION:PT1H
X-Robots-Tag:noindex
X-PUBLISHED-TTL:PT1H
BEGIN:VTIMEZONE
TZID:Europe/Zurich
BEGIN:DAYLIGHT
TZOFFSETFROM:+0100
TZOFFSETTO:+0200
TZNAME:CEST
DTSTART:20240331T010000
END:DAYLIGHT
BEGIN:STANDARD
TZOFFSETFROM:+0200
TZOFFSETTO:+0100
TZNAME:CET
DTSTART:20241027T010000
END:STANDARD
BEGIN:DAYLIGHT
TZOFFSETFROM:+0100
TZOFFSETTO:+0200
TZNAME:CEST
DTSTART:20250330T010000
END:DAYLIGHT
BEGIN:STANDARD
TZOFFSETFROM:+0200
TZOFFSETTO:+0100
TZNAME:CET
DTSTART:20251026T010000
END:STANDARD
BEGIN:DAYLIGHT
TZOFFSETFROM:+0100
TZOFFSETTO:+0200
TZNAME:CEST
DTSTART:20260329T010000
END:DAYLIGHT
BEGIN:STANDARD
TZOFFSETFROM:+0200
TZOFFSETTO:+0100
TZNAME:CET
DTSTART:20261025T010000
END:STANDARD
END:VTIMEZONE
BEGIN:VEVENT
DTSTART;TZID=Europe/Zurich:20251207T130000
DTEND;TZID=Europe/Zurich:20251207T150000
DTSTAMP:20260422T132553
CREATED:20250324T121140Z
LAST-MODIFIED:20250324T121140Z
UID:4160-1765112400-1765119600@www.saxophonist-live.ch
SUMMARY:Mister Saxr verzaubert als Samichlaus den Winterthurer Weihnachtsmarkt
DESCRIPTION:Mister Saxr ist dieses Jahr als Samichlaus auf dem Winterthurer Weihnachtsmarkt unterwegs und sorgt mit seinem Saxophon für eine einzigartige festliche Atmosphäre. Wenn die Tage kürzer werden und der Duft von gebrannten Mandeln\, Glühwein und Tannennadeln in der Luft liegt\, ist es wieder soweit: Der Winterthurer Weihnachtsmarkt öffnet seine Tore. Dieser traditionelle Markt\, der zu den schönsten der Schweiz zählt\, verwandelt die Altstadt in eine festliche Winterwunderwelt. Zwischen liebevoll dekorierten Ständen\, funkelnden Lichterketten und wärmenden Feuerstellen gibt es jedes Jahr ein Highlight\, das besonders für magische Momente sorgt – Mister Saxr als Samichlaus. \nDer Weihnachtsmarkt in Winterthur ist weit über die Stadtgrenzen hinaus bekannt. Mit seinen zahlreichen Ständen bietet er alles\, was das Herz in der Adventszeit begehrt: handgemachte Geschenke\, kulinarische Spezialitäten und traditionelle Weihnachtsdekoration. Doch was diesen Markt besonders macht\, ist seine warme und herzliche Atmosphäre. Genau hier setzt Mister Saxr an. Mit seinem Saxophonspiel bringt er nicht nur musikalische Highlights\, sondern auch eine Extraportion Weihnachtszauber auf den Markt. Als Samichlaus zieht er durch die Gassen\, begeistert Gross und Klein und lässt die Besucher in eine festliche Welt eintauchen. \nDer Samichlaus ist eine der beliebtesten Figuren der Weihnachtszeit in der Schweiz. Er steht für Grosszügigkeit\, Freude und die Magie des Schenkens. Kinder tragen ihm Gedichte vor\, erhalten kleine Gaben und hören gespannt seinen Worten zu. In Kombination mit der Musik von Mister Saxr wird dieser Brauch zu einem einzigartigen Erlebnis. Sein Saxophonspiel verleiht der Tradition eine besondere Note und schafft eine Atmosphäre\, die berührt und verzaubert. \nWeihnachten ist das Fest der Liebe und der Besinnlichkeit. Was könnte besser dazu passen als sanfte Saxophonklänge\, die durch die festlich beleuchteten Gassen von Winterthur schweben? Mister Saxr versteht es\, genau diese Stimmung einzufangen und die Herzen der Besucher zu erreichen. Sein Repertoire reicht von klassischen Weihnachtsliedern bis hin zu modernen Interpretationen\, die perfekt zur festlichen Kulisse des Marktes passen. Ob jung oder alt – jeder bleibt stehen\, lauscht und lässt sich von der Musik mitreissen. \nDer Winterthurer Weihnachtsmarkt wäre ohne Mister Saxr als Samichlaus nicht dasselbe. Er verbindet Musik und Tradition auf eine einzigartige Weise und schafft damit unvergessliche Momente für alle Besucher. Wer ihn live erleben möchte\, sollte sich dieses besondere Highlight nicht entgehen lassen. Also\, warm anziehen\, einen heissen Punsch holen und sich von den Klängen des Saxophons verzaubern lassen – Weihnachten in Winterthur war noch nie so schön!
URL:https://www.saxophonist-live.ch/saxofonist-blog/event/mister-saxr-verzaubert-als-samichlaus-den-winterthurer-weihnachtsmarkt/
LOCATION:Weihnachtsmarkt Winterthur\, Neumarkt 1\, Winterthur\, 8400\, Schweiz
CATEGORIES:MisterSaxr Event
ATTACH;FMTTYPE=image/jpeg:https://www.saxophonist-live.ch/saxofonist-blog/wp-content/uploads/2024/05/Mister-Saxr_Samichlaus_Weinachtsmarkt.jpg
END:VEVENT
END:VCALENDAR