BEGIN:VCALENDAR
VERSION:2.0
PRODID:-//MisterSaxr.ch | saxophonist-LIVE.ch | Blog | Firmenanlass Hochzeiten Events Saxofonist Musiker Saxophonist Schweiz Z&uuml;rich - ECPv6.15.8//NONSGML v1.0//EN
CALSCALE:GREGORIAN
METHOD:PUBLISH
X-WR-CALNAME:MisterSaxr.ch | saxophonist-LIVE.ch | Blog | Firmenanlass Hochzeiten Events Saxofonist Musiker Saxophonist Schweiz Z&uuml;rich
X-ORIGINAL-URL:https://www.saxophonist-live.ch/saxofonist-blog
X-WR-CALDESC:Veranstaltungen für MisterSaxr.ch | saxophonist-LIVE.ch | Blog | Firmenanlass Hochzeiten Events Saxofonist Musiker Saxophonist Schweiz Z&uuml;rich
REFRESH-INTERVAL;VALUE=DURATION:PT1H
X-Robots-Tag:noindex
X-PUBLISHED-TTL:PT1H
BEGIN:VTIMEZONE
TZID:Europe/Zurich
BEGIN:DAYLIGHT
TZOFFSETFROM:+0100
TZOFFSETTO:+0200
TZNAME:CEST
DTSTART:20170326T010000
END:DAYLIGHT
BEGIN:STANDARD
TZOFFSETFROM:+0200
TZOFFSETTO:+0100
TZNAME:CET
DTSTART:20171029T010000
END:STANDARD
BEGIN:DAYLIGHT
TZOFFSETFROM:+0100
TZOFFSETTO:+0200
TZNAME:CEST
DTSTART:20180325T010000
END:DAYLIGHT
BEGIN:STANDARD
TZOFFSETFROM:+0200
TZOFFSETTO:+0100
TZNAME:CET
DTSTART:20181028T010000
END:STANDARD
BEGIN:DAYLIGHT
TZOFFSETFROM:+0100
TZOFFSETTO:+0200
TZNAME:CEST
DTSTART:20190331T010000
END:DAYLIGHT
BEGIN:STANDARD
TZOFFSETFROM:+0200
TZOFFSETTO:+0100
TZNAME:CET
DTSTART:20191027T010000
END:STANDARD
END:VTIMEZONE
BEGIN:VEVENT
DTSTART;TZID=Europe/Zurich:20180301T183000
DTEND;TZID=Europe/Zurich:20180301T220000
DTSTAMP:20260425T175553
CREATED:20180124T090837Z
LAST-MODIFIED:20180206T155025Z
UID:1666-1519929000-1519941600@www.saxophonist-live.ch
SUMMARY:PKZ Women Zürich mit Nyssina
DESCRIPTION:PKZ WOMEN spricht mit seiner femininen Mode die erwachsene\, selbstbewusste Frau an.\nDenn bei uns machen Frauen dauernd überraschende Entdeckungen. Was bringen die internationalen Designermarken an Neuheiten? Was sind auf den Laufstegen von Paris\, Mailand\, London und New York die neusten Trends? Die Modehäuser von PKZ WOMEN sind Quellen der Inspiration und bringen die neusten Looks in den Business-Alltag\, in die Freizeit\, an die Party. Und natürlich auch an den gehobenen\, formellen Anlass.\nDer Flagship-Store an der Zürcher Bahnhofstrasse ist das grösste Schweizer Modehaus überhaupt und repräsentiert den modischen Anspruch einer Marke\, die 10fach in der ganzen Schweiz vertreten ist. \nQuelle: www.pkz.ch \n 
URL:https://www.saxophonist-live.ch/saxofonist-blog/event/pkz-women-zuerich/
LOCATION:PKZ Woman Zürich\, Bahnhofstrasse 88\, Zürich\, Zürich\, 8001\, Schweiz
ATTACH;FMTTYPE=image/jpeg:https://www.saxophonist-live.ch/saxofonist-blog/wp-content/uploads/2018/01/Saxophonist.jpg
END:VEVENT
END:VCALENDAR