BEGIN:VCALENDAR
VERSION:2.0
PRODID:-//MisterSaxr.ch | saxophonist-LIVE.ch | Blog | Firmenanlass Hochzeiten Events Saxofonist Musiker Saxophonist Schweiz Z&uuml;rich - ECPv6.15.8//NONSGML v1.0//EN
CALSCALE:GREGORIAN
METHOD:PUBLISH
X-WR-CALNAME:MisterSaxr.ch | saxophonist-LIVE.ch | Blog | Firmenanlass Hochzeiten Events Saxofonist Musiker Saxophonist Schweiz Z&uuml;rich
X-ORIGINAL-URL:https://www.saxophonist-live.ch/saxofonist-blog
X-WR-CALDESC:Veranstaltungen für MisterSaxr.ch | saxophonist-LIVE.ch | Blog | Firmenanlass Hochzeiten Events Saxofonist Musiker Saxophonist Schweiz Z&uuml;rich
REFRESH-INTERVAL;VALUE=DURATION:PT1H
X-Robots-Tag:noindex
X-PUBLISHED-TTL:PT1H
BEGIN:VTIMEZONE
TZID:Europe/Zurich
BEGIN:DAYLIGHT
TZOFFSETFROM:+0100
TZOFFSETTO:+0200
TZNAME:CEST
DTSTART:20160327T010000
END:DAYLIGHT
BEGIN:STANDARD
TZOFFSETFROM:+0200
TZOFFSETTO:+0100
TZNAME:CET
DTSTART:20161030T010000
END:STANDARD
BEGIN:DAYLIGHT
TZOFFSETFROM:+0100
TZOFFSETTO:+0200
TZNAME:CEST
DTSTART:20170326T010000
END:DAYLIGHT
BEGIN:STANDARD
TZOFFSETFROM:+0200
TZOFFSETTO:+0100
TZNAME:CET
DTSTART:20171029T010000
END:STANDARD
BEGIN:DAYLIGHT
TZOFFSETFROM:+0100
TZOFFSETTO:+0200
TZNAME:CEST
DTSTART:20180325T010000
END:DAYLIGHT
BEGIN:STANDARD
TZOFFSETFROM:+0200
TZOFFSETTO:+0100
TZNAME:CET
DTSTART:20181028T010000
END:STANDARD
END:VTIMEZONE
BEGIN:VEVENT
DTSTART;TZID=Europe/Zurich:20171025T080000
DTEND;TZID=Europe/Zurich:20171025T170000
DTSTAMP:20260425T212832
CREATED:20171025T212829Z
LAST-MODIFIED:20171025T212829Z
UID:1607-1508918400-1508950800@www.saxophonist-live.ch
SUMMARY:Mister Saxr in der Samsung Hall
DESCRIPTION:Mister Saxr bespielt wieder einmal die neue Samsung Hall in Zürich. In der Halle in der schon Grössen wie Sting oder John Legend aufgetreten sind findet ein Team-Anlass der Zweifel Pomy Chips statt. Mister Saxr spielt gleich zweimal an diesem Tag für die Gäste. Smooth-Jazz\, Pop-Balladen\, Funk und die absoluten Saxofonklassiker wird Mister Saxr den vortragen. \n  \n \nDie Samsung Hall bietet Raum für verschiedene Veranstaltungsformate bis hin zu 5’000 Personen. Die Kapazität\, die optimale Erreichbarkeit\, das multifunktionale Raumangebot und die attraktive Architektur machen die Einzigartigkeit der Samsung Hall aus. \nQuelle: samsunghall.ch \n 
URL:https://www.saxophonist-live.ch/saxofonist-blog/event/1607/
ATTACH;FMTTYPE=image/jpeg:https://www.saxophonist-live.ch/saxofonist-blog/wp-content/uploads/2017/05/MISTERSAXR_Saxophonist_Zürich_Saxsound_Saxofon_Haug72dpi.jpg
END:VEVENT
END:VCALENDAR