BEGIN:VCALENDAR
VERSION:2.0
PRODID:-//MisterSaxr.ch | saxophonist-LIVE.ch | Blog | Firmenanlass Hochzeiten Events Saxofonist Musiker Saxophonist Schweiz Z&uuml;rich - ECPv6.15.8//NONSGML v1.0//EN
CALSCALE:GREGORIAN
METHOD:PUBLISH
X-ORIGINAL-URL:https://www.saxophonist-live.ch/saxofonist-blog
X-WR-CALDESC:Veranstaltungen für MisterSaxr.ch | saxophonist-LIVE.ch | Blog | Firmenanlass Hochzeiten Events Saxofonist Musiker Saxophonist Schweiz Z&uuml;rich
REFRESH-INTERVAL;VALUE=DURATION:PT1H
X-Robots-Tag:noindex
X-PUBLISHED-TTL:PT1H
BEGIN:VTIMEZONE
TZID:Europe/Zurich
BEGIN:DAYLIGHT
TZOFFSETFROM:+0100
TZOFFSETTO:+0200
TZNAME:CEST
DTSTART:20230326T010000
END:DAYLIGHT
BEGIN:STANDARD
TZOFFSETFROM:+0200
TZOFFSETTO:+0100
TZNAME:CET
DTSTART:20231029T010000
END:STANDARD
BEGIN:DAYLIGHT
TZOFFSETFROM:+0100
TZOFFSETTO:+0200
TZNAME:CEST
DTSTART:20240331T010000
END:DAYLIGHT
BEGIN:STANDARD
TZOFFSETFROM:+0200
TZOFFSETTO:+0100
TZNAME:CET
DTSTART:20241027T010000
END:STANDARD
BEGIN:DAYLIGHT
TZOFFSETFROM:+0100
TZOFFSETTO:+0200
TZNAME:CEST
DTSTART:20250330T010000
END:DAYLIGHT
BEGIN:STANDARD
TZOFFSETFROM:+0200
TZOFFSETTO:+0100
TZNAME:CET
DTSTART:20251026T010000
END:STANDARD
END:VTIMEZONE
BEGIN:VEVENT
DTSTART;TZID=Europe/Zurich:20240607T180000
DTEND;TZID=Europe/Zurich:20240607T230000
DTSTAMP:20260423T122914
CREATED:20240506T144018Z
LAST-MODIFIED:20240506T144018Z
UID:3824-1717783200-1717801200@www.saxophonist-live.ch
SUMMARY:Sommerparty in der QN-Bar: Die Live-Band für grosse Emotionen
DESCRIPTION:Am 7. Juni 2024 steigt im Garten der QN-Bar (QN World) in Effretikon die Sommerparty des Monates. Mit dabei ist die Live-Band rund um die Sängerin Gery Ninaus\, dem Pianisten Gino Todesco und dem Saxophonisten Mister Saxr. Mit der pulsierenden Energie dieser Party- und auch Smooth-Jazzband wird der Garten so richtig angeheizt und das Publikum wird von den mitreissenden Klängen der Live-Band begeistert sein. Die traumhafte Location QN befindet gleich bei der Autobahnausfahrt Effretikon zwischen Zürich und Winterthur. Der Abend ist öffentlich und es kostet keinen Eintritt. \nMister Saxr\, ein Name\, der für Leidenschaft und Virtuosität steht\, wird seine Saxophonklänge mit einer Leichtigkeit durch den Raum tanzen lassen\, die die Herzen der Zuhörer zum Schmelzen bringen wird. Sein Spiel ist nicht nur eine Darbietung von Musik\, sondern eine emotionale Reise\, die jeden in seinen Bann zieht. \nOb im Hintergrund\, als Show-Act – Ob als Tanz- oder Dinnermusik: Gery\, Gino und Roni sind die perfekten musikalischen Gastgeber. Mit dem Trio können sich Ihre Kunden auf drei Künstler freuen\, die schon jeder für sich alleine eine Sensation sind. Zusammen aber wird es wirklich einzigartig. Evergreens\, Swing\, Bossa Nova\, Jazzstandards\, Pop- und Soul-Klassiker – von Frank Sinatra und Ella Fitzgerald über klassische Stücke bis hin zu Abba und Cindy Lauper. Die Coversongs werden dabei immer auch in ganz eigenen Varianten vorgetragen. \nGery Ninaus\, Gino Todesco und Mister Saxr bringen zusammen die Erfahrung von über 4’500 Engagements mit auf die grosse und die kleine Bühne. Die drei Vollblutmusiker haben dieses untrügliche Gespür\, was ein Anlass braucht und verträgt. Ob Firmenfeier\, Apéromusik\, Hochzeit\, Geburtstagsfeier\, PR-Event\, Produktpräsentationen\, ja sogar Trauerfeiern. Das Trio zeigt sich bei jedem Anlass von einer anderen Seite. Eines aber ist immer gleich: Das zufriedene Gefühl des Publikums und ihres Gastgebers\, unvergessliche Momente und Emotionen pur erlebt zu haben\, die noch lange nachhallen. \nZusammen werden Mister Saxr\, Gery Ninaus und Gino Todesco eine unvergessliche Performance bieten\, die die Grenzen zwischen Künstler und Publikum verschwimmen lässt und alle in einen gemeinsamen Rausch aus Musik und Freude versetzt. Die Sommerparty in der QN-Bar wird zu einem Höhepunkt des Jahres\, an den sich die Gäste noch lange erinnern werden. Die QN-Bar in Effretikon ist ein pulsierender Treffpunkt in QN World\, der für seine einzigartige Atmosphäre und sein lebendiges Unterhaltungsangebot bekannt ist. Gelegen am Stadtrand von Effretikon\, bietet die Bar eine Oase der Entspannung und Gemütlichkeit aber auch des Vergnügens für Besucherinnen und Besucher gleichermassen. Gery Ninaus gehört zum festen Erfolgswert der Bar und sie hat dort schon Dutzende Partyauftritte absolviert. \nDas Innendesign der QN-Bar vereint modernen Chic mit einem Hauch von Extravaganz\, wodurch eine Atmosphäre geschaffen wird\, die sowohl glamourös als auch einladend ist. Die eleganten Möbel\, die stimmungsvolle Beleuchtung und die künstlerischen Akzente schaffen eine Kulisse\, die perfekt für eine Nacht voller Spaß und Unterhaltung geeignet ist. \nMit einer breiten Auswahl an erlesenen Getränken\, von exquisiten Cocktails bis hin zu erlesenen Weinen und Spirituosen\, bietet die QN-Bar eine erstklassige Auswahl für jeden Geschmack. Das engagierte Barpersonal ist bekannt für seine Fachkenntnisse und seinen freundlichen Service\, was den Gästen ein unvergessliches Erlebnis garantiert. \nDarüber hinaus ist die QN-Bar ein Hotspot für Live-Unterhaltung\, mit regelmässigen Auftritten von lokalen und internationalen Künstlern. Von Live-Bands über DJ-Sets bis hin zu speziellen Events wie der Sommerparty mit Mister Saxr\, Gery Ninaus und Gino Todesco bietet die Bar ein vielfältiges Programm\, das die Gäste zum Tanzen und Feiern bringt. \nInsgesamt ist die QN-Bar in Effretikon nicht nur ein Ort zum Trinken und Feiern\, sondern ein Ort\, an dem Erlebnisse geschaffen und Erinnerungen gemacht werden. Mit ihrem einzigartigen Charme und ihrem dynamischen Unterhaltungsangebot ist sie zweifellos ein Muss für alle\, die das Nachtleben in QN World erleben möchten.
URL:https://www.saxophonist-live.ch/saxofonist-blog/event/sommerparty-in-der-qn-bar-die-live-band-fuer-grosse-emotionen/
LOCATION:QN World\, Rikonerstrasse 52\, Effretikon\, ZN\, 8307\, Schweiz
CATEGORIES:MisterSaxr Event
ATTACH;FMTTYPE=image/jpeg:https://www.saxophonist-live.ch/saxofonist-blog/wp-content/uploads/2024/05/magicMonday_37.jpg
END:VEVENT
END:VCALENDAR