BEGIN:VCALENDAR
VERSION:2.0
PRODID:-//MisterSaxr.ch | saxophonist-LIVE.ch | Blog | Firmenanlass Hochzeiten Events Saxofonist Musiker Saxophonist Schweiz Z&uuml;rich - ECPv6.15.8//NONSGML v1.0//EN
CALSCALE:GREGORIAN
METHOD:PUBLISH
X-WR-CALNAME:MisterSaxr.ch | saxophonist-LIVE.ch | Blog | Firmenanlass Hochzeiten Events Saxofonist Musiker Saxophonist Schweiz Z&uuml;rich
X-ORIGINAL-URL:https://www.saxophonist-live.ch/saxofonist-blog
X-WR-CALDESC:Veranstaltungen für MisterSaxr.ch | saxophonist-LIVE.ch | Blog | Firmenanlass Hochzeiten Events Saxofonist Musiker Saxophonist Schweiz Z&uuml;rich
REFRESH-INTERVAL;VALUE=DURATION:PT1H
X-Robots-Tag:noindex
X-PUBLISHED-TTL:PT1H
BEGIN:VTIMEZONE
TZID:Europe/Zurich
BEGIN:DAYLIGHT
TZOFFSETFROM:+0100
TZOFFSETTO:+0200
TZNAME:CEST
DTSTART:20240331T010000
END:DAYLIGHT
BEGIN:STANDARD
TZOFFSETFROM:+0200
TZOFFSETTO:+0100
TZNAME:CET
DTSTART:20241027T010000
END:STANDARD
BEGIN:DAYLIGHT
TZOFFSETFROM:+0100
TZOFFSETTO:+0200
TZNAME:CEST
DTSTART:20250330T010000
END:DAYLIGHT
BEGIN:STANDARD
TZOFFSETFROM:+0200
TZOFFSETTO:+0100
TZNAME:CET
DTSTART:20251026T010000
END:STANDARD
BEGIN:DAYLIGHT
TZOFFSETFROM:+0100
TZOFFSETTO:+0200
TZNAME:CEST
DTSTART:20260329T010000
END:DAYLIGHT
BEGIN:STANDARD
TZOFFSETFROM:+0200
TZOFFSETTO:+0100
TZNAME:CET
DTSTART:20261025T010000
END:STANDARD
END:VTIMEZONE
BEGIN:VEVENT
DTSTART;TZID=Europe/Zurich:20250613T180000
DTEND;TZID=Europe/Zurich:20250613T230000
DTSTAMP:20260422T195140
CREATED:20250313T135159Z
LAST-MODIFIED:20250415T093328Z
UID:4151-1749837600-1749855600@www.saxophonist-live.ch
SUMMARY:Mister Saxr live in der QN Bar – Ein musikalisches Highlight
DESCRIPTION:Die QN Bar in Effretikon wird zur Bühne für ein aussergewöhnliches musikalisches Erlebnis. Mister Saxr\, der talentierte Saxophonist aus Winterthur\, tritt gemeinsam mit der charismatischen Sängerin Gery Ninaus und dem virtuosen Pianisten Gino Todesco auf und sorgt für eine unvergleichliche Live-Performance. Mit ihrer einzigartigen Mischung aus Party-Vibes und Smooth-Jazz-Klängen begeistern sie das Publikum und verwandeln die QN Bar in eine musikalische Oase. \n\n\nDie QN Bar\, ein lebendiger Treffpunkt zwischen Zürich und Winterthur\, bietet die perfekte Kulisse für dieses mitreissende Event. Die warme Atmosphäre\, das stilvolle Ambiente und die Klänge von Mister Saxr\, Gery Ninaus und Gino Todesco machen den Abend zu einem besonderen Erlebnis. Ob tanzbare Beats oder entspannte Loungemusik – das Trio versteht es\, die Stimmung des Publikums aufzugreifen und für unvergessliche Momente zu sorgen. \n\n\nMit seinem gefühlvollen Saxophonspiel wird Mister Saxr die Herzen der Zuhörer berühren. Seine Musik ist weit mehr als eine Darbietung – sie ist eine Reise durch Klangwelten\, die Emotionen weckt und das Publikum in ihren Bann zieht. Ob sanfte Balladen\, energiegeladene Improvisationen oder mitreissende Rhythmen – Mister Saxr bringt eine Dynamik auf die Bühne\, die seinesgleichen sucht. \n\n\nOb als Hintergrundmusik\, als mitreissender Show-Act oder als stimmungsvolle Tanzmusik – Gery\, Gino und Mister Saxr sind die perfekten musikalischen Gastgeber. Ihr vielseitiges Repertoire umfasst Evergreens\, Swing\, Bossa Nova\, Jazzstandards\, Pop- und Soul-Klassiker – von Frank Sinatra und Ella Fitzgerald über Abba bis hin zu Cyndi Lauper. Dabei interpretieren sie die bekannten Songs auf ihre ganz eigene Weise und verleihen ihnen eine besondere Note. \n\n\nMit über 4’500 Engagements auf verschiedensten Bühnen bringen die drei Vollblutmusiker ein unglaubliches Gespür für Events mit. Egal ob Firmenfeier\, Apéro\, Hochzeit oder Geburtstagsfeier – Mister Saxr\, Gery Ninaus und Gino Todesco wissen genau\, welche Musik für welchen Moment passt. Ihre Musik schafft Gänsehautmomente und sorgt dafür\, dass der Abend lange in Erinnerung bleibt. \n\n\nDie QN Bar in Effretikon ist bekannt für ihre besondere Mischung aus stilvoller Eleganz und pulsierender Atmosphäre. Das moderne DesiQN\, die warme Beleuchtung und die künstlerischen Akzente machen sie zum perfekten Ort für ein Live-Event dieser Art. Mit einer breiten Auswahl an Cocktails\, erlesenen Weinen und hochwertigen Spirituosen sorgt die Bar für ein rundum gelungenes Erlebnis. Das engagierte Barpersonal trägt mit exzellentem Service dazu bei\, dass sich die Gäste rundum wohlfühlen. \n\n\nMit Mister Saxr\, Gery Ninaus und Gino Todesco wird die QN Bar am 13. Juni 2025 zum Schauplatz eines unvergesslichen Events. Wer sich auf eine musikalische Reise voller Emotionen\, Leidenschaft und Virtuosität begeben möchte\, sollte diesen Abend nicht verpassen.
URL:https://www.saxophonist-live.ch/saxofonist-blog/event/mister-saxr-live-in-der-qn-bar-ein-musikalisches-highlight/
LOCATION:QN Bar\, Rikonerstrasse 52\, Illnau-Effretikon\, 8307\, Schweiz
CATEGORIES:MisterSaxr Event
ATTACH;FMTTYPE=image/jpeg:https://www.saxophonist-live.ch/saxofonist-blog/wp-content/uploads/2024/05/magicMonday_37.jpg
END:VEVENT
END:VCALENDAR