BEGIN:VCALENDAR
VERSION:2.0
PRODID:-//MisterSaxr.ch | saxophonist-LIVE.ch | Blog | Firmenanlass Hochzeiten Events Saxofonist Musiker Saxophonist Schweiz Z&uuml;rich - ECPv6.15.8//NONSGML v1.0//EN
CALSCALE:GREGORIAN
METHOD:PUBLISH
X-ORIGINAL-URL:https://www.saxophonist-live.ch/saxofonist-blog
X-WR-CALDESC:Veranstaltungen für MisterSaxr.ch | saxophonist-LIVE.ch | Blog | Firmenanlass Hochzeiten Events Saxofonist Musiker Saxophonist Schweiz Z&uuml;rich
REFRESH-INTERVAL;VALUE=DURATION:PT1H
X-Robots-Tag:noindex
X-PUBLISHED-TTL:PT1H
BEGIN:VTIMEZONE
TZID:Europe/Zurich
BEGIN:DAYLIGHT
TZOFFSETFROM:+0100
TZOFFSETTO:+0200
TZNAME:CEST
DTSTART:20240331T010000
END:DAYLIGHT
BEGIN:STANDARD
TZOFFSETFROM:+0200
TZOFFSETTO:+0100
TZNAME:CET
DTSTART:20241027T010000
END:STANDARD
BEGIN:DAYLIGHT
TZOFFSETFROM:+0100
TZOFFSETTO:+0200
TZNAME:CEST
DTSTART:20250330T010000
END:DAYLIGHT
BEGIN:STANDARD
TZOFFSETFROM:+0200
TZOFFSETTO:+0100
TZNAME:CET
DTSTART:20251026T010000
END:STANDARD
BEGIN:DAYLIGHT
TZOFFSETFROM:+0100
TZOFFSETTO:+0200
TZNAME:CEST
DTSTART:20260329T010000
END:DAYLIGHT
BEGIN:STANDARD
TZOFFSETFROM:+0200
TZOFFSETTO:+0100
TZNAME:CET
DTSTART:20261025T010000
END:STANDARD
END:VTIMEZONE
BEGIN:VEVENT
DTSTART;TZID=Europe/Zurich:20250720T180000
DTEND;TZID=Europe/Zurich:20250720T193000
DTSTAMP:20260422T184133
CREATED:20250702T092558Z
LAST-MODIFIED:20250702T092558Z
UID:4244-1753034400-1753039800@www.saxophonist-live.ch
SUMMARY:Zürich von oben\, Musik ganz nah – Mister Saxr live im Restaurant Sonnenberg
DESCRIPTION:Wenn Zürich sich im goldenen Abendlicht zeigt und der Blick vom Zürichberg bis zu den Alpen reicht\, wird klar: Hier oben liegt einer der exklusivsten Orte der Stadt für besondere Anlässe. Bei einem Privatanlass im renommierten Restaurant Sonnenberg sorgt Mister Saxr mit seinem feinsinnigen Saxophonspiel für das musikalische Highlight des Abends. Als erfahrener Saxophonist versteht er es\, seine Musik nahtlos in die elegante Stimmung des Ortes einzubetten – dezent\, stilvoll und emotional. \nDer Zürichberg thront hoch über der Stadt und bietet nicht nur eine spektakuläre Aussicht\, sondern auch eine ganz eigene Atmosphäre: ruhiger\, grüner\, gehobener. Für Mister Saxr ist diese Kulisse ideal\, um seine Saxophon-Musik voll zur Geltung zu bringen. Seine warmen\, klaren Töne schweben über den Gartenanlagen und Terrassen\, fügen sich harmonisch in das Panorama ein und schaffen genau die Balance aus Eleganz und Zurückhaltung\, die ein gehobener Privatanlass erfordert. Ob beim Apéro im Freien oder als musikalische Begleitung zum Dinner – Mister Saxr bringt den Klang\, der zur Region passt: zurückhaltend edel\, aber voller Ausdruck. \nDas Restaurant Sonnenberg gehört zu den bekanntesten Adressen in Zürich\, wenn es um gehobene Gastronomie in bester Lage geht. Hoch oben am Hang gelegen\, kombiniert es einen atemberaubenden Blick auf Stadt und See mit einer raffinierten Küche und einem stilvollen Ambiente – der perfekte Rahmen für besondere Feiern im privaten Rahmen. \nMister Saxr versteht es\, diese Kulisse musikalisch zu interpretieren. Mit seinem Saxophon begleitet er den Abend nicht nur akustisch\, sondern verleiht ihm zusätzliche Tiefe. Seine Musik spricht die gleiche Sprache wie das Haus selbst: stilbewusst\, fein abgestimmt\, unaufdringlich – und stets präsent. \nWas den Abend im Restaurant Sonnenberg so besonders macht\, ist die gelungene Verbindung aus exklusiver Küche und atmosphärischer Saxophon-Musik. Während die Gäste feinste Gerichte geniessen\, unterstreicht Mister Saxr mit seinem Spiel die Emotionen des Moments. Ein leiser Ton zu einem leichten Gang\, eine gefühlvolle Melodie zur goldenen Stunde – alles ist im Fluss\, alles wirkt wie aus einem Guss. \nGerade bei einem Privatanlass\, bei dem jedes Detail zählt\, ist Mister Saxr der ideale musikalische Begleiter. Seine Fähigkeit\, sich auf Raum\, Menschen und Stimmung einzulassen\, macht ihn zu mehr als einem Saxophonisten – er wird zum Teil des Gesamterlebnisses. \nEin Abend mit Mister Saxr am Zürichberg ist mehr als Musik – es ist ein stimmungsvoller Beitrag zu einem rundum gelungenen Anlass. Im Zusammenspiel mit der Kulisse des Restaurants Sonnenberg\, der Stadt Zürich im Blick und einem Glas in der Hand wird seine Saxophon-Musik zum klangvollen Begleiter eines Abends\, den man nicht vergisst.
URL:https://www.saxophonist-live.ch/saxofonist-blog/event/zuerich-von-oben-musik-ganz-nah-mister-saxr-live-im-restaurant-sonnenberg/
LOCATION:Restaurant Sonnenberg\, Hitzigweg 15\, Zürich\, ZH\, 8032\, Schweiz
CATEGORIES:MisterSaxr Event
ATTACH;FMTTYPE=image/jpeg:https://www.saxophonist-live.ch/saxofonist-blog/wp-content/uploads/2022/07/Wedding_MisterSaxr_Saxophonist.jpg
END:VEVENT
END:VCALENDAR