BEGIN:VCALENDAR
VERSION:2.0
PRODID:-//MisterSaxr.ch | saxophonist-LIVE.ch | Blog | Firmenanlass Hochzeiten Events Saxofonist Musiker Saxophonist Schweiz Z&uuml;rich - ECPv6.15.8//NONSGML v1.0//EN
CALSCALE:GREGORIAN
METHOD:PUBLISH
X-WR-CALNAME:MisterSaxr.ch | saxophonist-LIVE.ch | Blog | Firmenanlass Hochzeiten Events Saxofonist Musiker Saxophonist Schweiz Z&uuml;rich
X-ORIGINAL-URL:https://www.saxophonist-live.ch/saxofonist-blog
X-WR-CALDESC:Veranstaltungen für MisterSaxr.ch | saxophonist-LIVE.ch | Blog | Firmenanlass Hochzeiten Events Saxofonist Musiker Saxophonist Schweiz Z&uuml;rich
REFRESH-INTERVAL;VALUE=DURATION:PT1H
X-Robots-Tag:noindex
X-PUBLISHED-TTL:PT1H
BEGIN:VTIMEZONE
TZID:Europe/Zurich
BEGIN:DAYLIGHT
TZOFFSETFROM:+0100
TZOFFSETTO:+0200
TZNAME:CEST
DTSTART:20210328T010000
END:DAYLIGHT
BEGIN:STANDARD
TZOFFSETFROM:+0200
TZOFFSETTO:+0100
TZNAME:CET
DTSTART:20211031T010000
END:STANDARD
BEGIN:DAYLIGHT
TZOFFSETFROM:+0100
TZOFFSETTO:+0200
TZNAME:CEST
DTSTART:20220327T010000
END:DAYLIGHT
BEGIN:STANDARD
TZOFFSETFROM:+0200
TZOFFSETTO:+0100
TZNAME:CET
DTSTART:20221030T010000
END:STANDARD
BEGIN:DAYLIGHT
TZOFFSETFROM:+0100
TZOFFSETTO:+0200
TZNAME:CEST
DTSTART:20230326T010000
END:DAYLIGHT
BEGIN:STANDARD
TZOFFSETFROM:+0200
TZOFFSETTO:+0100
TZNAME:CET
DTSTART:20231029T010000
END:STANDARD
END:VTIMEZONE
BEGIN:VEVENT
DTSTART;TZID=Europe/Zurich:20220731T180000
DTEND;TZID=Europe/Zurich:20220731T220000
DTSTAMP:20260422T220027
CREATED:20220711T122308Z
LAST-MODIFIED:20220713T121010Z
UID:3234-1659290400-1659304800@www.saxophonist-live.ch
SUMMARY:Mister Saxr spielt Live-Sax am Openair des Rocksresort in Laax
DESCRIPTION:Die Surselva gehört zu den schönsten Gegenden der Schweiz. Mister Saxr spielt oft und gerne in der Region Flims\, Laax und Falera. Zum wiederholten Male darf der Tenorsaxophonist seine schönen Melodien im Rocks Resort bei der Talstation von Laax-Murtschetg spielen. Die Tavolata ist eine Gaumenschmaus des Hotels Signina und verwöhnt die Gäste outdoor\, aber geschützt unter einem riesigen Festsegel. Zu den Köstlichkeiten\, der Gemütlichkeit des Ortes in den Bergen kommen also Melodien aus der ganzen Welt. Smooth-Jazz\, Lounge\, aber auch gängige Popsongs werden von Mister Saxr genauso leidenschaftlich vorgetragen\, wie die schönsten LoveSongs aller Zeiten. Kulinarik und Musik vom Feinsten.
URL:https://www.saxophonist-live.ch/saxofonist-blog/event/mister-saxr-spielt-live-sax-am-openair-des-rocksresort-in-laax/
LOCATION:Rocksresort\, Via Murschetg 17\, Laax\, 7032\, Schweiz
CATEGORIES:MisterSaxr Event
ATTACH;FMTTYPE=image/jpeg:https://www.saxophonist-live.ch/saxofonist-blog/wp-content/uploads/2022/07/Mister-Saxr_Laax_Rockresort_Saxophonist_Live.jpg
END:VEVENT
END:VCALENDAR