BEGIN:VCALENDAR
VERSION:2.0
PRODID:-//MisterSaxr.ch | saxophonist-LIVE.ch | Blog | Firmenanlass Hochzeiten Events Saxofonist Musiker Saxophonist Schweiz Z&uuml;rich - ECPv6.15.8//NONSGML v1.0//EN
CALSCALE:GREGORIAN
METHOD:PUBLISH
X-ORIGINAL-URL:https://www.saxophonist-live.ch/saxofonist-blog
X-WR-CALDESC:Veranstaltungen für MisterSaxr.ch | saxophonist-LIVE.ch | Blog | Firmenanlass Hochzeiten Events Saxofonist Musiker Saxophonist Schweiz Z&uuml;rich
REFRESH-INTERVAL;VALUE=DURATION:PT1H
X-Robots-Tag:noindex
X-PUBLISHED-TTL:PT1H
BEGIN:VTIMEZONE
TZID:Europe/Zurich
BEGIN:DAYLIGHT
TZOFFSETFROM:+0100
TZOFFSETTO:+0200
TZNAME:CEST
DTSTART:20160327T010000
END:DAYLIGHT
BEGIN:STANDARD
TZOFFSETFROM:+0200
TZOFFSETTO:+0100
TZNAME:CET
DTSTART:20161030T010000
END:STANDARD
BEGIN:DAYLIGHT
TZOFFSETFROM:+0100
TZOFFSETTO:+0200
TZNAME:CEST
DTSTART:20170326T010000
END:DAYLIGHT
BEGIN:STANDARD
TZOFFSETFROM:+0200
TZOFFSETTO:+0100
TZNAME:CET
DTSTART:20171029T010000
END:STANDARD
BEGIN:DAYLIGHT
TZOFFSETFROM:+0100
TZOFFSETTO:+0200
TZNAME:CEST
DTSTART:20180325T010000
END:DAYLIGHT
BEGIN:STANDARD
TZOFFSETFROM:+0200
TZOFFSETTO:+0100
TZNAME:CET
DTSTART:20181028T010000
END:STANDARD
END:VTIMEZONE
BEGIN:VEVENT
DTSTART;TZID=Europe/Zurich:20170619T170000
DTEND;TZID=Europe/Zurich:20170619T223000
DTSTAMP:20260426T055639
CREATED:20161208T110503Z
LAST-MODIFIED:20161208T110606Z
UID:1005-1497891600-1497911400@www.saxophonist-live.ch
SUMMARY:Firmenanlass JURA Elektroapparate AG
DESCRIPTION:Mister Saxr spielt LIVE an der internationalen Business Tagung der Firma JURA. \n \nÜber JURA \nKeeping Pace With Changing Times\nSeit 1931 entwickelt die Schweizer JURA Elektroapparate AG innovative Haushaltgeräte auf höchstem Niveau. \nAls Pionier hat JURA im Bereich Espresso-/Kaffeevollautomaten seit Mitte der 80er-Jahre einen fundierten Erfahrungsschatz aufgebaut und den Haushalt-Bereich maßgeblich mit aufgebaut und geprägt. Dieses Know-how fließt jetzt auch in die Entwicklung professioneller Geräte für den Office- und Foodservice-Bereich ein. Die Schweizer Traditionsmarke ist in den vergangenen Jahren zum Global Player erstarkt. Der Hauptsitz des Unternehmens liegt im schweizerischen Niederbuchsiten. In rund 50 Ländern weltweit ist JURA mit eigenen Vertriebsgesellschaften\, Joint Ventures oder Distributoren vertreten. \n\nJURA ist Sponsor von Roger Federer & CEO JURA Emanuel Probst\nDer mehrfache Schweizer Grand Slam Sieger und erfolgreichste Tennisspieler aller Zeiten repräsentiert JURA als Botschafter sowohl in der Schweiz wie auch international und trägt die gemeinsamen Werte in die Welt hinaus: Leistung\, Präzision\, Eleganz\, Prestige\, Passion für Exzellenz \nNiederbuchsiten\, 22. Oktober 2016 – Ausnahmezustand im ländlichen Niederbuchsiten (SO). Am Tag der offenen Tür der JURA Elektroapparate AG feierten über 7‘000 Besucherinnen und Besucher das zehnjährige Bestehen der JURAworld of Coffee und 10 Jahre Partnerschaft mit Roger Federer. \nDie spannende Erlebnisausstellung\, der erste und einzige Roger Federer Walk of Fame\, diverse Attraktionen rund um das Thema Kaffee\, ein grosser Wettbewerb sowie die Auftritte der drei regionalen Musikacts Martens Mundart-Band\, Collie Herb und Patrick von Castelberg\, lockten Jung und Alt ins 959 Seelen-Dorf am Jurasüdfuss. \nAls grandiosen Höhepunkt des Tages durfte das zum Teil extra aus Japan angereiste Publikum den Tennismaestro Roger Federer live auf der Bühne erleben. Frenetisch feierten die Massen den Tennis-Maestro. In einem sehr persönlichen Interview mit Tennisexperte Bernhard Schär erhielten die Besucher Einblick in das Leben des Weltstars auf und neben dem Tennisplatz: Karriere\, Familie und Zukunft. \nLocker und sichtlich entspannt widmete sich Federer der tobenden Menschenmenge\, die erfuhr\, dass Federers Hunger nach dem Welttennis noch längst nicht gestillt ist. JURA General Manager Emanuel Probst hob den Charakter des Superstars hervor: «Unsere Zusammenarbeit war von Anfang an auf Langfristigkeit ausgelegt. Roger Federer ist für uns der ideale Markenbotschafter. Keine andere Persönlichkeit verkörpert unsere Markenwerte besser und glaubwürdiger als er.» Eine Partnerschaft\, die passt – ein «Perfect Match» eben.
URL:https://www.saxophonist-live.ch/saxofonist-blog/event/firmenanlass-jura-elektroapparate-ag/
LOCATION:JURA Elektroapparate AG\, Kaffeeweltstrasse 10\, Niederbuchsiten\, Solothurn\, 4626\, Schweiz
CATEGORIES:MisterSaxr Event
END:VEVENT
END:VCALENDAR