BEGIN:VCALENDAR
VERSION:2.0
PRODID:-//MisterSaxr.ch | saxophonist-LIVE.ch | Blog | Firmenanlass Hochzeiten Events Saxofonist Musiker Saxophonist Schweiz Z&uuml;rich - ECPv6.15.8//NONSGML v1.0//EN
CALSCALE:GREGORIAN
METHOD:PUBLISH
X-WR-CALNAME:MisterSaxr.ch | saxophonist-LIVE.ch | Blog | Firmenanlass Hochzeiten Events Saxofonist Musiker Saxophonist Schweiz Z&uuml;rich
X-ORIGINAL-URL:https://www.saxophonist-live.ch/saxofonist-blog
X-WR-CALDESC:Veranstaltungen für MisterSaxr.ch | saxophonist-LIVE.ch | Blog | Firmenanlass Hochzeiten Events Saxofonist Musiker Saxophonist Schweiz Z&uuml;rich
REFRESH-INTERVAL;VALUE=DURATION:PT1H
X-Robots-Tag:noindex
X-PUBLISHED-TTL:PT1H
BEGIN:VTIMEZONE
TZID:Europe/Zurich
BEGIN:DAYLIGHT
TZOFFSETFROM:+0100
TZOFFSETTO:+0200
TZNAME:CEST
DTSTART:20170326T010000
END:DAYLIGHT
BEGIN:STANDARD
TZOFFSETFROM:+0200
TZOFFSETTO:+0100
TZNAME:CET
DTSTART:20171029T010000
END:STANDARD
BEGIN:DAYLIGHT
TZOFFSETFROM:+0100
TZOFFSETTO:+0200
TZNAME:CEST
DTSTART:20180325T010000
END:DAYLIGHT
BEGIN:STANDARD
TZOFFSETFROM:+0200
TZOFFSETTO:+0100
TZNAME:CET
DTSTART:20181028T010000
END:STANDARD
BEGIN:DAYLIGHT
TZOFFSETFROM:+0100
TZOFFSETTO:+0200
TZNAME:CEST
DTSTART:20190331T010000
END:DAYLIGHT
BEGIN:STANDARD
TZOFFSETFROM:+0200
TZOFFSETTO:+0100
TZNAME:CET
DTSTART:20191027T010000
END:STANDARD
END:VTIMEZONE
BEGIN:VEVENT
DTSTART;TZID=Europe/Zurich:20180902T110000
DTEND;TZID=Europe/Zurich:20180902T140000
DTSTAMP:20260425T134134
CREATED:20180815T092110Z
LAST-MODIFIED:20180815T092702Z
UID:1828-1535886000-1535896800@www.saxophonist-live.ch
SUMMARY:Mister Saxr on roof-Top in Zürich
DESCRIPTION:Ein exklusives\, privates Firmenjubiläum wird über den Dächern von Zürich im RoofTop-Restaurant gefeiert. Die Terrasse mit Aussicht auf eine der schönsten Städte der Welt bietet alles. Mit dabei ist Mister Saxr mit seinem Selmer Mark VI einer Saxofon-Rarität und vielen Songs aus den Sparten Bossa Nova\, Smooth Jazz\, Blues\, Pop\, Sentimental und viele mehr.
URL:https://www.saxophonist-live.ch/saxofonist-blog/event/mister-saxr-on-roof-top-in-zuerich/
LOCATION:Rooftop Restaurant\, Bahnhofstrasse 74\, Zürich\, 8001\, Schweiz
CATEGORIES:MisterSaxr Event
ATTACH;FMTTYPE=image/jpeg:https://www.saxophonist-live.ch/saxofonist-blog/wp-content/uploads/2018/08/Mister_Saxr_magicMonday_LiveSaxofon_Zürich_People_mittel.jpg
END:VEVENT
END:VCALENDAR