BEGIN:VCALENDAR
VERSION:2.0
PRODID:-//MisterSaxr.ch | saxophonist-LIVE.ch | Blog | Firmenanlass Hochzeiten Events Saxofonist Musiker Saxophonist Schweiz Z&uuml;rich - ECPv6.15.8//NONSGML v1.0//EN
CALSCALE:GREGORIAN
METHOD:PUBLISH
X-ORIGINAL-URL:https://www.saxophonist-live.ch/saxofonist-blog
X-WR-CALDESC:Veranstaltungen für MisterSaxr.ch | saxophonist-LIVE.ch | Blog | Firmenanlass Hochzeiten Events Saxofonist Musiker Saxophonist Schweiz Z&uuml;rich
REFRESH-INTERVAL;VALUE=DURATION:PT1H
X-Robots-Tag:noindex
X-PUBLISHED-TTL:PT1H
BEGIN:VTIMEZONE
TZID:Europe/Zurich
BEGIN:DAYLIGHT
TZOFFSETFROM:+0100
TZOFFSETTO:+0200
TZNAME:CEST
DTSTART:20230326T010000
END:DAYLIGHT
BEGIN:STANDARD
TZOFFSETFROM:+0200
TZOFFSETTO:+0100
TZNAME:CET
DTSTART:20231029T010000
END:STANDARD
BEGIN:DAYLIGHT
TZOFFSETFROM:+0100
TZOFFSETTO:+0200
TZNAME:CEST
DTSTART:20240331T010000
END:DAYLIGHT
BEGIN:STANDARD
TZOFFSETFROM:+0200
TZOFFSETTO:+0100
TZNAME:CET
DTSTART:20241027T010000
END:STANDARD
BEGIN:DAYLIGHT
TZOFFSETFROM:+0100
TZOFFSETTO:+0200
TZNAME:CEST
DTSTART:20250330T010000
END:DAYLIGHT
BEGIN:STANDARD
TZOFFSETFROM:+0200
TZOFFSETTO:+0100
TZNAME:CET
DTSTART:20251026T010000
END:STANDARD
END:VTIMEZONE
BEGIN:VEVENT
DTSTART;TZID=Europe/Zurich:20240629T170000
DTEND;TZID=Europe/Zurich:20240629T220000
DTSTAMP:20260423T004006
CREATED:20240611T122500Z
LAST-MODIFIED:20240611T122500Z
UID:3883-1719680400-1719698400@www.saxophonist-live.ch
SUMMARY:Mister Saxr live in Rüschlikon: Musik für Traumhochzeit
DESCRIPTION:Im Juni wird Mister Saxr\, der talentierte Zürcher Saxophonist\, bei einer unvergesslichen Hochzeit im Restaurant Tracht am See in Rüschlikon auftreten. Dieses charmante Restaurant\, idyllisch am Ufer des Zürichsees gelegen\, bietet eine perfekte Kulisse für Ihre Hochzeit. Mit seinem traditionellen Ambiente und der atemberaubenden Aussicht sorgt das Restaurant Tracht am See für eine romantische und stilvolle Atmosphäre. \nMister Saxr ist bekannt für seine fesselnden Live-Auftritte\, die jedes Event mit einem Hauch von Eleganz und Emotion bereichern. Seine Musik reicht von klassischem Jazz über gefühlvolle Balladen bis hin zu modernen Hits\, die zum Tanzen einladen. Mit seinem einfühlsamen Spiel wird er die Hochzeitsgäste durch den Tag begleiten und für unvergessliche musikalische Momente sorgen. Ein schöner Saxophonsong ist ebenso wirkungsvoll wie ein perfekter Brautstrauss\, Dekorationen\, köstliches Essen oder erlesene Weine. Ein Sax zur Trauung kann ein stimmungsvoller Höhepunkt der Zeremonie\, des Apéros und des Dinners sein. Die feinen Töne des Tenorsaxophons gehen direkt ins Herz\, verbunden mit den schönsten Liebesliedern oder einem ganz persönlichen Song des Brautpaares\, machen diese Attraktion akustisch und auch optisch zu einem Highlight jeder Trauung. \nWährend des Apéros wird Mister Saxr eine Auswahl seiner besten Stücke präsentieren\, um eine einladende und angenehme Stimmung zu schaffen. In dieser Zeit haben die Gäste die Gelegenheit\, sich zu unterhalten und das traumhafte Ambiente des Restaurants zu geniessen. Nach dem Apéro setzen sich die Gäste zum Abendessen. Während des Essens wird Mister Saxr immer wieder spezielle Lieder einstreuen\, die die Stimmung heben und zum Tanzen animieren\, wie zum Beispiel “Bamboleo” von den Gypsy Kings. Diese musikalischen Einlagen werden das Fest bereichern und für besondere Momente sorgen. \nDas Restaurant Tracht am See ist eine Oase der Ruhe und Schönheit. Bekannt für seine exquisite Küche und den hervorragenden Service\, bietet es die perfekte Kulisse für eine romantische und stilvolle Hochzeitsfeier. Das Interieur des Restaurants vereint traditionellen Charme mit moderner Eleganz. Die grosszügigen Fenster bieten einen atemberaubenden Blick auf den Zürichsee\, der besonders bei Sonnenuntergang eine magische Atmosphäre schafft. Der stilvoll eingerichtete Innenbereich lädt zum Verweilen ein\, während die grosse Seeterrasse bei schönem Wetter zum entspannten Geniessen im Freien einlädt. \nMister Saxr bietet eine erstklassige Anlage\, die nicht nur seine Live-Performance unterstützt\, sondern auch die Wiedergabe von Musikstücken ermöglicht\, die Sie sich für Ihre Hochzeit wünschen. Es ist durchaus möglich\, diese Lieder mit seinem Saxophon musikalisch zu begleiten. \nWir freuen uns darauf\, Ihre Hochzeit mit der zauberhaften Musik von Mister Saxr zu einem einmaligen Erlebnis zu machen. \nFür weitere Informationen und Buchungen\, besuchen Sie auch die Website mistersaxr.ch oder kontaktieren Mister Saxr direkt.
URL:https://www.saxophonist-live.ch/saxofonist-blog/event/mister-saxr-live-in-rueschlikon-musik-fuer-traumhochzeit/
LOCATION:Restaurant Tracht am See\, Seestrasse 25\, Rüschlikon\, 8803\, Schweiz
CATEGORIES:MisterSaxr Event
ATTACH;FMTTYPE=image/jpeg:https://www.saxophonist-live.ch/saxofonist-blog/wp-content/uploads/2023/07/MisterSaxr_Wedding_Hochzeit_Saxophonist.jpg
END:VEVENT
END:VCALENDAR