BEGIN:VCALENDAR
VERSION:2.0
PRODID:-//MisterSaxr.ch | saxophonist-LIVE.ch | Blog | Firmenanlass Hochzeiten Events Saxofonist Musiker Saxophonist Schweiz Z&uuml;rich - ECPv6.15.8//NONSGML v1.0//EN
CALSCALE:GREGORIAN
METHOD:PUBLISH
X-ORIGINAL-URL:https://www.saxophonist-live.ch/saxofonist-blog
X-WR-CALDESC:Veranstaltungen für MisterSaxr.ch | saxophonist-LIVE.ch | Blog | Firmenanlass Hochzeiten Events Saxofonist Musiker Saxophonist Schweiz Z&uuml;rich
REFRESH-INTERVAL;VALUE=DURATION:PT1H
X-Robots-Tag:noindex
X-PUBLISHED-TTL:PT1H
BEGIN:VTIMEZONE
TZID:Europe/Zurich
BEGIN:DAYLIGHT
TZOFFSETFROM:+0100
TZOFFSETTO:+0200
TZNAME:CEST
DTSTART:20230326T010000
END:DAYLIGHT
BEGIN:STANDARD
TZOFFSETFROM:+0200
TZOFFSETTO:+0100
TZNAME:CET
DTSTART:20231029T010000
END:STANDARD
BEGIN:DAYLIGHT
TZOFFSETFROM:+0100
TZOFFSETTO:+0200
TZNAME:CEST
DTSTART:20240331T010000
END:DAYLIGHT
BEGIN:STANDARD
TZOFFSETFROM:+0200
TZOFFSETTO:+0100
TZNAME:CET
DTSTART:20241027T010000
END:STANDARD
BEGIN:DAYLIGHT
TZOFFSETFROM:+0100
TZOFFSETTO:+0200
TZNAME:CEST
DTSTART:20250330T010000
END:DAYLIGHT
BEGIN:STANDARD
TZOFFSETFROM:+0200
TZOFFSETTO:+0100
TZNAME:CET
DTSTART:20251026T010000
END:STANDARD
END:VTIMEZONE
BEGIN:VEVENT
DTSTART;TZID=Europe/Zurich:20240524T170000
DTEND;TZID=Europe/Zurich:20240524T230000
DTSTAMP:20260424T105537
CREATED:20230609T082659Z
LAST-MODIFIED:20240219T144142Z
UID:3536-1716570000-1716591600@www.saxophonist-live.ch
SUMMARY:Mister Saxr & Patricia Seidl
DESCRIPTION:Die Carré Event AG\, eine renommierte Eventagentur\, hat für den Corporate Event der Meier Tobler AG eine beeindruckende musikalische Begleitung organisiert. Die Zusammenarbeit von Mister Saxr\, dem leidenschaftlichen Saxophonisten\, und Patricia Seidl\, einer vielseitigen DJane\, Sängerin und Pianistin\, verleiht dem Event eine einzigartige Note. \nMister Saxr entführt die Gäste mit seinem virtuosen Saxophonspiel in eine Welt der Entspannung und des Wohlbefindens. Seine einfühlsamen Klänge schaffen eine Atmosphäre zum Loslassen und Genießen. Ob mit sanften Lounge-Melodien oder mitreissenden Improvisationen\, sein Talent am Saxophon verzaubert das Publikum und verleiht dem Event eine besondere musikalische Qualität. \nPatricia Seidl\, bekannt für ihre Vielseitigkeit und ihr musikalisches Können\, ergänzt die Performance von Mister Saxr auf einzigartige Weise. Als DJane\, Sängerin und Pianistin bringt sie eine abwechslungsreiche musikalische Palette ein. Mit ihrer fesselnden Stimme und ihren inspirierenden Beats sorgt sie für eine energiegeladene Atmosphäre\, die die Gäste zum Mitfeiern animiert. \nDank der Auswahl von Mister Saxr und Patricia Seidl als musikalische Begleitung hat die Carré Event AG für den Corporate Event der Meier Tobler AG eine perfekte Wahl getroffen. Diese talentierten Künstler verstehen es\, die Gäste zu begeistern und eine Atmosphäre zu schaffen\, in der sich alle wohlfühlen und inspiriert werden. Ihre gemeinsame musikalische Darbietung verleiht dem Event eine besondere Note und trägt dazu bei\, die Botschaft von Meier Tobler als innovatives und leidenschaftliches Unternehmen noch stärker hervorzuheben. \nEs ist bemerkenswert\, dass die Carré Event AG nicht nur für den Corporate Event der Meier Tobler AG verantwortlich ist\, sondern auch für die Organisation anderer bedeutender Veranstaltungen wie der bekannten sowie beliebten Art on Ice Show und dem Blues’n’Jazz Festival in Rapperswil. Diese erfolgreiche Eventagentur hat sich einen Ruf für exzellente Veranstaltungsplanung und eine ausgezeichnete Auswahl an Künstlern aufgebaut. Mit ihrer Expertise schaffen sie unvergessliche Erlebnisse für ihre Kunden und tragen zur kulturellen Vielfalt und Unterhaltung im gesamten Land bei.
URL:https://www.saxophonist-live.ch/saxofonist-blog/event/mister-saxr-patricia/
LOCATION:Meier Tobler AG\, Industriestrasse 21\, Oberbuchsiten\, 4625\, Schweiz
CATEGORIES:MisterSaxr Event
ATTACH;FMTTYPE=image/jpeg:https://www.saxophonist-live.ch/saxofonist-blog/wp-content/uploads/2023/06/Mister-Saxr_Patricia-Seidl_Saxophonist_DJ_Saengerin.jpg
END:VEVENT
END:VCALENDAR