BEGIN:VCALENDAR
VERSION:2.0
PRODID:-//MisterSaxr.ch | saxophonist-LIVE.ch | Blog | Firmenanlass Hochzeiten Events Saxofonist Musiker Saxophonist Schweiz Z&uuml;rich - ECPv6.15.8//NONSGML v1.0//EN
CALSCALE:GREGORIAN
METHOD:PUBLISH
X-ORIGINAL-URL:https://www.saxophonist-live.ch/saxofonist-blog
X-WR-CALDESC:Veranstaltungen für MisterSaxr.ch | saxophonist-LIVE.ch | Blog | Firmenanlass Hochzeiten Events Saxofonist Musiker Saxophonist Schweiz Z&uuml;rich
REFRESH-INTERVAL;VALUE=DURATION:PT1H
X-Robots-Tag:noindex
X-PUBLISHED-TTL:PT1H
BEGIN:VTIMEZONE
TZID:Europe/Zurich
BEGIN:DAYLIGHT
TZOFFSETFROM:+0100
TZOFFSETTO:+0200
TZNAME:CEST
DTSTART:20230326T010000
END:DAYLIGHT
BEGIN:STANDARD
TZOFFSETFROM:+0200
TZOFFSETTO:+0100
TZNAME:CET
DTSTART:20231029T010000
END:STANDARD
BEGIN:DAYLIGHT
TZOFFSETFROM:+0100
TZOFFSETTO:+0200
TZNAME:CEST
DTSTART:20240331T010000
END:DAYLIGHT
BEGIN:STANDARD
TZOFFSETFROM:+0200
TZOFFSETTO:+0100
TZNAME:CET
DTSTART:20241027T010000
END:STANDARD
BEGIN:DAYLIGHT
TZOFFSETFROM:+0100
TZOFFSETTO:+0200
TZNAME:CEST
DTSTART:20250330T010000
END:DAYLIGHT
BEGIN:STANDARD
TZOFFSETFROM:+0200
TZOFFSETTO:+0100
TZNAME:CET
DTSTART:20251026T010000
END:STANDARD
END:VTIMEZONE
BEGIN:VEVENT
DTSTART;TZID=Europe/Zurich:20241228T180000
DTEND;TZID=Europe/Zurich:20241228T220000
DTSTAMP:20260421T025944
CREATED:20241024T073205Z
LAST-MODIFIED:20241024T073205Z
UID:4026-1735408800-1735423200@www.saxophonist-live.ch
SUMMARY:MisterSaxr live im Schweizerhof Flims
DESCRIPTION:Am Samstag\, den 28. Dezember 2024\, wird MisterSaxr wieder einmal im renommierten Schweizerhof Flims auftreten und seine Zuhörer mit seinen einzigartigen Saxophonklängen verzaubern. Es ist nicht das erste Mal\, dass MisterSaxr die Ehre hat\, in diesem traditionsreichen Haus zu spielen. Bereits bei mehreren Anlässen durfte er die Gäste des Schweizerhofs musikalisch begleiten und ihnen mit seiner Musik unvergessliche Momente schenken. Auch dieses Mal wird er die edle Atmosphäre des Hotels mit seiner sanften und loungigen Musik perfekt unterstreichen. \nDer Schweizerhof Flims ist weit mehr als nur ein Hotel – es ist ein historisches Wahrzeichen inmitten der eindrucksvollen Landschaft von Flims. Seit seiner Gründung im Jahr 1903 hat es sich als Ort etabliert\, der Tradition mit moderner Gastfreundschaft verbindet. Das elegante Jugendstil-Haus verströmt eine Atmosphäre von zeitloser Eleganz und bietet den Gästen ein luxuriöses und gleichzeitig gemütliches Zuhause auf Zeit. Mister Saxr spielt bereits seit mehreren Jahren regelmässig im beliebten Top-Hotel. Bekannt für seine herzliche Gastfreundschaft\, seine erstklassige Kulinarik und sein abwechslungsreiches Wellness-Angebot\, ist der Schweizerhof Flims seit Jahrzehnten ein beliebter Rückzugsort für Gäste aus der ganzen Welt. Besonders in der winterlichen Saison bietet das Hotel eine magische Kulisse\, die Tradition und Winterromantik miteinander vereint. \nDie Tage zwischen Weihnachten und Silvester haben eine ganz besondere Bedeutung. Diese Zeit des Jahres ist geprägt von Entschleunigung\, Besinnlichkeit und Vorfreude auf das neue Jahr. Viele Menschen nutzen diese Tage\, um dem Alltagsstress zu entfliehen\, sich zu erholen und die letzten Momente des Jahres in einer besonderen Atmosphäre zu geniessen. Der Schweizerhof Flims bietet in dieser Phase des Jahres eine besonders festliche und gleichzeitig entspannte Umgebung\, die perfekt dazu geeignet ist\, um abzuschalten und die winterliche Pracht der Flimser Bergwelt zu geniessen. MisterSaxr wird diese stimmungsvolle Zeit mit seiner Musik noch intensiver machen und den Gästen ein unvergessliches Erlebnis bieten. \nAm 28. Dezember 2024 dürfen sich die Gäste des Schweizerhof Flims auf ein besonderes musikalisches Highlight freuen. MisterSaxr wird den Abend mit seinen sanften Saxophonklängen untermalen und für eine harmonische\, entspannte und zugleich festliche Atmosphäre sorgen. Sein Auftritt verspricht\, die Magie der Tage zwischen Weihnachten und Silvester noch intensiver erlebbar zu machen und den Gästen einen unvergesslichen musikalischen Genuss zu bieten. \nOb als Teil eines gemütlichen Abends in der Lobby oder als musikalische Untermalung eines Schlummertrunks – MisterSaxr’s Musik wird die besondere Atmosphäre des Schweizerhofs Flims perfekt ergänzen und den Gästen einen stilvollen\, musikalischen Ausklang des Jahres bescheren. Verpassen Sie nicht die Gelegenheit\, sich von seinen Saxophonklängen verzaubern zu lassen!
URL:https://www.saxophonist-live.ch/saxofonist-blog/event/mistersaxr-live-im-schweizerhof-flims/
LOCATION:Hotel Schweizerhof Flims\, Rudi Dadens 1\, Flims Waldhaus\, Graubünden\, 7018\, Schweiz
CATEGORIES:MisterSaxr Event
ATTACH;FMTTYPE=image/jpeg:https://www.saxophonist-live.ch/saxofonist-blog/wp-content/uploads/2024/06/MisterSaxr_Wedding2b_Hochzeit_CristinaSieberBeck_Hochzeit_Saxophon_MisterSaxr__521.jpg
END:VEVENT
END:VCALENDAR