BEGIN:VCALENDAR
VERSION:2.0
PRODID:-//MisterSaxr.ch | saxophonist-LIVE.ch | Blog | Firmenanlass Hochzeiten Events Saxofonist Musiker Saxophonist Schweiz Z&uuml;rich - ECPv6.15.8//NONSGML v1.0//EN
CALSCALE:GREGORIAN
METHOD:PUBLISH
X-ORIGINAL-URL:https://www.saxophonist-live.ch/saxofonist-blog
X-WR-CALDESC:Veranstaltungen für MisterSaxr.ch | saxophonist-LIVE.ch | Blog | Firmenanlass Hochzeiten Events Saxofonist Musiker Saxophonist Schweiz Z&uuml;rich
REFRESH-INTERVAL;VALUE=DURATION:PT1H
X-Robots-Tag:noindex
X-PUBLISHED-TTL:PT1H
BEGIN:VTIMEZONE
TZID:Europe/Zurich
BEGIN:DAYLIGHT
TZOFFSETFROM:+0100
TZOFFSETTO:+0200
TZNAME:CEST
DTSTART:20240331T010000
END:DAYLIGHT
BEGIN:STANDARD
TZOFFSETFROM:+0200
TZOFFSETTO:+0100
TZNAME:CET
DTSTART:20241027T010000
END:STANDARD
BEGIN:DAYLIGHT
TZOFFSETFROM:+0100
TZOFFSETTO:+0200
TZNAME:CEST
DTSTART:20250330T010000
END:DAYLIGHT
BEGIN:STANDARD
TZOFFSETFROM:+0200
TZOFFSETTO:+0100
TZNAME:CET
DTSTART:20251026T010000
END:STANDARD
BEGIN:DAYLIGHT
TZOFFSETFROM:+0100
TZOFFSETTO:+0200
TZNAME:CEST
DTSTART:20260329T010000
END:DAYLIGHT
BEGIN:STANDARD
TZOFFSETFROM:+0200
TZOFFSETTO:+0100
TZNAME:CET
DTSTART:20261025T010000
END:STANDARD
END:VTIMEZONE
BEGIN:VEVENT
DTSTART;TZID=Europe/Zurich:20251206T090000
DTEND;TZID=Europe/Zurich:20251206T160000
DTSTAMP:20260420T100142
CREATED:20250415T115258Z
LAST-MODIFIED:20251121T172636Z
UID:4185-1765011600-1765036800@www.saxophonist-live.ch
SUMMARY:Mister Saxr Samichlaus live im Honold Confiserie
DESCRIPTION:Die Confiserie Honold im Zentrum Witikon wird erneut zur Bühne für ein ganz besonderes Highlight: Mister Saxr ist zurück und bringt weihnachtliche Stimmung auf musikalische Art. Gekleidet im festlichen Samichlaus-Kostüm zieht er durch das Café und begeistert Gross und Klein mit seinen gefühlvollen Saxophonklängen – live gespielt auf seinem edlen Selmer Saxophon. Ein Nachmittag voller Charme\, Musik und Weihnachtszauber erwartet die Besucher:innen. \nMister Saxr ist kein Unbekannter: Mit seinem gefühlvollen Spiel schafft er es\, Menschen aller Altersgruppen zu berühren. Seine Melodien reichen von klassisch-weihnachtlich bis modern und schwungvoll – immer mit viel Emotion und Können vorgetragen. Besonders in der besinnlichen Adventszeit sorgt sein Auftritt für leuchtende Augen\, warme Herzen und eine Atmosphäre\, die ihresgleichen sucht. Wenn er im Samichlaus-Outfit durch den Raum schreitet und seine Musik erklingt\, entsteht ein Moment\, der innehalten lässt – und der noch lange nachklingt. Mister Saxr spielt die schönsten Weihnachtslieder und sorgt für den perfekten Einstieg in die Weihnachtszeit. \nDoch nicht nur akustisch wird dieser Nachmittag zu einem Erlebnis – auch kulinarisch kommt die Vorfreude auf das Fest voll auf ihre Kosten. In der Backstube von Honold laufen die Öfen heiss: Guetzli\, Zimtsterne\, Mailänderli und andere weihnachtliche Köstlichkeiten werden mit viel Liebe und Handwerk frisch gebacken. Dazu gibt es feine Pralinen\, edle Schokoladenspezialitäten und wärmende Getränke wie Honold’s legendäre heisse Schoggi oder feiner Weihnachtstee. Wer mag\, nimmt sich eine süsse Erinnerung gleich mit nach Hause – oder gönnt sich ein stilles Genusserlebnis vor Ort. \nSeit der Eröffnung im Zentrum Witikon im Jahr 2019 ist Honold mit seinem Laden und Café – inklusive gemütlichen Aussensitzplätzen – ein beliebter Treffpunkt für die Nachbarschaft. Das Traditionsunternehmen\, geführt von Cristina de Perregaux\, Urenkelin des Gründers\, steht für handwerkliche Confiseriekunst auf höchstem Niveau. In stilvoller Atmosphäre lässt sich hier nicht nur hervorragend Kaffee trinken oder feines Gebäck geniessen\, sondern auch der Alltag für einen Moment vergessen. \nDas Zentrum Witikon zählt zu den ersten Einkaufszentren der Schweiz und verbindet Einkauf\, Genuss und Begegnung auf angenehme Weise. Die offene Architektur\, das vielfältige Angebot und regelmässige kulturelle Veranstaltungen machen das Zentrum zu einem lebendigen Ort – und Mister Saxrs Auftritt passt perfekt in dieses stimmungsvolle Umfeld. \nDie Veranstaltung ist öffentlich – alle sind herzlich willkommen! Lassen Sie sich vom Samichlaus-Saxophonisten verzaubern\, geniessen Sie die festliche Atmosphäre und entdecken Sie dabei die süssen Seiten der Adventszeit in der Confiserie Honold.
URL:https://www.saxophonist-live.ch/saxofonist-blog/event/mister-saxr-samichlaus-live-im-confiserie-honold/
LOCATION:Honold Zentrum Witikon\, Witikonerstrasse 293\, Zürich\, 8053
CATEGORIES:MisterSaxr Event
ATTACH;FMTTYPE=image/jpeg:https://www.saxophonist-live.ch/saxofonist-blog/wp-content/uploads/2025/04/MisterSaxr_Chlauskostuem_Weihnachtsmarkt_Sax.jpg
END:VEVENT
END:VCALENDAR