BEGIN:VCALENDAR
VERSION:2.0
PRODID:-//MisterSaxr.ch | saxophonist-LIVE.ch | Blog | Firmenanlass Hochzeiten Events Saxofonist Musiker Saxophonist Schweiz Z&uuml;rich - ECPv6.15.8//NONSGML v1.0//EN
CALSCALE:GREGORIAN
METHOD:PUBLISH
X-ORIGINAL-URL:https://www.saxophonist-live.ch/saxofonist-blog
X-WR-CALDESC:Veranstaltungen für MisterSaxr.ch | saxophonist-LIVE.ch | Blog | Firmenanlass Hochzeiten Events Saxofonist Musiker Saxophonist Schweiz Z&uuml;rich
REFRESH-INTERVAL;VALUE=DURATION:PT1H
X-Robots-Tag:noindex
X-PUBLISHED-TTL:PT1H
BEGIN:VTIMEZONE
TZID:Europe/Zurich
BEGIN:DAYLIGHT
TZOFFSETFROM:+0100
TZOFFSETTO:+0200
TZNAME:CEST
DTSTART:20210328T010000
END:DAYLIGHT
BEGIN:STANDARD
TZOFFSETFROM:+0200
TZOFFSETTO:+0100
TZNAME:CET
DTSTART:20211031T010000
END:STANDARD
BEGIN:DAYLIGHT
TZOFFSETFROM:+0100
TZOFFSETTO:+0200
TZNAME:CEST
DTSTART:20220327T010000
END:DAYLIGHT
BEGIN:STANDARD
TZOFFSETFROM:+0200
TZOFFSETTO:+0100
TZNAME:CET
DTSTART:20221030T010000
END:STANDARD
BEGIN:DAYLIGHT
TZOFFSETFROM:+0100
TZOFFSETTO:+0200
TZNAME:CEST
DTSTART:20230326T010000
END:DAYLIGHT
BEGIN:STANDARD
TZOFFSETFROM:+0200
TZOFFSETTO:+0100
TZNAME:CET
DTSTART:20231029T010000
END:STANDARD
END:VTIMEZONE
BEGIN:VEVENT
DTSTART;TZID=Europe/Zurich:20220908T180000
DTEND;TZID=Europe/Zurich:20220908T220000
DTSTAMP:20260422T132746
CREATED:20220801T134424Z
LAST-MODIFIED:20220801T134425Z
UID:3272-1662660000-1662674400@www.saxophonist-live.ch
SUMMARY:Personalfest
DESCRIPTION:Smooth-Jazz\, Bossa-Nova\, entspannte Begleitmusik. Dadurch hebt Mister Saxr\, der leidenschaftliche Holzbläser\, ein jedes Event auf eine neue Ebene. Auf seinem Tenor-Saxophon\, einem Selmer Mark V\, schafft Mister Saxr einzigartige Momente. Die grosse Auswahl an verschiedenen Songs\, die durch Mister Saxr neu interpretiert und mit seinem unverkennbaren\, individuellen Stil und Blasansatz wiedergegeben werden\, imponieren immer wieder aufs Neue. \nDer festliche Anlasse für Mister Saxrs Auftritt\, am 8. September 2022 ist das Mitarbeiterinnen und Mitarbeiterfest der ZURZACH Care AG. Es findet über dem Zürichsee im renommierten Schinzenhof statt. Von dort reicht die Weitsicht von Zürich bis nach Rapperswil und die Aussicht bietet die ganze Goldküste Zürichs von Küsnacht\, über Erlenbach\, nach Meilen bis hin zu Stäfa und den Obersee in Richtung Glarus. \nDer Corporate-Anlass der Aargauer Rehaklinik wird ein Highligt werden. Nicht nur die einzigartigen musikalischen Beiträge\, sondern auch viel Magie mit drei Zaubereren\, werden die Gäste verzaubert. Der Schinzehof ist bekannt für seine fabelhafte Küche und die mit verschiedenen ausgezeichneten und prämierten Weinen dekorierte Weinkarte. Alles zusammen bietet den Gästen eine Oase der Erholung und des Genusses.
URL:https://www.saxophonist-live.ch/saxofonist-blog/event/personalfest-2/
LOCATION:Schinzenhof\, Alte Landstrasse 24\, Horgen\, 8810\, Schweiz
CATEGORIES:MisterSaxr Event
ATTACH;FMTTYPE=image/jpeg:https://www.saxophonist-live.ch/saxofonist-blog/wp-content/uploads/2016/10/saxophon.jpg
END:VEVENT
END:VCALENDAR