BEGIN:VCALENDAR
VERSION:2.0
PRODID:-//MisterSaxr.ch | saxophonist-LIVE.ch | Blog | Firmenanlass Hochzeiten Events Saxofonist Musiker Saxophonist Schweiz Z&uuml;rich - ECPv6.15.8//NONSGML v1.0//EN
CALSCALE:GREGORIAN
METHOD:PUBLISH
X-WR-CALNAME:MisterSaxr.ch | saxophonist-LIVE.ch | Blog | Firmenanlass Hochzeiten Events Saxofonist Musiker Saxophonist Schweiz Z&uuml;rich
X-ORIGINAL-URL:https://www.saxophonist-live.ch/saxofonist-blog
X-WR-CALDESC:Veranstaltungen für MisterSaxr.ch | saxophonist-LIVE.ch | Blog | Firmenanlass Hochzeiten Events Saxofonist Musiker Saxophonist Schweiz Z&uuml;rich
REFRESH-INTERVAL;VALUE=DURATION:PT1H
X-Robots-Tag:noindex
X-PUBLISHED-TTL:PT1H
BEGIN:VTIMEZONE
TZID:Europe/Zurich
BEGIN:DAYLIGHT
TZOFFSETFROM:+0100
TZOFFSETTO:+0200
TZNAME:CEST
DTSTART:20210328T010000
END:DAYLIGHT
BEGIN:STANDARD
TZOFFSETFROM:+0200
TZOFFSETTO:+0100
TZNAME:CET
DTSTART:20211031T010000
END:STANDARD
BEGIN:DAYLIGHT
TZOFFSETFROM:+0100
TZOFFSETTO:+0200
TZNAME:CEST
DTSTART:20220327T010000
END:DAYLIGHT
BEGIN:STANDARD
TZOFFSETFROM:+0200
TZOFFSETTO:+0100
TZNAME:CET
DTSTART:20221030T010000
END:STANDARD
BEGIN:DAYLIGHT
TZOFFSETFROM:+0100
TZOFFSETTO:+0200
TZNAME:CEST
DTSTART:20230326T010000
END:DAYLIGHT
BEGIN:STANDARD
TZOFFSETFROM:+0200
TZOFFSETTO:+0100
TZNAME:CET
DTSTART:20231029T010000
END:STANDARD
END:VTIMEZONE
BEGIN:VEVENT
DTSTART;TZID=Europe/Zurich:20220518T170000
DTEND;TZID=Europe/Zurich:20220518T220000
DTSTAMP:20260425T020535
CREATED:20220325T122641Z
LAST-MODIFIED:20220715T115704Z
UID:3127-1652893200-1652911200@www.saxophonist-live.ch
SUMMARY:Kundenveranstaltung im Fischer’s Fritz
DESCRIPTION:Sonnenuntergang über dem Seebecken\, Openair-Felling am Zürcher Seeufer in Wollishofen: Der leidenschaftliche Saxophonist und Solokünstler Mister Saxr tritt für einen Kundenanlass der Rolf Schlagenhauf AG unter freiem Himmel auf. Passend für dieses Ambiente speilt Mister Saxr eine erfrischende und sommerliche Interpretation aus den schönsten Liedern aller Genres. Zu seinem Programm gehören Smooth Jazz\, Bossa-Nova\, Pop\, Rock aber auch Partysongs und aktuelle Hits aus der Hit-Parade. \nDie Schlagenhauf AG\, mit mehreren Standorten im Kanton Zürich laden zu einem Kundenanlass ins Fischers Fritz in Wollishofen mit dem schönsten Blick auf den See einem Raritäten-Weinkeller und eigenem Hausfischer bietet Sie alles\, was das Herz begehrt\, mit passender Musik steht einem unvergesslichen Abend mit Strand-Feeling nichts im Wege.
URL:https://www.saxophonist-live.ch/saxofonist-blog/event/kundenveranstaltung-im-fischers-fritz/
LOCATION:Fischers Fritz\, Seestrasse 559\, Zürich\, 8038\, Schweiz
CATEGORIES:MisterSaxr Event
ATTACH;FMTTYPE=image/jpeg:https://www.saxophonist-live.ch/saxofonist-blog/wp-content/uploads/2022/07/Wedding_MisterSaxr_Saxophonist.jpg
END:VEVENT
END:VCALENDAR