BEGIN:VCALENDAR
VERSION:2.0
PRODID:-//MisterSaxr.ch | saxophonist-LIVE.ch | Blog | Firmenanlass Hochzeiten Events Saxofonist Musiker Saxophonist Schweiz Z&uuml;rich - ECPv6.15.8//NONSGML v1.0//EN
CALSCALE:GREGORIAN
METHOD:PUBLISH
X-WR-CALNAME:MisterSaxr.ch | saxophonist-LIVE.ch | Blog | Firmenanlass Hochzeiten Events Saxofonist Musiker Saxophonist Schweiz Z&uuml;rich
X-ORIGINAL-URL:https://www.saxophonist-live.ch/saxofonist-blog
X-WR-CALDESC:Veranstaltungen für MisterSaxr.ch | saxophonist-LIVE.ch | Blog | Firmenanlass Hochzeiten Events Saxofonist Musiker Saxophonist Schweiz Z&uuml;rich
REFRESH-INTERVAL;VALUE=DURATION:PT1H
X-Robots-Tag:noindex
X-PUBLISHED-TTL:PT1H
BEGIN:VTIMEZONE
TZID:Europe/Zurich
BEGIN:DAYLIGHT
TZOFFSETFROM:+0100
TZOFFSETTO:+0200
TZNAME:CEST
DTSTART:20180325T010000
END:DAYLIGHT
BEGIN:STANDARD
TZOFFSETFROM:+0200
TZOFFSETTO:+0100
TZNAME:CET
DTSTART:20181028T010000
END:STANDARD
BEGIN:DAYLIGHT
TZOFFSETFROM:+0100
TZOFFSETTO:+0200
TZNAME:CEST
DTSTART:20190331T010000
END:DAYLIGHT
BEGIN:STANDARD
TZOFFSETFROM:+0200
TZOFFSETTO:+0100
TZNAME:CET
DTSTART:20191027T010000
END:STANDARD
BEGIN:DAYLIGHT
TZOFFSETFROM:+0100
TZOFFSETTO:+0200
TZNAME:CEST
DTSTART:20200329T010000
END:DAYLIGHT
BEGIN:STANDARD
TZOFFSETFROM:+0200
TZOFFSETTO:+0100
TZNAME:CET
DTSTART:20201025T010000
END:STANDARD
END:VTIMEZONE
BEGIN:VEVENT
DTSTART;TZID=Europe/Zurich:20190921T180000
DTEND;TZID=Europe/Zurich:20190921T220000
DTSTAMP:20260424T234743
CREATED:20190131T095929Z
LAST-MODIFIED:20190404T132835Z
UID:1999-1569088800-1569103200@www.saxophonist-live.ch
SUMMARY:Duo Mister Saxr und Tanja Dankner
DESCRIPTION:Mister Saxr und Tanja Dankner spielen zum wiederholten Male am Seegold Scramble Turnier. Dort unterhalten Sie musikalisch die geladenen Gäste des Golf Club Schönenberg. \nDie Sängerin und Songwriterin mit der samtenen und kraftvollen Stimme begleitet die Schweizer Musikszene seit über 20 Jahren. An diesem Anlass wird sie exklusiv von Mister Saxr und seinem Selmer Mark VI begleitet. Mister Saxr und Tanja Dankner haben bereits zahlreiche gemeinsame Auftritte für Kunden gespielt. Es ist ein eingespieltes Duo\, das sich bestens ergänzt. \nDas Apéro wird ab 18:00 Uhr mit dem Sängerin Tanja Dankner begleitet. Ab 19:00 Uhr wird Sie zusammen mit dem Saxophonisten Mister Saxr auftreten.
URL:https://www.saxophonist-live.ch/saxofonist-blog/event/duo-mister-saxr-und-tanja-dankner/
LOCATION:Restaurant Golf Club Schönenberg\, Müsli 6\, Schönenberg\, Zürich\, 8824\, Schweiz
CATEGORIES:MisterSaxr Event
ATTACH;FMTTYPE=image/jpeg:https://www.saxophonist-live.ch/saxofonist-blog/wp-content/uploads/2019/01/MisterSaxr_TanjaDankner_Duo_Collage.jpg
END:VEVENT
END:VCALENDAR