BEGIN:VCALENDAR
VERSION:2.0
PRODID:-//MisterSaxr.ch | saxophonist-LIVE.ch | Blog | Firmenanlass Hochzeiten Events Saxofonist Musiker Saxophonist Schweiz Z&uuml;rich - ECPv6.15.8//NONSGML v1.0//EN
CALSCALE:GREGORIAN
METHOD:PUBLISH
X-WR-CALNAME:MisterSaxr.ch | saxophonist-LIVE.ch | Blog | Firmenanlass Hochzeiten Events Saxofonist Musiker Saxophonist Schweiz Z&uuml;rich
X-ORIGINAL-URL:https://www.saxophonist-live.ch/saxofonist-blog
X-WR-CALDESC:Veranstaltungen für MisterSaxr.ch | saxophonist-LIVE.ch | Blog | Firmenanlass Hochzeiten Events Saxofonist Musiker Saxophonist Schweiz Z&uuml;rich
REFRESH-INTERVAL;VALUE=DURATION:PT1H
X-Robots-Tag:noindex
X-PUBLISHED-TTL:PT1H
BEGIN:VTIMEZONE
TZID:Europe/Zurich
BEGIN:DAYLIGHT
TZOFFSETFROM:+0100
TZOFFSETTO:+0200
TZNAME:CEST
DTSTART:20240331T010000
END:DAYLIGHT
BEGIN:STANDARD
TZOFFSETFROM:+0200
TZOFFSETTO:+0100
TZNAME:CET
DTSTART:20241027T010000
END:STANDARD
BEGIN:DAYLIGHT
TZOFFSETFROM:+0100
TZOFFSETTO:+0200
TZNAME:CEST
DTSTART:20250330T010000
END:DAYLIGHT
BEGIN:STANDARD
TZOFFSETFROM:+0200
TZOFFSETTO:+0100
TZNAME:CET
DTSTART:20251026T010000
END:STANDARD
BEGIN:DAYLIGHT
TZOFFSETFROM:+0100
TZOFFSETTO:+0200
TZNAME:CEST
DTSTART:20260329T010000
END:DAYLIGHT
BEGIN:STANDARD
TZOFFSETFROM:+0200
TZOFFSETTO:+0100
TZNAME:CET
DTSTART:20261025T010000
END:STANDARD
END:VTIMEZONE
BEGIN:VEVENT
DTSTART;TZID=Europe/Zurich:20250529T210000
DTEND;TZID=Europe/Zurich:20250529T230000
DTSTAMP:20260422T211351
CREATED:20250424T130537Z
LAST-MODIFIED:20250424T130537Z
UID:4211-1748552400-1748559600@www.saxophonist-live.ch
SUMMARY:Mister Saxr live in der Schlüssel Bar Uster
DESCRIPTION:Ein musikalischer Abend voller Emotionen und Eleganz erwartet die Gäste in der Schlüssel Bar Uster. Am kommenden Eventabend wird Mister Saxr mit einem Special Guest die Bühne übernehmen und den Raum mit seinen unverkennbaren Saxophonklängen erfüllen. Die Schlüssel Bar\, ein stilvoller Treffpunkt für Musikliebhaber:innen und Geniesser:innen\, bietet das perfekte Ambiente für ein Konzerterlebnis der besonderen Art. \n  \nMit seiner Mischung aus musikalischem Feingefühl\, charismatischem Auftreten und technischer Raffinesse zieht Mister Saxr das Publikum von der ersten Minute an in seinen Bann. Wer schon einmal das Vergnügen hatte\, ihn live zu erleben\, weiss: Hier wird nicht nur gespielt – hier wird jede Note gelebt. \nMister Saxr steht für eine ganz eigene musikalische Handschrift. Sein Repertoire reicht von gefühlvollen Balladen über groovige Bossa Novas bis hin zu modernen Pop-Melodien\, alles getragen von einem samtweichen\, klaren Saxophonsound. \nDabei geht es ihm nicht um laute Effekte\, sondern um Tiefe\, Emotion und die richtige Nuance im richtigen Moment. Seine Musik erzählt Geschichten – mal leise und verträumt\, mal mitreissend und rhythmisch. Die Zuhörer:innen werden eingeladen\, sich zurückzulehnen\, den Alltag zu vergessen und sich von der Musik tragen zu lassen. \nGerade in der intimen Atmosphäre der Schlüssel Bar entfaltet diese Musik ihre volle Wirkung. Hier können Klänge atmen\, Dynamik entsteht im Zusammenspiel mit dem Raum und dem Publikum. \nIm Mittelpunkt seines musikalischen Ausdrucks steht das Selmer Supreme – ein Saxophon\, das zur Weltspitze gehört. Mister Saxr hat dieses Instrument nicht zufällig gewählt: Mit seinem warmen\, ausgeglichenen Ton\, seiner brillanten Ansprache und der grossartigen klanglichen Flexibilität ist das Selmer Supreme wie gemacht für seine Art zu musizieren. \nOb zarte Ballade oder lebendige Latin-Rhythmen – Mister Saxr versteht es\, mit seinem Selmer Supreme jede Emotion authentisch auf die Bühne zu bringen. Das Zusammenspiel von Instrument und Künstler ist bei ihm mehr als nur Technik – es ist Ausdruck einer tiefen musikalischen Verbindung. \nDer öffentliche Auftritt von Mister Saxr in der Schlüssel Bar Uster verspricht einen Abend\, der mehr ist als nur ein Konzert. Es ist ein Erlebnis\, bei dem Musik\, Atmosphäre und Begegnung in einen harmonischen Dialog treten. \nGemeinsam mit seinem Special Guest wird Mister Saxr das Publikum auf eine musikalische Reise mitnehmen – stilvoll\, gefühlvoll\, einzigartig. Ob man bewusst zuhört oder sich einfach treiben lässt: Dieser Abend bleibt in Erinnerung. \nWer Musik liebt\, die unter die Haut geht\, sollte sich dieses Live-Erlebnis in der Schlüssel Bar nicht entgehen lassen.
URL:https://www.saxophonist-live.ch/saxofonist-blog/event/mister-saxr-live-in-der-schluessel-bar-uster/
LOCATION:Schlüssel Bar\, Winterthurerstrasse 13\, Uster\, 8610
CATEGORIES:MisterSaxr Event
ATTACH;FMTTYPE=image/jpeg:https://www.saxophonist-live.ch/saxofonist-blog/wp-content/uploads/2018/09/MISTERSAXR_7406.jpg
END:VEVENT
END:VCALENDAR