BEGIN:VCALENDAR
VERSION:2.0
PRODID:-//MisterSaxr.ch | saxophonist-LIVE.ch | Blog | Firmenanlass Hochzeiten Events Saxofonist Musiker Saxophonist Schweiz Z&uuml;rich - ECPv6.15.8//NONSGML v1.0//EN
CALSCALE:GREGORIAN
METHOD:PUBLISH
X-WR-CALNAME:MisterSaxr.ch | saxophonist-LIVE.ch | Blog | Firmenanlass Hochzeiten Events Saxofonist Musiker Saxophonist Schweiz Z&uuml;rich
X-ORIGINAL-URL:https://www.saxophonist-live.ch/saxofonist-blog
X-WR-CALDESC:Veranstaltungen für MisterSaxr.ch | saxophonist-LIVE.ch | Blog | Firmenanlass Hochzeiten Events Saxofonist Musiker Saxophonist Schweiz Z&uuml;rich
REFRESH-INTERVAL;VALUE=DURATION:PT1H
X-Robots-Tag:noindex
X-PUBLISHED-TTL:PT1H
BEGIN:VTIMEZONE
TZID:Europe/Zurich
BEGIN:DAYLIGHT
TZOFFSETFROM:+0100
TZOFFSETTO:+0200
TZNAME:CEST
DTSTART:20220327T010000
END:DAYLIGHT
BEGIN:STANDARD
TZOFFSETFROM:+0200
TZOFFSETTO:+0100
TZNAME:CET
DTSTART:20221030T010000
END:STANDARD
BEGIN:DAYLIGHT
TZOFFSETFROM:+0100
TZOFFSETTO:+0200
TZNAME:CEST
DTSTART:20230326T010000
END:DAYLIGHT
BEGIN:STANDARD
TZOFFSETFROM:+0200
TZOFFSETTO:+0100
TZNAME:CET
DTSTART:20231029T010000
END:STANDARD
BEGIN:DAYLIGHT
TZOFFSETFROM:+0100
TZOFFSETTO:+0200
TZNAME:CEST
DTSTART:20240331T010000
END:DAYLIGHT
BEGIN:STANDARD
TZOFFSETFROM:+0200
TZOFFSETTO:+0100
TZNAME:CET
DTSTART:20241027T010000
END:STANDARD
END:VTIMEZONE
BEGIN:VEVENT
DTSTART;TZID=Europe/Zurich:20230624T190000
DTEND;TZID=Europe/Zurich:20230624T210000
DTSTAMP:20260424T115230
CREATED:20230324T091403Z
LAST-MODIFIED:20230324T091403Z
UID:3453-1687633200-1687640400@www.saxophonist-live.ch
SUMMARY:Benefizdinner Stiftung VIVES
DESCRIPTION:Mister Saxr\, der leidenschaftliche Saxophonist\, der sein Publikum mit elektrisierenden Rhythmen und Melodien aller Genres begeistert. Ob Bossa-Nova\, Smooth Jazz\, Pop\, Rock oder Disco – Mister Saxr beherrscht sie alle und passt sein Programm immer perfekt der Stimmung des Publikums an. Mit seinem Tenor-Saxophon der Marke Selmer schafft Mister Saxr ein unverkennbares Flair und lässt die Herzen seiner Zuhörer höherschlagen. Dabei ist es egal\, ob er aktuelle Hits oder die schönsten Evergreens aller Zeiten spielt – Mister Saxr sorgt immer für Glücksmomente des Genusses. Dank seines breiten Repertoires kann Mister Saxr in jeder Situation für beste Stimmung sorgen. Dabei geht es ihm nicht nur um die Musik\, sondern auch um das Zusammenspiel mit seinem Publikum. Mister Saxr versteht es\, seine Zuhörer zu begeistern und mitzureissen. \nDas Benefizdinner\, einschliesslich einer unterhaltsamen und informativen Darbietung\, ist kostenpflichtig. Der gesamte Erlös kommt der Stiftung VIVES zugute\, die sich für Trinkwasserprojekte in armen Regionen einsetzt. Genießen Sie einen informativen und abwechslungsreichen Abend mit erstklassiger musikalischer Unterhaltung und tun Sie gleichzeitig etwas Gutes\, indem Sie VIVES unterstützen\, damit die Stiftung weiterhin für das Wohl bedürftiger Regionen auf der Welt arbeiten kann.
URL:https://www.saxophonist-live.ch/saxofonist-blog/event/benefizdinner-stiftung-vives/
LOCATION:Pfarrei St. Laurentius\, Wülflingerstrasse 181\, Winterthur\, 8408\, Schweiz
CATEGORIES:MisterSaxr Event
ATTACH;FMTTYPE=image/jpeg:https://www.saxophonist-live.ch/saxofonist-blog/wp-content/uploads/2018/08/MISTERSAXR_7428.jpg
END:VEVENT
END:VCALENDAR