BEGIN:VCALENDAR
VERSION:2.0
PRODID:-//MisterSaxr.ch | saxophonist-LIVE.ch | Blog | Firmenanlass Hochzeiten Events Saxofonist Musiker Saxophonist Schweiz Z&uuml;rich - ECPv6.15.8//NONSGML v1.0//EN
CALSCALE:GREGORIAN
METHOD:PUBLISH
X-ORIGINAL-URL:https://www.saxophonist-live.ch/saxofonist-blog
X-WR-CALDESC:Veranstaltungen für MisterSaxr.ch | saxophonist-LIVE.ch | Blog | Firmenanlass Hochzeiten Events Saxofonist Musiker Saxophonist Schweiz Z&uuml;rich
REFRESH-INTERVAL;VALUE=DURATION:PT1H
X-Robots-Tag:noindex
X-PUBLISHED-TTL:PT1H
BEGIN:VTIMEZONE
TZID:Europe/Zurich
BEGIN:DAYLIGHT
TZOFFSETFROM:+0100
TZOFFSETTO:+0200
TZNAME:CEST
DTSTART:20240331T010000
END:DAYLIGHT
BEGIN:STANDARD
TZOFFSETFROM:+0200
TZOFFSETTO:+0100
TZNAME:CET
DTSTART:20241027T010000
END:STANDARD
BEGIN:DAYLIGHT
TZOFFSETFROM:+0100
TZOFFSETTO:+0200
TZNAME:CEST
DTSTART:20250330T010000
END:DAYLIGHT
BEGIN:STANDARD
TZOFFSETFROM:+0200
TZOFFSETTO:+0100
TZNAME:CET
DTSTART:20251026T010000
END:STANDARD
BEGIN:DAYLIGHT
TZOFFSETFROM:+0100
TZOFFSETTO:+0200
TZNAME:CEST
DTSTART:20260329T010000
END:DAYLIGHT
BEGIN:STANDARD
TZOFFSETFROM:+0200
TZOFFSETTO:+0100
TZNAME:CET
DTSTART:20261025T010000
END:STANDARD
END:VTIMEZONE
BEGIN:VEVENT
DTSTART;TZID=Europe/Zurich:20250621T190000
DTEND;TZID=Europe/Zurich:20250621T210000
DTSTAMP:20260423T050521
CREATED:20250304T144707Z
LAST-MODIFIED:20250304T144741Z
UID:4142-1750532400-1750539600@www.saxophonist-live.ch
SUMMARY:VIVES Night mit Mister Saxr
DESCRIPTION:Mister Saxr wird bei der VIVES Night am Benefizdinner in der Pfarrei St. Laurentius für eine besondere Atmosphäre sorgen. Mit seinem Saxophon begleitet er den Abend musikalisch und setzt damit ein Zeichen für soziales Engagement. Die Veranstaltung unterstützt die Arbeit der Stiftung VIVES\, die weltweit Menschen mit sauberem Trinkwasser versorgt. \nDie Stiftung VIVES wurde ins Leben gerufen\, um Menschen in benachteiligten Regionen den Zugang zu sauberem Wasser zu ermöglichen. Seit ihrer Gründung hat sie über 30 Projekte in Ländern wie Senegal\, Burkina Faso\, Ghana\, Kambodscha und Äthiopien umgesetzt. Tausende Menschen profitieren bereits von den Brunnen und Wasseraufbereitungsanlagen. \nMister Saxr ist nicht nur ein herausragender Musiker\, sondern auch Mitgründer der Stiftung VIVES. Sein Engagement geht weit über die Bühne hinaus. Er nutzt seine Bekanntheit\, um Aufmerksamkeit für die Trinkwasserproblematik zu schaffen und Menschen zu motivieren\, sich ebenfalls für diese wichtige Sache einzusetzen. Mit viel Herzblut setzt er sich für Trinkwasserprojekte ein\, um Kindern und Familien eine bessere Zukunft zu ermöglichen. \nDas Benefizdinner in der Pfarrei St. Laurentius verbindet kulinarischen Genuss mit einem guten Zweck. Mister Saxr wird den Abend musikalisch begleiten und mit seinen Melodien besondere Akzente setzen. Sein Saxophonspiel verleiht der Veranstaltung eine einzigartige Note und macht sie zu einem unvergesslichen Erlebnis. \nMit der Unterstützung der Stiftung VIVES konnten bereits über 10.000 Kinder mit sauberem Trinkwasser versorgt werden. Jedes neue Projekt bringt Hoffnung und verändert Leben nachhaltig. \nDas Benefizdinner ist eine geschlossene Veranstaltung. Doch die Botschaft dahinter ist für alle wichtig: Sauberes Wasser sollte für niemanden ein Luxus sein. Mister Saxr nutzt seine Musik\, um Aufmerksamkeit zu schaffen und Menschen für diese wichtige Thematik zu sensibilisieren. \nSein Auftritt an diesem Abend ist mehr als eine musikalische Darbietung. Es ist eine Verbindung von Kunst und sozialem Engagement\, eine Botschaft der Solidarität und Menschlichkeit. Musik kann Brücken bauen\, Emotionen wecken und Veränderungen bewirken – und genau das wird Mister Saxr mit seinem Saxophon an diesem besonderen Abend tun.
URL:https://www.saxophonist-live.ch/saxofonist-blog/event/vives-night-mit-mister-saxr/
LOCATION:Pfarrei St. Laurentius\, Wülflingerstrasse 181\, Winterthur\, 8408\, Schweiz
ATTACH;FMTTYPE=image/jpeg:https://www.saxophonist-live.ch/saxofonist-blog/wp-content/uploads/2023/03/Mister-Saxr_Zürich.jpg
END:VEVENT
END:VCALENDAR