BEGIN:VCALENDAR
VERSION:2.0
PRODID:-//MisterSaxr.ch | saxophonist-LIVE.ch | Blog | Firmenanlass Hochzeiten Events Saxofonist Musiker Saxophonist Schweiz Z&uuml;rich - ECPv6.15.8//NONSGML v1.0//EN
CALSCALE:GREGORIAN
METHOD:PUBLISH
X-ORIGINAL-URL:https://www.saxophonist-live.ch/saxofonist-blog
X-WR-CALDESC:Veranstaltungen für MisterSaxr.ch | saxophonist-LIVE.ch | Blog | Firmenanlass Hochzeiten Events Saxofonist Musiker Saxophonist Schweiz Z&uuml;rich
REFRESH-INTERVAL;VALUE=DURATION:PT1H
X-Robots-Tag:noindex
X-PUBLISHED-TTL:PT1H
BEGIN:VTIMEZONE
TZID:Europe/Zurich
BEGIN:DAYLIGHT
TZOFFSETFROM:+0100
TZOFFSETTO:+0200
TZNAME:CEST
DTSTART:20160327T010000
END:DAYLIGHT
BEGIN:STANDARD
TZOFFSETFROM:+0200
TZOFFSETTO:+0100
TZNAME:CET
DTSTART:20161030T010000
END:STANDARD
BEGIN:DAYLIGHT
TZOFFSETFROM:+0100
TZOFFSETTO:+0200
TZNAME:CEST
DTSTART:20170326T010000
END:DAYLIGHT
BEGIN:STANDARD
TZOFFSETFROM:+0200
TZOFFSETTO:+0100
TZNAME:CET
DTSTART:20171029T010000
END:STANDARD
BEGIN:DAYLIGHT
TZOFFSETFROM:+0100
TZOFFSETTO:+0200
TZNAME:CEST
DTSTART:20180325T010000
END:DAYLIGHT
BEGIN:STANDARD
TZOFFSETFROM:+0200
TZOFFSETTO:+0100
TZNAME:CET
DTSTART:20181028T010000
END:STANDARD
END:VTIMEZONE
BEGIN:VEVENT
DTSTART;TZID=Europe/Zurich:20170405T180000
DTEND;TZID=Europe/Zurich:20170405T230000
DTSTAMP:20260426T044541
CREATED:20161208T112542Z
LAST-MODIFIED:20170407T092141Z
UID:1013-1491415200-1491433200@www.saxophonist-live.ch
SUMMARY:Mister Saxr und Tanja Dankner & Singer
DESCRIPTION:Kundenanlass nur für geladene Gäste. \n\nTanja Dankner – Biographie\nDie Songwriterin und Sängerin mit der samtenen und kraftvollen Stimme begleitet die Schweizer Musikszene seit 22 Jahren. Im Spätsommer 2015 veröffentlichte Tanja Dankner mit dem Top DJ Jamie Lewis und Fabulous Keys unter dem Namen „Two Kings feat. The Queen“ das Album „Say Yes“. Die 14 Songs laden einerseits zum Tanzen\, andererseits aber auch zum Entspannen ein. Das Album ist zweigeteilt und enthält sowohl eingängige Housebeats\, als auch Chill Out Songs\, die den Sommer nochmals so richtig aufleben lassen. Weiter ist Tanja 2015 auch im „Tribute to Ray Charles“ im Theater am Rigiblick zu sehen. Bekannt wurde die in Zürich lebende Künstlerin unter anderem mit dem Hitsong „Ce Qu’on sait“\, dem Titelsong von Stefan Raabs Boxkampf gegen Regina Halmich\, der PRO 7 2001 erstmals ausgetragen hat. Das Album „DANKNER“ wurde im gleichen Jahr von TV Total Star Stefan Raab produziert und schaffte einen weiteren Radiohit „Will I ever“. Das Album und die Singles verkauften sich über 150’000 mal und erreichte Chartplatzierungen in Deutschland\, Schweiz\, Oesterreich und Italien. Bereits 1995 erhielt Tanja Dankner zusammen mit ihrem Bruder Phil Dankner den Prix Walo für das Projekt „Soul Affair“. Den Marco Rima Film „Handyman“ steuerte Tanja 2006 den Titelsong „Superwoman“ bei. Im gleichen Jahr war sie mit Rolf Knie’s „Salto Natale“ auf Tour und produzierte die Songs für den Soundtrack von „Circomania“. 2010 erschien Tanja’s erstes Soloalbum „Somewhere“. Als Special Guest konnte für den Titel „Best Friend“ die britische Soul – Legende Andrew Roachford verpflichtet werden. Die aussagekräftige Stimme der Baslerin ist zudem auf zahlreichen Albumproduktionen zu hören. So zum Beispiel: DJ Bobo\, Michael von der Heide\, Anna Rossinelli\, DJ Antoine\, DJ Jamie Lewis und DJ Cem. Weiter ist sie die Jingle Voice von Radio Energy Schweiz. Auch live ergänzt Tanja Dankner diverse Shows wie: Art on Ice\, Nelly Furtado\, Celine Dion\, Simply Red und Marc Sway. Neben ihren eigenen Projekten ist Tanja Dankner auch als Vocalcoach und Produzentin tätig. So begleitet sie seit 2012 sämtliche Schweizer Casting Shows wie „Die grössten Schweizer Talente“\, „The Voice of Switzerland“ und „Hello Again“. Als erste schweizer Künstlerin überhaupt arbeitete sie 2014 für ein deutsches Castingformat die RTL Sendung „Rising Star“. Neben den „upcoming artists“ denen das Multitalent zu einem erfolgreichen Start ins Musikbusiness verhilft ( Tanja Schäfchen Eliane Müller erreichte mit ihrem Album Goldstatus )\, sowie Trauffer und den etablierten Künstlern\, die von ihrer Erfahrung aus mehr als 20 Jahren im Geschäft profitieren\, können auch Privatpersonen ihre Dienste als Coach für Gesang und Songwriting in Anspruch nehmen.
URL:https://www.saxophonist-live.ch/saxofonist-blog/event/mister-saxr-und-nyssina-sax-singer/
LOCATION:Sanitas Troesch AG\, Zürich\, Zürich\, 8031\, Schweiz
CATEGORIES:MisterSaxr Event
ATTACH;FMTTYPE=image/jpeg:https://www.saxophonist-live.ch/saxofonist-blog/wp-content/uploads/2016/12/Mister-Saxr-Tanja-Dankner-Zurich6-e1491556455480.jpg
END:VEVENT
END:VCALENDAR