BEGIN:VCALENDAR
VERSION:2.0
PRODID:-//MisterSaxr.ch | saxophonist-LIVE.ch | Blog | Firmenanlass Hochzeiten Events Saxofonist Musiker Saxophonist Schweiz Z&uuml;rich - ECPv6.15.8//NONSGML v1.0//EN
CALSCALE:GREGORIAN
METHOD:PUBLISH
X-ORIGINAL-URL:https://www.saxophonist-live.ch/saxofonist-blog
X-WR-CALDESC:Veranstaltungen für MisterSaxr.ch | saxophonist-LIVE.ch | Blog | Firmenanlass Hochzeiten Events Saxofonist Musiker Saxophonist Schweiz Z&uuml;rich
REFRESH-INTERVAL;VALUE=DURATION:PT1H
X-Robots-Tag:noindex
X-PUBLISHED-TTL:PT1H
BEGIN:VTIMEZONE
TZID:Europe/Zurich
BEGIN:DAYLIGHT
TZOFFSETFROM:+0100
TZOFFSETTO:+0200
TZNAME:CEST
DTSTART:20180325T010000
END:DAYLIGHT
BEGIN:STANDARD
TZOFFSETFROM:+0200
TZOFFSETTO:+0100
TZNAME:CET
DTSTART:20181028T010000
END:STANDARD
BEGIN:DAYLIGHT
TZOFFSETFROM:+0100
TZOFFSETTO:+0200
TZNAME:CEST
DTSTART:20190331T010000
END:DAYLIGHT
BEGIN:STANDARD
TZOFFSETFROM:+0200
TZOFFSETTO:+0100
TZNAME:CET
DTSTART:20191027T010000
END:STANDARD
BEGIN:DAYLIGHT
TZOFFSETFROM:+0100
TZOFFSETTO:+0200
TZNAME:CEST
DTSTART:20200329T010000
END:DAYLIGHT
BEGIN:STANDARD
TZOFFSETFROM:+0200
TZOFFSETTO:+0100
TZNAME:CET
DTSTART:20201025T010000
END:STANDARD
END:VTIMEZONE
BEGIN:VEVENT
DTSTART;TZID=Europe/Zurich:20191123T160000
DTEND;TZID=Europe/Zurich:20191123T200000
DTSTAMP:20260424T113752
CREATED:20191014T100157Z
LAST-MODIFIED:20191014T100157Z
UID:2444-1574524800-1574539200@www.saxophonist-live.ch
SUMMARY:Illumination Stadt Luzern
DESCRIPTION:Die Illumination in Luzern gehört zu den eindrücklichsten Events der Kantonshauptstadt. Zeitgleich wird in Luzern die gesamte Weihnachtsbeleuchtung eingeschaltet. Bereits im letzten Jahr durften der Samichlaus (Mister Saxr) mit dem Live-Sax und den Christ Kind seinem Zauberstaub den riesigen Weihnachtsbaum vor dem KKL einschalten. Dieser emotionale Moment wird von Tausenden BesucherInnen und Besuchern miterlebt. Dieses Jahr wird die Sängerin Nyssina zusammen mit Mister Saxr auf die Bühne auftreten. Mit ihrer sanften Stimme begeistert Nyssina ein breites Publikum. Unterstützt von den weichen Saxklängen von Mister Saxr bietet das musikalische Duo Genuss vom Feinsten. Die Musiker präsentieren weihnachtliche Melodien aber auch romantische Pop-Balladen. Mit ihrer starken Bühnenpräsenz bietet die Show Unterhaltung vom Feinsten.
URL:https://www.saxophonist-live.ch/saxofonist-blog/event/illumination-stadt-luzern-2/
LOCATION:KKL\, Europaplatz 1\, Luzern\, Luzern\, 6005\, Schweiz
CATEGORIES:MisterSaxr Event
ATTACH;FMTTYPE=image/jpeg:https://www.saxophonist-live.ch/saxofonist-blog/wp-content/uploads/2017/08/K68B4608.jpg
END:VEVENT
END:VCALENDAR