BEGIN:VCALENDAR
VERSION:2.0
PRODID:-//MisterSaxr.ch | saxophonist-LIVE.ch | Blog | Firmenanlass Hochzeiten Events Saxofonist Musiker Saxophonist Schweiz Z&uuml;rich - ECPv6.15.8//NONSGML v1.0//EN
CALSCALE:GREGORIAN
METHOD:PUBLISH
X-ORIGINAL-URL:https://www.saxophonist-live.ch/saxofonist-blog
X-WR-CALDESC:Veranstaltungen für MisterSaxr.ch | saxophonist-LIVE.ch | Blog | Firmenanlass Hochzeiten Events Saxofonist Musiker Saxophonist Schweiz Z&uuml;rich
REFRESH-INTERVAL;VALUE=DURATION:PT1H
X-Robots-Tag:noindex
X-PUBLISHED-TTL:PT1H
BEGIN:VTIMEZONE
TZID:Europe/Zurich
BEGIN:DAYLIGHT
TZOFFSETFROM:+0100
TZOFFSETTO:+0200
TZNAME:CEST
DTSTART:20200329T010000
END:DAYLIGHT
BEGIN:STANDARD
TZOFFSETFROM:+0200
TZOFFSETTO:+0100
TZNAME:CET
DTSTART:20201025T010000
END:STANDARD
BEGIN:DAYLIGHT
TZOFFSETFROM:+0100
TZOFFSETTO:+0200
TZNAME:CEST
DTSTART:20210328T010000
END:DAYLIGHT
BEGIN:STANDARD
TZOFFSETFROM:+0200
TZOFFSETTO:+0100
TZNAME:CET
DTSTART:20211031T010000
END:STANDARD
BEGIN:DAYLIGHT
TZOFFSETFROM:+0100
TZOFFSETTO:+0200
TZNAME:CEST
DTSTART:20220327T010000
END:DAYLIGHT
BEGIN:STANDARD
TZOFFSETFROM:+0200
TZOFFSETTO:+0100
TZNAME:CET
DTSTART:20221030T010000
END:STANDARD
END:VTIMEZONE
BEGIN:VEVENT
DTSTART;TZID=Europe/Zurich:20210605T170000
DTEND;TZID=Europe/Zurich:20210605T230000
DTSTAMP:20260423T104219
CREATED:20210528T132145Z
LAST-MODIFIED:20210528T132145Z
UID:2851-1622912400-1622934000@www.saxophonist-live.ch
SUMMARY:Geburtstagsüberraschung
DESCRIPTION:Eine private Feier auf dem Hofladen Schlattgut in Herrliberg wird durch die warmen Saxophonklänge des Zürcher Saxofonisten Mister Saxr und die wunderbare Stimme der Sängerin Nyssina bereichert. Da es eine Ueberraschung werden wird\, sei hier noch nicht viel mehr verraten. Ausser\, dass es eine Show im privaten Rahmen werden wird. Neben dieser Show gibt es natürlich alle Bossa Nova\, Pop- und Lovesongs und auch ganz viel funkige Tanzmusik.
URL:https://www.saxophonist-live.ch/saxofonist-blog/event/geburtstagsueberraschung/
LOCATION:Schlattgut\, Schlattstrasse 67\, Herrliberg\, 8704\, Schweiz
CATEGORIES:MisterSaxr Event
END:VEVENT
END:VCALENDAR