BEGIN:VCALENDAR
VERSION:2.0
PRODID:-//MisterSaxr.ch | saxophonist-LIVE.ch | Blog | Firmenanlass Hochzeiten Events Saxofonist Musiker Saxophonist Schweiz Z&uuml;rich - ECPv6.15.8//NONSGML v1.0//EN
CALSCALE:GREGORIAN
METHOD:PUBLISH
X-ORIGINAL-URL:https://www.saxophonist-live.ch/saxofonist-blog
X-WR-CALDESC:Veranstaltungen für MisterSaxr.ch | saxophonist-LIVE.ch | Blog | Firmenanlass Hochzeiten Events Saxofonist Musiker Saxophonist Schweiz Z&uuml;rich
REFRESH-INTERVAL;VALUE=DURATION:PT1H
X-Robots-Tag:noindex
X-PUBLISHED-TTL:PT1H
BEGIN:VTIMEZONE
TZID:Europe/Zurich
BEGIN:DAYLIGHT
TZOFFSETFROM:+0100
TZOFFSETTO:+0200
TZNAME:CEST
DTSTART:20200329T010000
END:DAYLIGHT
BEGIN:STANDARD
TZOFFSETFROM:+0200
TZOFFSETTO:+0100
TZNAME:CET
DTSTART:20201025T010000
END:STANDARD
BEGIN:DAYLIGHT
TZOFFSETFROM:+0100
TZOFFSETTO:+0200
TZNAME:CEST
DTSTART:20210328T010000
END:DAYLIGHT
BEGIN:STANDARD
TZOFFSETFROM:+0200
TZOFFSETTO:+0100
TZNAME:CET
DTSTART:20211031T010000
END:STANDARD
BEGIN:DAYLIGHT
TZOFFSETFROM:+0100
TZOFFSETTO:+0200
TZNAME:CEST
DTSTART:20220327T010000
END:DAYLIGHT
BEGIN:STANDARD
TZOFFSETFROM:+0200
TZOFFSETTO:+0100
TZNAME:CET
DTSTART:20221030T010000
END:STANDARD
END:VTIMEZONE
BEGIN:VEVENT
DTSTART;TZID=Europe/Zurich:20210703T090000
DTEND;TZID=Europe/Zurich:20210703T120000
DTSTAMP:20260423T092639
CREATED:20210610T110902Z
LAST-MODIFIED:20210610T110902Z
UID:2865-1625302800-1625313600@www.saxophonist-live.ch
SUMMARY:Jura Videokonferenz
DESCRIPTION:Der Zürcher Saxofonist begleitet ein privates Firmenevent zusammen mit der Top-Sängerin Nyssina\, so wie er das seit Jahren regelmässig für JURA tun darf. Neu ist aber\, dass die geladenen über 1’000 VIP-Gäste aus der ganzen Welt nicht persönlich anreisen\, sondern virtuell zugeschalten werden. Mister Saxr und Nyssina sind jeweils die musikalische Begrüssung am Eröffnungsabend und traditionell das schweizerische Grüezi. Dies geschieht natürlich mit Hits aus der ganzen Welt\, so dass sich die Gäste von Anfang an zu Hause fühlen. Zum ersten Mal in der Geschichte wird dieses Event mit einer Videoproduktion live in alle Kontinente und in alle Länderstandorte des international tätigen Grosskonzernes übertragen. Mister Saxr’s und Nyssina’s Show wird also per Live-Stream weltweit\, diese globale Tagung eröffnen. Die Show dauert eine Stunde und der Schweizer Saxophonist und Sängerin werden auch die Pausen\, zwischen den Rednern mit Live-Musik bereichern. Die Gäste werden unterhalten mit Bossa Nova\, Pop\, Smooth Jazz\, Evergreens\, Disco\, Love-Songs und vielen weiteren Songs. Das Kult-Sax von Mister Saxr\, das Selmer Mark VI\, ist natürlich wie immer dabei. Der einzigartige Sound des begehrten Instrumentes wird an diesem Anlass weltweit ausstrahlen. Global Swiss-Sax by MisterSaxr&Nyssina. TV-Production.
URL:https://www.saxophonist-live.ch/saxofonist-blog/event/jura-videokonferenz/
LOCATION:ZH
CATEGORIES:MisterSaxr Event
ATTACH;FMTTYPE=image/jpeg:https://www.saxophonist-live.ch/saxofonist-blog/wp-content/uploads/2019/06/A_Mister_Saxr_Nyssina_ZürcherSaxophonist_Duo.jpg
END:VEVENT
END:VCALENDAR