BEGIN:VCALENDAR
VERSION:2.0
PRODID:-//MisterSaxr.ch | saxophonist-LIVE.ch | Blog | Firmenanlass Hochzeiten Events Saxofonist Musiker Saxophonist Schweiz Z&uuml;rich - ECPv6.15.8//NONSGML v1.0//EN
CALSCALE:GREGORIAN
METHOD:PUBLISH
X-ORIGINAL-URL:https://www.saxophonist-live.ch/saxofonist-blog
X-WR-CALDESC:Veranstaltungen für MisterSaxr.ch | saxophonist-LIVE.ch | Blog | Firmenanlass Hochzeiten Events Saxofonist Musiker Saxophonist Schweiz Z&uuml;rich
REFRESH-INTERVAL;VALUE=DURATION:PT1H
X-Robots-Tag:noindex
X-PUBLISHED-TTL:PT1H
BEGIN:VTIMEZONE
TZID:Europe/Zurich
BEGIN:DAYLIGHT
TZOFFSETFROM:+0100
TZOFFSETTO:+0200
TZNAME:CEST
DTSTART:20240331T010000
END:DAYLIGHT
BEGIN:STANDARD
TZOFFSETFROM:+0200
TZOFFSETTO:+0100
TZNAME:CET
DTSTART:20241027T010000
END:STANDARD
BEGIN:DAYLIGHT
TZOFFSETFROM:+0100
TZOFFSETTO:+0200
TZNAME:CEST
DTSTART:20250330T010000
END:DAYLIGHT
BEGIN:STANDARD
TZOFFSETFROM:+0200
TZOFFSETTO:+0100
TZNAME:CET
DTSTART:20251026T010000
END:STANDARD
BEGIN:DAYLIGHT
TZOFFSETFROM:+0100
TZOFFSETTO:+0200
TZNAME:CEST
DTSTART:20260329T010000
END:DAYLIGHT
BEGIN:STANDARD
TZOFFSETFROM:+0200
TZOFFSETTO:+0100
TZNAME:CET
DTSTART:20261025T010000
END:STANDARD
END:VTIMEZONE
BEGIN:VEVENT
DTSTART;TZID=Europe/Zurich:20250708T180000
DTEND;TZID=Europe/Zurich:20250708T210000
DTSTAMP:20260422T162502
CREATED:20240821T123120Z
LAST-MODIFIED:20250218T085309Z
UID:3961-1751997600-1752008400@www.saxophonist-live.ch
SUMMARY:Mister Saxr am Fusse des Flimsersteins
DESCRIPTION:Am Dienstag\, dem 8. Juli 2025\, erwartet Sie im Signinahotel in Laax ein unvergesslicher Sommerabend! Von 18:00 bis 21:00 Uhr wird Mister Saxr\, der bekannte Saxophonist aus Flims\, den Hotelgarten in eine musikalische Oase verwandeln. Geniessen Sie dabei das köstliche Sommer-BBQ und die entspannte Atmosphäre. Mister Saxr\, der für seine charismatischen Auftritte und seine Vielseitigkeit bekannt ist\, wird Sie mit einer Mischung aus Pop über Bossa-Nova und Smooth-Jazz bis hin zu aktuellen Hits und Evergreens begeistern. Ein Abend voller Genuss und musikalischer Höhepunkte erwartet Sie! \nDer Flimserstein\, ein markanter Felsen oberhalb von Flims\, ist ein beeindruckendes Naturwunder. Dieser imposante Felsvorsprung bietet eine atemberaubende Aussicht auf die umliegende Berglandschaft und ist ein beliebtes Ziel für Wanderer und Naturliebhaber. Im Sommer ist der Flimserstein ein idealer Ort\, um die Schönheit der Schweizer Alpen zu erleben. Während Sie die atemberaubende Aussicht auf die Berglandschaft geniessen\, untermalt Mister Saxr mit seinen melodischen Klängen diese majestätische Kulisse. Die Wanderwege führen durch malerische Wälder und über blühende Wiesen bis hinauf zu diesem majestätischen Felsen. Der Ausblick von oben ist einfach überwältigend und bietet ein Panorama\, das Sie so schnell nicht vergessen werden. \nDer Caumasee\, auch bekannt als die “Perle von Flims”\, ist ein weiteres Highlight der Region. Dieser türkisfarbene See\, umgeben von dichten Wäldern\, ist der perfekte Ort\, um an heissen Sommertagen Abkühlung zu finden. Der See lädt zum Schwimmen\, Bootfahren oder einfach zum Entspannen am Ufer ein. Die idyllische Lage und das kristallklare Wasser machen den Caumasee zu einem beliebten Ziel für Einheimische und Touristen gleichermassen. Ein Besuch dieses Sees ist ein Muss für jeden\, der die Region Flims-Laax erkundet. Nebst diesem Hotspot bietet die Surselva Region weitere wunderschöne Seen. Ein weiteres Highlight ist der Crestasee. An Beiden dieser Seen durfte Mister Saxr seine Gäste schon mit seiner Musik verzaubern. \nDie Rheinschlucht\, oft als “Grand Canyon der Schweiz” bezeichnet\, ist ein weiteres Naturwunder in der Nähe von Laax. Diese beeindruckende Schlucht\, die vom Rhein im Laufe von Jahrtausenden geformt wurde\, bietet spektakuläre Aussichten und zahlreiche Möglichkeiten für Outdoor-Aktivitäten. Die Kombination aus imposanten Felsformationen und dem rauschenden Fluss macht diesen Ort zu einem unvergesslichen Erlebnis. \nErleben Sie die Schönheit von Laax und Umgebung im Sommer und geniessen Sie einen unvergesslichen Abend im Signinahotel. Mister Saxr wird mit seiner Musik den perfekten Rahmen für einen entspannten und unterhaltsamen Abend schaffen\, während Sie die kulinarischen Köstlichkeiten des Sommer-BBQs geniessen. Lassen Sie sich von der Magie der Natur und der Musik verzaubern und verbringen Sie einen unvergesslichen Abend in Laax.
URL:https://www.saxophonist-live.ch/saxofonist-blog/event/mister-saxr-am-fusse-des-flimsersteins/
LOCATION:Signinahotel\, Via Murschetg 15\, Laax\, 7032
CATEGORIES:MisterSaxr Event
ATTACH;FMTTYPE=image/png:https://www.saxophonist-live.ch/saxofonist-blog/wp-content/uploads/2024/08/20240821-Mister-Saxr_Signina-hotel-Laax.png
END:VEVENT
BEGIN:VEVENT
DTSTART;TZID=Europe/Zurich:20250715T180000
DTEND;TZID=Europe/Zurich:20250715T210000
DTSTAMP:20260422T162502
CREATED:20240821T121934Z
LAST-MODIFIED:20240821T130718Z
UID:3953-1752602400-1752613200@www.saxophonist-live.ch
SUMMARY:Sommerklänge in Laax mit Mister Saxr
DESCRIPTION:Erleben Sie zauberhafte Sommerabende im Signinahotel in Laax! Am Dienstag\, dem 15. Juli 2025\, von 18:00 bis 21:00 Uhr\, wird Mister Saxr\, der renommierte Saxophonist aus Flims\, Sie mit seinen mitreissenden Klängen verzaubern. Geniessen Sie die besondere Atmosphäre im Hotelgarten und lassen Sie sich beim Sommer-BBQ kulinarisch verwöhnen. Dieser Abend verspricht unvergessliche Momente mit grossartiger Musik und exquisiten Grillspezialitäten. Während Mister Saxr mit einer einzigartigen Mischung aus Pop\, Bossa-Nova\, Smooth-Jazz und Evergreens den Abend begleitet\, werden Sie unvergessliche Momente inmitten der alpinen Sommerlandschaft erleben. \nLaax ist nicht nur ein beliebter Wintersportort\, sondern auch im Sommer ein wahres Paradies. Eingebettet in die beeindruckende Landschaft der Bündner Alpen\, bietet Laax eine Vielzahl von Aktivitäten für Naturliebhaber und Abenteurer. Die Region ist bekannt für ihre erstklassigen Wanderwege\, die sowohl für gemütliche Spaziergänge als auch für anspruchsvolle Bergtouren geeignet sind. Im Sommer verwandeln sich die Skipisten in grüne Wiesen\, die zum Wandern\, Mountainbiken oder einfach zum Entspannen einladen. Laax ist der ideale Ort\, um die Schönheit der Schweizer Alpen zu entdecken und den Alltagsstress hinter sich zu lassen. Egal\, ob Sie die atemberaubenden Berge erkunden oder sich einfach nur entspannen möchten\, Mister Saxrs Musik wird Ihnen dabei die perfekte Begleitung sein. \nDie Sommerferien in Laax sind eine Zeit der Entspannung und des Genusses. Familien\, Paare und Einzelreisende finden hier eine perfekte Mischung aus Abenteuer und Erholung. Die warmen Sommertage laden dazu ein\, die Natur in vollen Zügen zu geniessen\, sei es bei einer Wanderung durch die Berglandschaft\, einem Bad in einem der klaren Bergseen oder bei einem gemütlichen Picknick in der Natur. Nach einem erlebnisreichen Tag gibt es nichts schöneres als den Saxophonklängen von Mister Saxr zu lauschen und den Sommerabend gemütlich ausklingen zu lassen. Die Sommerferien bieten die perfekte Gelegenheit\, neue Energie zu tanken und unvergessliche Momente mit den Liebsten zu teilen. \nDer Sommer in Laax ist ein Erlebnis für alle Sinne\, und Mister Saxr trägt mit seiner Musik entscheidend dazu bei. Die frische Bergluft\, das Rauschen der Bäche und das satte Grün der Wiesen schaffen eine Atmosphäre der Ruhe und Erholung. Die warmen Sonnenstrahlen und die klare Bergluft machen jeden Tag zu einem besonderen Erlebnis. Ob Sie die Natur erkunden\, sich sportlich betätigen oder einfach die Seele baumeln lassen möchten – der Sommer in Laax bietet für jeden etwas. Lassen Sie sich von der Schönheit der Landschaft inspirieren und geniessen Sie die langen\, warmen Abende im Signinahotel\, während Mister Saxr Sie mit seiner Musik verzaubert.
URL:https://www.saxophonist-live.ch/saxofonist-blog/event/sommerklaenge-in-laax-mit-mister-saxr/
LOCATION:signina hotel\, Via Murschetg 15\, Laax\, 7032\, Schweiz
CATEGORIES:MisterSaxr Event
ATTACH;FMTTYPE=image/png:https://www.saxophonist-live.ch/saxofonist-blog/wp-content/uploads/2024/08/20240821-Mister-Saxr_Signina-hotel-Laax_Flims.png
END:VEVENT
END:VCALENDAR