BEGIN:VCALENDAR
VERSION:2.0
PRODID:-//MisterSaxr.ch | saxophonist-LIVE.ch | Blog | Firmenanlass Hochzeiten Events Saxofonist Musiker Saxophonist Schweiz Z&uuml;rich - ECPv6.15.8//NONSGML v1.0//EN
CALSCALE:GREGORIAN
METHOD:PUBLISH
X-WR-CALNAME:MisterSaxr.ch | saxophonist-LIVE.ch | Blog | Firmenanlass Hochzeiten Events Saxofonist Musiker Saxophonist Schweiz Z&uuml;rich
X-ORIGINAL-URL:https://www.saxophonist-live.ch/saxofonist-blog
X-WR-CALDESC:Veranstaltungen für MisterSaxr.ch | saxophonist-LIVE.ch | Blog | Firmenanlass Hochzeiten Events Saxofonist Musiker Saxophonist Schweiz Z&uuml;rich
REFRESH-INTERVAL;VALUE=DURATION:PT1H
X-Robots-Tag:noindex
X-PUBLISHED-TTL:PT1H
BEGIN:VTIMEZONE
TZID:Europe/Zurich
BEGIN:DAYLIGHT
TZOFFSETFROM:+0100
TZOFFSETTO:+0200
TZNAME:CEST
DTSTART:20210328T010000
END:DAYLIGHT
BEGIN:STANDARD
TZOFFSETFROM:+0200
TZOFFSETTO:+0100
TZNAME:CET
DTSTART:20211031T010000
END:STANDARD
BEGIN:DAYLIGHT
TZOFFSETFROM:+0100
TZOFFSETTO:+0200
TZNAME:CEST
DTSTART:20220327T010000
END:DAYLIGHT
BEGIN:STANDARD
TZOFFSETFROM:+0200
TZOFFSETTO:+0100
TZNAME:CET
DTSTART:20221030T010000
END:STANDARD
BEGIN:DAYLIGHT
TZOFFSETFROM:+0100
TZOFFSETTO:+0200
TZNAME:CEST
DTSTART:20230326T010000
END:DAYLIGHT
BEGIN:STANDARD
TZOFFSETFROM:+0200
TZOFFSETTO:+0100
TZNAME:CET
DTSTART:20231029T010000
END:STANDARD
END:VTIMEZONE
BEGIN:VEVENT
DTSTART;TZID=Europe/Zurich:20220703T140000
DTEND;TZID=Europe/Zurich:20220703T180000
DTSTAMP:20260423T143542
CREATED:20220225T114339Z
LAST-MODIFIED:20220228T140841Z
UID:3080-1656856800-1656871200@www.saxophonist-live.ch
SUMMARY:Vernissage „Skulptura“ 2022 im Schweizerhof Flims
DESCRIPTION:Mister Saxr\, der leidenschaftliche Saxophonist und wohnhaft in Flims tritt dieses Jahr bereits zum fünften Mal an der Vernissage «Skulptura» im Hotel Schweizerhof in Flims auf.  Er baut dabei auch auf sein grosses Repertoire an Liedern verschiedener Genres. Lieder aus Bossa-Nova-Smooth Jazz\, Rock & Roll und Pop\, aber auch Party-Songs aktuelle Hits und Klassiker werden von ihm\, auf seinem Sax\, in den schönsten Variationen wiedergegeben. \nDas romantische Hotel mitten in den Bündner Alpen lädt ein zur Erholung und Entspannung und ist nur wenige Gehminuten vom Caumasee\, dem beliebten Fotomotiv\, entfernt.
URL:https://www.saxophonist-live.ch/saxofonist-blog/event/vernissage-skulptura-2022-im-schweizerhof-flims/
LOCATION:Hotel Schweizerhof Flims\, Rudi Dadens 1\, Flims Waldhaus\, Graubünden\, 7018\, Schweiz
CATEGORIES:MisterSaxr Event
ATTACH;FMTTYPE=image/jpeg:https://www.saxophonist-live.ch/saxofonist-blog/wp-content/uploads/2018/09/MISTERSAXR_7397.jpg
END:VEVENT
END:VCALENDAR