BEGIN:VCALENDAR
VERSION:2.0
PRODID:-//MisterSaxr.ch | saxophonist-LIVE.ch | Blog | Firmenanlass Hochzeiten Events Saxofonist Musiker Saxophonist Schweiz Z&uuml;rich - ECPv6.15.8//NONSGML v1.0//EN
CALSCALE:GREGORIAN
METHOD:PUBLISH
X-ORIGINAL-URL:https://www.saxophonist-live.ch/saxofonist-blog
X-WR-CALDESC:Veranstaltungen für MisterSaxr.ch | saxophonist-LIVE.ch | Blog | Firmenanlass Hochzeiten Events Saxofonist Musiker Saxophonist Schweiz Z&uuml;rich
REFRESH-INTERVAL;VALUE=DURATION:PT1H
X-Robots-Tag:noindex
X-PUBLISHED-TTL:PT1H
BEGIN:VTIMEZONE
TZID:Europe/Zurich
BEGIN:DAYLIGHT
TZOFFSETFROM:+0100
TZOFFSETTO:+0200
TZNAME:CEST
DTSTART:20220327T010000
END:DAYLIGHT
BEGIN:STANDARD
TZOFFSETFROM:+0200
TZOFFSETTO:+0100
TZNAME:CET
DTSTART:20221030T010000
END:STANDARD
BEGIN:DAYLIGHT
TZOFFSETFROM:+0100
TZOFFSETTO:+0200
TZNAME:CEST
DTSTART:20230326T010000
END:DAYLIGHT
BEGIN:STANDARD
TZOFFSETFROM:+0200
TZOFFSETTO:+0100
TZNAME:CET
DTSTART:20231029T010000
END:STANDARD
BEGIN:DAYLIGHT
TZOFFSETFROM:+0100
TZOFFSETTO:+0200
TZNAME:CEST
DTSTART:20240331T010000
END:DAYLIGHT
BEGIN:STANDARD
TZOFFSETFROM:+0200
TZOFFSETTO:+0100
TZNAME:CET
DTSTART:20241027T010000
END:STANDARD
END:VTIMEZONE
BEGIN:VEVENT
DTSTART;TZID=Europe/Zurich:20230607T170000
DTEND;TZID=Europe/Zurich:20230607T220000
DTSTAMP:20260424T031645
CREATED:20230223T151337Z
LAST-MODIFIED:20230223T151520Z
UID:3368-1686157200-1686175200@www.saxophonist-live.ch
SUMMARY:Kundenveranstaltung im Fischer’s Fritz
DESCRIPTION:Mister Saxr\, der leidenschaftliche Saxophonist und Solo-Künstler tritt für einen Kundenanlass der Rolf Schlagenhauf AG unter freiem Himmel auf. Passend für dieses Ambiente speilt Mister Saxr eine erfrischende und sommerliche Interpretation aus den schönsten Liedern aller Genres. Zu seinem Programm gehören Smooth Jazz\, Bossa-Nova\, Pop\, Rock aber auch Partysongs und aktuelle Hits aus der Hit-Parade. \nDie Schlagenhauf AG\, mit mehreren Standorten im Kanton Zürich laden zu einem Kundenanlass ins Fischers Fritz in Wollishofen mit dem schönsten Blick auf den See einem Raritäten-Weinkeller und eigenem Hausfischer bietet Sie alles\, was das Herz begehrt\, mit passender Musik steht einem unvergesslichen Abend mit Strand-Feeling nichts im Wege. Die Lokalität\, direkt am Wasser\, verfügt über eine wunderschöne Terrasse mit Lounge und Bar\, kurz alles was es für ein einzigartiges Zürichsee-Feeling braucht. \nSonnenuntergang über dem Seebecken\, Openair-Felling am Zürcher Seeufer in Wollishofen\, die wohltuende und erfrischend Seeluft zusammen mit den feinsten und entspannenden Sax-Melodien\, aus dem Selmer Mark VI\, lassen diesen Abend zu einem unvergesslichen Erlebnis werden.
URL:https://www.saxophonist-live.ch/saxofonist-blog/event/kundenveranstaltung-im-fischers-fritz-2/
LOCATION:Fischer‘s Fritz\, Seestrasse 557\, Zürich\, 8038\, Schweiz
CATEGORIES:MisterSaxr Event
ATTACH;FMTTYPE=image/jpeg:https://www.saxophonist-live.ch/saxofonist-blog/wp-content/uploads/2022/07/Wedding_MisterSaxr_Saxophonist.jpg
END:VEVENT
END:VCALENDAR