BEGIN:VCALENDAR
VERSION:2.0
PRODID:-//MisterSaxr.ch | saxophonist-LIVE.ch | Blog | Firmenanlass Hochzeiten Events Saxofonist Musiker Saxophonist Schweiz Z&uuml;rich - ECPv6.15.8//NONSGML v1.0//EN
CALSCALE:GREGORIAN
METHOD:PUBLISH
X-ORIGINAL-URL:https://www.saxophonist-live.ch/saxofonist-blog
X-WR-CALDESC:Veranstaltungen für MisterSaxr.ch | saxophonist-LIVE.ch | Blog | Firmenanlass Hochzeiten Events Saxofonist Musiker Saxophonist Schweiz Z&uuml;rich
REFRESH-INTERVAL;VALUE=DURATION:PT1H
X-Robots-Tag:noindex
X-PUBLISHED-TTL:PT1H
BEGIN:VTIMEZONE
TZID:Europe/Zurich
BEGIN:DAYLIGHT
TZOFFSETFROM:+0100
TZOFFSETTO:+0200
TZNAME:CEST
DTSTART:20230326T010000
END:DAYLIGHT
BEGIN:STANDARD
TZOFFSETFROM:+0200
TZOFFSETTO:+0100
TZNAME:CET
DTSTART:20231029T010000
END:STANDARD
BEGIN:DAYLIGHT
TZOFFSETFROM:+0100
TZOFFSETTO:+0200
TZNAME:CEST
DTSTART:20240331T010000
END:DAYLIGHT
BEGIN:STANDARD
TZOFFSETFROM:+0200
TZOFFSETTO:+0100
TZNAME:CET
DTSTART:20241027T010000
END:STANDARD
BEGIN:DAYLIGHT
TZOFFSETFROM:+0100
TZOFFSETTO:+0200
TZNAME:CEST
DTSTART:20250330T010000
END:DAYLIGHT
BEGIN:STANDARD
TZOFFSETFROM:+0200
TZOFFSETTO:+0100
TZNAME:CET
DTSTART:20251026T010000
END:STANDARD
END:VTIMEZONE
BEGIN:VEVENT
DTSTART;TZID=Europe/Zurich:20240605T170000
DTEND;TZID=Europe/Zurich:20240605T220000
DTSTAMP:20260421T122945
CREATED:20230609T094813Z
LAST-MODIFIED:20230609T094813Z
UID:3542-1717606800-1717624800@www.saxophonist-live.ch
SUMMARY:Kundenanlass im Fischer’s Fritz
DESCRIPTION:Mister Saxr\, der leidenschaftliche Saxophonist und Solo-Künstler\, tritt unter freiem Himmel für einen Kundenanlass der Rolf Schlagenhauf AG auf. Passend für dieses Ambiente wird Mister Saxr eine erfrischende und sommerliche Interpretation aus den schönsten Liedern aller Genres spielen. Sein Programm umfasst Smooth Jazz\, Bossa-Nova\, Pop\, Rock sowie Partysongs und aktuelle Hits aus der Hit-Parade. \nDie Schlagenhauf AG\, mit mehreren Standorten im Kanton Zürich\, lädt zu einem Kundenanlass ins Fischers Fritz in Wollishofen ein. Mit dem wunderschönen Blick auf den See\, einem Raritäten-Weinkeller und einem eigenen Hausfischer bietet das Fischers Fritz alles\, was das Herz begehrt. Mit der passenden Musik steht einem unvergesslichen Abend mit Strand-Feeling nichts im Wege. Die Lokalität liegt direkt am Wasser und verfügt über eine wunderschöne Terrasse mit Lounge und Bar – alles\, was es für ein einzigartiges Zürichsee-Feeling braucht. \nGeniessen Sie den Sonnenuntergang über dem Seebecken und erleben Sie das Open-Air-Feeling am Zürcher Seeufer in Wollishofen. Die wohltuende und erfrischende Seeluft zusammen mit den feinsten und entspannenden Saxophon-Melodien aus dem Selmer Mark VI lassen diesen Abend zu einem unvergesslichen Erlebnis werden. \nNeben der atemberaubenden Atmosphäre und der mitreissenden Musik versprechen auch die besten Fischknusperli am Zürichsee ein Highlight zu werden. Diese Delikatesse verwöhnt den Gaumen mit knusprigem\, frisch zubereitetem Fisch\, der perfekt mit Beilagen und Saucen harmoniert. Die Fischknusperli im Fischers Fritz sind ein absolutes Highlight und ergänzen das Strand-Feeling dieses einzigartigen Kundenanlasses am Zürichsee. \nDas Fischers Fritz gehört zur Pumwerkstatt Gastro Group von Michél Peclard\, dem erfahrenen Gastronomen und ehemaligen Buchhalter mit einem ausgezeichneten Geschmack und einer Passion für kulinarisches. Die Gruppe umfasst diverse Betriebe in der ganzen Region\, unter anderem die Inselwirtschaft Ufenau\, das L’O in Horgen oder das Rooftop Restaurant an der Zürcher Bahnhofstrasse. Ausserdem das bekannte und namensgebende Pumpwerk und neu die Seebadi in Richterswil. Mister Saxr durfte bereits in einige Auftritte in den Ambienten der Gruppe aufführen. \nEingetaucht in einen entspannten Abend voller Musik\, gutem Essen und einer traumhaften Kulisse. Mister Saxr wird die Gäste mit seiner Leidenschaft für das Saxophonspiel begeistern und zusammen mit den Fischknusperli im Fischers Fritz wird dieser Abend zu einem unvergesslichen Erlebnis für alle Sinne.
URL:https://www.saxophonist-live.ch/saxofonist-blog/event/kundenanlass-im-fischers/
LOCATION:Fischer‘s Fritz\, Seestrasse 557\, Zürich\, 8038\, Schweiz
CATEGORIES:MisterSaxr Event
ATTACH;FMTTYPE=image/jpeg:https://www.saxophonist-live.ch/saxofonist-blog/wp-content/uploads/2019/03/Saxophonist-Musiker-Schiff-Boot-Walensee-Murtensee-1-e1686304064556.jpg
END:VEVENT
END:VCALENDAR