BEGIN:VCALENDAR
VERSION:2.0
PRODID:-//MisterSaxr.ch | saxophonist-LIVE.ch | Blog | Firmenanlass Hochzeiten Events Saxofonist Musiker Saxophonist Schweiz Z&uuml;rich - ECPv6.15.8//NONSGML v1.0//EN
CALSCALE:GREGORIAN
METHOD:PUBLISH
X-ORIGINAL-URL:https://www.saxophonist-live.ch/saxofonist-blog
X-WR-CALDESC:Veranstaltungen für MisterSaxr.ch | saxophonist-LIVE.ch | Blog | Firmenanlass Hochzeiten Events Saxofonist Musiker Saxophonist Schweiz Z&uuml;rich
REFRESH-INTERVAL;VALUE=DURATION:PT1H
X-Robots-Tag:noindex
X-PUBLISHED-TTL:PT1H
BEGIN:VTIMEZONE
TZID:Europe/Zurich
BEGIN:DAYLIGHT
TZOFFSETFROM:+0100
TZOFFSETTO:+0200
TZNAME:CEST
DTSTART:20240331T010000
END:DAYLIGHT
BEGIN:STANDARD
TZOFFSETFROM:+0200
TZOFFSETTO:+0100
TZNAME:CET
DTSTART:20241027T010000
END:STANDARD
BEGIN:DAYLIGHT
TZOFFSETFROM:+0100
TZOFFSETTO:+0200
TZNAME:CEST
DTSTART:20250330T010000
END:DAYLIGHT
BEGIN:STANDARD
TZOFFSETFROM:+0200
TZOFFSETTO:+0100
TZNAME:CET
DTSTART:20251026T010000
END:STANDARD
BEGIN:DAYLIGHT
TZOFFSETFROM:+0100
TZOFFSETTO:+0200
TZNAME:CEST
DTSTART:20260329T010000
END:DAYLIGHT
BEGIN:STANDARD
TZOFFSETFROM:+0200
TZOFFSETTO:+0100
TZNAME:CET
DTSTART:20261025T010000
END:STANDARD
END:VTIMEZONE
BEGIN:VEVENT
DTSTART;TZID=Europe/Zurich:20250809T180000
DTEND;TZID=Europe/Zurich:20250809T210000
DTSTAMP:20260422T173034
CREATED:20250620T140849Z
LAST-MODIFIED:20250620T140849Z
UID:4224-1754762400-1754773200@www.saxophonist-live.ch
SUMMARY:Mister Saxr solo – Klangvoller Genuss im Signina Garden\, Laax
DESCRIPTION:Alpenluft\, Gourmetduft und feinste Saxophonklänge: Beim Event „Rocks de saveurs“ – der Kitchenparty im Signina Garden des Hotel Signina in Laax sorgt Mister Saxr solo für das musikalische Highlight. Eingebettet in das stilvolle Ambiente des rocksresort\, bringt er seinen charakteristischen Sound inmitten einer entspannten\, kulinarisch inspirierten Atmosphäre zum Klingen. \nDie Gäste flanieren zwischen den Live-Cooking-Stationen\, verkosten regionale Spezialitäten und internationale Genüsse – während Mister Saxr mit seinem Saxophon durch den Garten spielt\, die Stimmung aufnimmt und ihr mit jedem Ton eine neue Nuance verleiht. Solo\, aber nicht allein: Denn seine Musik verbindet. Sie untermalt Gespräche\, verstärkt Eindrücke und verleiht dem Event die gewisse Leichtigkeit\, die man nur live erleben kann. \nSignina Garden – ein Ort\, an dem Geschmack und Klang zusammenfinden \nDer Signina Garden\, direkt beim Hotel Signina im Herzen des rocksresorts\, ist mehr als nur ein Aussenbereich – er ist eine Bühne für sinnliche Erlebnisse. Umgeben von modernem Alpenflair und der imposanten Bergkulisse von Laax\, wird die Garden-Party zur perfekten Kulisse für eine besondere Klangfarbe: das Saxophonspiel von Mister Saxr. \nFür Mister Saxr ist dieser Ort ideal – offen\, lebendig und dennoch stilvoll. Während Spitzenköche vor Ort frisch zubereiten\, spielt er live und passt sein Repertoire flexibel dem Geschehen an. Mal ruhig und atmosphärisch\, wenn die Gäste genussvoll probieren\, mal rhythmischer und animierend\, wenn die Gespräche lebhafter werden. Der Signina Garden wird so zum Klangraum\, der durch Mister Saxr Solo-Performance erst seine volle Wirkung entfaltet. \nSaxophon als Geschmacksträger – Mister Saxr live bei „Rocks de saveurs“ \n„Rocks de saveurs“ steht für hochwertigen Genuss\, für Kreativität\, für Vielfalt – und genau diese Werte spiegeln sich auch in Mister Saxrs Musik wider. Solo aufzutreten bedeutet für ihn\, mit absoluter Präsenz zu spielen: jede Phrase bewusst\, jeder Ton in direkter Resonanz mit dem Moment. \nSein Saxophon wird dabei zum akustischen Begleiter des kulinarischen Erlebnisses – ein feiner Hauch Jazz hier\, ein Hauch Lounge da\, stets stilvoll\, nie aufdringlich. Für Mister Saxr ist ein Event wie dieser mehr als nur ein Gig: Es ist ein Ort\, an dem er seinen Sound in ein Gesamterlebnis einwebt. So wie die Gäste verschiedene Aromen entdecken\, entdecken sie auch immer neue Klangschichten – live\, ehrlich und mit viel Gefühl. \nWer bei „Rocks de saveurs“ im Signina Garden dabei ist\, erlebt nicht nur Kulinarik auf höchstem Niveau\, sondern auch\, wie Musik ein Fest bereichern kann – dezent\, stilvoll und emotional. Mister Saxr solo macht genau das: Er gibt dem Event einen Klang\, der bleibt.
URL:https://www.saxophonist-live.ch/saxofonist-blog/event/mister-saxr-solo-klangvoller-genuss-im-signina-garden-laax/
LOCATION:Restaurant Camino\, Via Murschteg 15\, Laax\, 7032\, Schweiz
CATEGORIES:MisterSaxr Event
ATTACH;FMTTYPE=image/jpeg:https://www.saxophonist-live.ch/saxofonist-blog/wp-content/uploads/2024/08/MisterSaxr_BestOf_Event_Saxophonist_BAND_SummerParty_190207-e1724245035150.jpg
END:VEVENT
BEGIN:VEVENT
DTSTART;TZID=Europe/Zurich:20250812T180000
DTEND;TZID=Europe/Zurich:20250812T210000
DTSTAMP:20260422T173034
CREATED:20240821T124244Z
LAST-MODIFIED:20240821T130943Z
UID:3965-1755021600-1755032400@www.saxophonist-live.ch
SUMMARY:Sommerausklang in Laax mit Mister Saxr
DESCRIPTION:Verbringen Sie einen wundervollen Sommerabend im Signinahotel in Laax am Dienstag\, dem 12. August 2025! Von 18:00 bis 21:00 Uhr wird Mister Saxr\, der talentierte Saxophonist aus Flims\, die Gäste mit seinen melodischen Saxophonklängen verzaubern. Lassen Sie sich von der besonderen Atmosphäre im Hotelgarten und einem köstlichen Sommer-BBQ verwöhnen. Mister Saxr\, bekannt für seine fesselnden Live-Auftritte und sein breites Repertoire\, wird mit seiner Musik für unvergessliche Momente sorgen. Ein Abend voller Entspannung\, Genuss und musikalischer Highlights erwartet Sie. \nDas Ende des Sommers ist eine besondere Zeit in den Alpen. Die Temperaturen sind noch angenehm warm\, aber die kühle Bergluft kündigt bereits den Wechsel der Jahreszeiten an. Während die Tage langsam kürzer werden und die Natur sich auf den Herbst vorbereitet\, sorgt Mister Saxr mit seinen vielseitigen Klängen für eine besondere Stimmung. Seine Musik\, die den sanften Übergang zwischen den Jahreszeiten perfekt einfängt\, begleitet Sie durch die letzten warmen Tage und macht jeden Moment zu einem besonderen Erlebnis. \nDer kommende Herbst in Laax ist eine Zeit voller Farben und Kontraste. Die Wälder beginnen\, sich in ein leuchtendes Mosaik aus Gelb\, Orange und Rot zu verwandeln\, während die Berggipfel bereits mit den ersten Schneeflocken bedeckt sind. Diese Jahreszeit\, oft als “Indian Summer” bezeichnet\, bietet eine atemberaubende Kulisse für Wanderungen und Spaziergänge durch die herbstliche Landschaft. Der Indian Summer ist in den Alpen eine kurze\, aber besonders intensive Zeit\, in der die Natur in ihrer ganzen Pracht erstrahlt und die Herzen der Menschen berührt. Mister Saxrs Musik spiegelt die Schönheit und die ruhige Gelassenheit des Indian Summers wider und schafft eine einzigartige Atmosphäre\, die die Vorfreude auf den Herbst noch steigert. \nDie Farben des Indian Summers sind ein Fest für die Sinne\, das durch die Musik von Mister Saxr perfekt ergänzt wird. Die goldenen Blätter der Bäume\, das tiefe Blau des Himmels und das glitzernde Weiss der ersten Schneekristalle bilden einen wunderschönen Kontrast\, der die Schönheit der Natur in den Alpen unterstreicht. Diese Zeit des Jahres lädt dazu ein\, die Ruhe und Gelassenheit der Natur zu geniessen\, sich auf die kommende Kälte vorzubereiten und die letzten warmen Sonnenstrahlen einzufangen. Es ist die perfekte Gelegenheit\, um die Seele baumeln zu lassen und die Natur in ihrer ganzen Fülle zu erleben. \nNutzen Sie die letzten warmen Sommerabende und geniessen Sie einen unvergesslichen Abend im Signinahotel in Laax. Mister Saxr wird mit seiner Musik den perfekten Rahmen für diesen besonderen Moment schaffen\, während Sie die kulinarischen Köstlichkeiten des Sommer-BBQs geniessen. Lassen Sie sich von der Atmosphäre verzaubern und erleben Sie einen Abend\, der die Schönheit des Sommers und die Vorfreude auf den Herbst miteinander verbindet.
URL:https://www.saxophonist-live.ch/saxofonist-blog/event/sommerausklang-in-laax-mit-mister-saxr/
LOCATION:signina hotel\, Via Murschetg 15\, Laax\, 7032\, Schweiz
CATEGORIES:MisterSaxr Event
ATTACH;FMTTYPE=image/png:https://www.saxophonist-live.ch/saxofonist-blog/wp-content/uploads/2024/08/20240821-Mister-Saxr_Signina-hotel-Laax_Saxophonist.png
END:VEVENT
END:VCALENDAR