BEGIN:VCALENDAR
VERSION:2.0
PRODID:-//MisterSaxr.ch | saxophonist-LIVE.ch | Blog | Firmenanlass Hochzeiten Events Saxofonist Musiker Saxophonist Schweiz Z&uuml;rich - ECPv6.15.8//NONSGML v1.0//EN
CALSCALE:GREGORIAN
METHOD:PUBLISH
X-ORIGINAL-URL:https://www.saxophonist-live.ch/saxofonist-blog
X-WR-CALDESC:Veranstaltungen für MisterSaxr.ch | saxophonist-LIVE.ch | Blog | Firmenanlass Hochzeiten Events Saxofonist Musiker Saxophonist Schweiz Z&uuml;rich
REFRESH-INTERVAL;VALUE=DURATION:PT1H
X-Robots-Tag:noindex
X-PUBLISHED-TTL:PT1H
BEGIN:VTIMEZONE
TZID:Europe/Zurich
BEGIN:DAYLIGHT
TZOFFSETFROM:+0100
TZOFFSETTO:+0200
TZNAME:CEST
DTSTART:20210328T010000
END:DAYLIGHT
BEGIN:STANDARD
TZOFFSETFROM:+0200
TZOFFSETTO:+0100
TZNAME:CET
DTSTART:20211031T010000
END:STANDARD
BEGIN:DAYLIGHT
TZOFFSETFROM:+0100
TZOFFSETTO:+0200
TZNAME:CEST
DTSTART:20220327T010000
END:DAYLIGHT
BEGIN:STANDARD
TZOFFSETFROM:+0200
TZOFFSETTO:+0100
TZNAME:CET
DTSTART:20221030T010000
END:STANDARD
BEGIN:DAYLIGHT
TZOFFSETFROM:+0100
TZOFFSETTO:+0200
TZNAME:CEST
DTSTART:20230326T010000
END:DAYLIGHT
BEGIN:STANDARD
TZOFFSETFROM:+0200
TZOFFSETTO:+0100
TZNAME:CET
DTSTART:20231029T010000
END:STANDARD
END:VTIMEZONE
BEGIN:VEVENT
DTSTART;TZID=Europe/Zurich:20220814T120000
DTEND;TZID=Europe/Zurich:20220814T150000
DTSTAMP:20260424T174718
CREATED:20220715T113400Z
LAST-MODIFIED:20220715T113903Z
UID:3258-1660478400-1660489200@www.saxophonist-live.ch
SUMMARY:Privat-Anlass in Laax
DESCRIPTION:Mister Saxr\, der leidenschaftliche Musiker\, bereichert jeden Anlass oder jede Feier. Seine breite Auswahl an Stücken reicht von den verschiedensten Party Songs\, über Disco bis hin zu gemütlicheren Stücken im Hintergrund oder zum Apéro. Natürlich verwöhnt Mister Saxr seine Zuhörer auch mit aktuellen Songs aus der Hitparade oder den schönsten Evergreens aller Zeiten. \nDas Tenor Sax\, verleiht seiner Musik eine elegante und einzigartige Note\, was jedes Stück zu einem besonderen Erlebnis macht. \nMister Saxr geht perfekt auf die Stimmung der Gäste ein und schafft so eine einzigartige und entspannte Atmosphäre. \nSalums Sura\, die Waldhütte in bündnerischen Laax\, mitten in den Schweizer Alpen\, ist ein wahrer Blickfänger. Der aussergewöhnliche Begegnungsort bietet bietet Platz für rund 60 Gäste. Modern eingerichtet\, eine geschmacksvolle Kombination aus Holz und Glas verspricht die Hütte ein einmaliges Erlebnis mitten in der Natur. \nGelegen ist die Waldhütte oder «la Tegia d’Uaul» am Rande der der Gemeinde Laax Richtung Flims und auch gut mit dem Auto erreichbar. \nDie Feier ist ein Privat-Anlass.
URL:https://www.saxophonist-live.ch/saxofonist-blog/event/privat-anlass-in-laax/
LOCATION:Salums Sura\, die Waldhütte\, Via Principala 60b\, Laax\, 7031
CATEGORIES:MisterSaxr Event
ATTACH;FMTTYPE=image/jpeg:https://www.saxophonist-live.ch/saxofonist-blog/wp-content/uploads/2022/07/Wedding_MisterSaxr_Saxophonist.jpg
END:VEVENT
END:VCALENDAR