BEGIN:VCALENDAR
VERSION:2.0
PRODID:-//MisterSaxr.ch | saxophonist-LIVE.ch | Blog | Firmenanlass Hochzeiten Events Saxofonist Musiker Saxophonist Schweiz Z&uuml;rich - ECPv6.15.8//NONSGML v1.0//EN
CALSCALE:GREGORIAN
METHOD:PUBLISH
X-WR-CALNAME:MisterSaxr.ch | saxophonist-LIVE.ch | Blog | Firmenanlass Hochzeiten Events Saxofonist Musiker Saxophonist Schweiz Z&uuml;rich
X-ORIGINAL-URL:https://www.saxophonist-live.ch/saxofonist-blog
X-WR-CALDESC:Veranstaltungen für MisterSaxr.ch | saxophonist-LIVE.ch | Blog | Firmenanlass Hochzeiten Events Saxofonist Musiker Saxophonist Schweiz Z&uuml;rich
REFRESH-INTERVAL;VALUE=DURATION:PT1H
X-Robots-Tag:noindex
X-PUBLISHED-TTL:PT1H
BEGIN:VTIMEZONE
TZID:Europe/Zurich
BEGIN:DAYLIGHT
TZOFFSETFROM:+0100
TZOFFSETTO:+0200
TZNAME:CEST
DTSTART:20210328T010000
END:DAYLIGHT
BEGIN:STANDARD
TZOFFSETFROM:+0200
TZOFFSETTO:+0100
TZNAME:CET
DTSTART:20211031T010000
END:STANDARD
BEGIN:DAYLIGHT
TZOFFSETFROM:+0100
TZOFFSETTO:+0200
TZNAME:CEST
DTSTART:20220327T010000
END:DAYLIGHT
BEGIN:STANDARD
TZOFFSETFROM:+0200
TZOFFSETTO:+0100
TZNAME:CET
DTSTART:20221030T010000
END:STANDARD
BEGIN:DAYLIGHT
TZOFFSETFROM:+0100
TZOFFSETTO:+0200
TZNAME:CEST
DTSTART:20230326T010000
END:DAYLIGHT
BEGIN:STANDARD
TZOFFSETFROM:+0200
TZOFFSETTO:+0100
TZNAME:CET
DTSTART:20231029T010000
END:STANDARD
END:VTIMEZONE
BEGIN:VEVENT
DTSTART;TZID=Europe/Zurich:20221117T170000
DTEND;TZID=Europe/Zurich:20221117T210000
DTSTAMP:20260424T135123
CREATED:20221117T104335Z
LAST-MODIFIED:20221117T104335Z
UID:3320-1668704400-1668718800@www.saxophonist-live.ch
SUMMARY:Weihnachtsapéro @ Blumen Krämer
DESCRIPTION:Mister Saxr\, der leidenschaftliche Musiker und begnadete Solo-Saxophonist\, spielt am Donnerstagabend des 17. November in Blumenladen “Blumen Krämer” an der Talstrasse in Zürich. \nAuf seinem Instrument\, dem Mark VI\, aus dem Hause Selmer\, kreiert er einen wunderbaren Mix\, bestehend aus den schönsten Songs verschiedener Genres wie Smooth-Jazz\, Bozza-Nova\, Pop\, Disco aktuellen Hitparade-Liedern aber auch die schönsten Evergreens. Die einzigartige Tonlage des Saxophons und die wunderbaren Melodien schaffen ein angenehmes Ambiente\, das einlädt zu Verweilen und Geniessen. Besonders romantische Stücke kommen dabei bestens zur Geltung.
URL:https://www.saxophonist-live.ch/saxofonist-blog/event/weihnachtsapero-blumen-kraemer/
LOCATION:Blumen Krämer / Pflanzbar by Hiltl\, Talstrasse 62\, Zürich\, ZH\, 8001\, Schweiz
CATEGORIES:MisterSaxr Event
ATTACH;FMTTYPE=image/jpeg:https://www.saxophonist-live.ch/saxofonist-blog/wp-content/uploads/2017/06/mistersaxr-2.jpg
END:VEVENT
END:VCALENDAR