BEGIN:VCALENDAR
VERSION:2.0
PRODID:-//MisterSaxr.ch | saxophonist-LIVE.ch | Blog | Firmenanlass Hochzeiten Events Saxofonist Musiker Saxophonist Schweiz Z&uuml;rich - ECPv6.15.8//NONSGML v1.0//EN
CALSCALE:GREGORIAN
METHOD:PUBLISH
X-ORIGINAL-URL:https://www.saxophonist-live.ch/saxofonist-blog
X-WR-CALDESC:Veranstaltungen für MisterSaxr.ch | saxophonist-LIVE.ch | Blog | Firmenanlass Hochzeiten Events Saxofonist Musiker Saxophonist Schweiz Z&uuml;rich
REFRESH-INTERVAL;VALUE=DURATION:PT1H
X-Robots-Tag:noindex
X-PUBLISHED-TTL:PT1H
BEGIN:VTIMEZONE
TZID:Europe/Zurich
BEGIN:DAYLIGHT
TZOFFSETFROM:+0100
TZOFFSETTO:+0200
TZNAME:CEST
DTSTART:20190331T010000
END:DAYLIGHT
BEGIN:STANDARD
TZOFFSETFROM:+0200
TZOFFSETTO:+0100
TZNAME:CET
DTSTART:20191027T010000
END:STANDARD
BEGIN:DAYLIGHT
TZOFFSETFROM:+0100
TZOFFSETTO:+0200
TZNAME:CEST
DTSTART:20200329T010000
END:DAYLIGHT
BEGIN:STANDARD
TZOFFSETFROM:+0200
TZOFFSETTO:+0100
TZNAME:CET
DTSTART:20201025T010000
END:STANDARD
BEGIN:DAYLIGHT
TZOFFSETFROM:+0100
TZOFFSETTO:+0200
TZNAME:CEST
DTSTART:20210328T010000
END:DAYLIGHT
BEGIN:STANDARD
TZOFFSETFROM:+0200
TZOFFSETTO:+0100
TZNAME:CET
DTSTART:20211031T010000
END:STANDARD
END:VTIMEZONE
BEGIN:VEVENT
DTSTART;TZID=Europe/Zurich:20201205T190000
DTEND;TZID=Europe/Zurich:20201205T213000
DTSTAMP:20260426T042658
CREATED:20201012T091150Z
LAST-MODIFIED:20201012T091150Z
UID:2764-1607194800-1607203800@www.saxophonist-live.ch
SUMMARY:Öffentliche Veranstaltung im Event-Zelt\, Waidhof Zürich
DESCRIPTION:Weltpremiere: René Bisang und Mister Saxr im Waidhof \nMister Saxr tritt zusammen mit René Bisang im Waidhof in Zürich-Seebach auf. Das idyllisch am Waldrand in Zürich-Nord gelegene Ausflugsrestaurant lädt mit seinen kreativen Angeboten ein. Bereits zum wiederholten Mal veranstaltet das Restaurant Waidhof einen Benefizanlass. Mister Saxr unterhält die Gäste mit seinen Love- und Popsongs. In einer kleinen Showeinlage zusammen mit dem bekannten Musiker\, René Bisang\, gibt es dieses Duo an diesem Samstag im Dezember zum ersten Mal live zu hören. René Bisang ist seit 2020 als Mitglied der schweizweit bekannten ChueLee mit dabei. Zusammen mit Christian Duss gehören ChueLee zu den festen Grössen der Schweizer Schlager- und Volksmusikszene. René Bisang wird auch “Gölä zwei” genannt\, weil seine charakteristische Stimme dem Berner Rockmusiker sehr nahe kommt. Wer René zuhört und die Augen schliesst\, glaubt Gölä vor sich zu haben. Auch der „Ä Schwan so wiss wie Schnee“ wird an diesem Abend mit dabei sein. Natürlich hat René auch seine neuesten Songs im Gepäck. Er hat 2020 während dem LockDown neue Lieder eingespielt\, darunter melodiöse und tiefgründige Schweizer Songs\, mit sanfter Sax-Begleitung. Mister Saxr spielt diese Saxpassagen live. René Bisang engagiert sich mit diesem Anlass und Auftritt zusammen mit Mister Saxr seit Jahren und auch am 5. Dezember für die Stiftung Wunderlampe. Die Stiftung Wunderlampe erfüllt Herzenswünsche von schwerkranken Kindern. Der Erlös des Tombola-Verkaufes (mit sehr attraktiven Preisen) geht voll und ganz zuGunsten der Stiftung Wunderlampe. Der Anlass im Waidhof findet aufgrund der Coronasituation in einem riesigen Zelt vor dem Restaurant statt. Die angemeldeten Gäste können die Tischgrösse selber bestimmen und sitzen in grossen Abständen zu einander. So wird ein Genuss in höchster Sicherheit möglich werden. Der Zürcher Saxophonist Mister Saxr spielt sein grosses Repertoire\, ebenso René Bisang. Zusammen wird es eine Premiere fürs Publikum\, die es in sich hat. Denn nicht nur auf der Bühne\, sondern auch privat\, verstehen sich die beiden Vollblutmusiker bestens. \nDie Veranstaltung ist öffentlich. Eine Anmeldung notwendig: www.restaurant-waidhof.ch
URL:https://www.saxophonist-live.ch/saxofonist-blog/event/oeffentliche-veranstaltung-im-event-zelt-waidhof-zuerich/
LOCATION:Restaurant Waidhof\, Schwandenholzstrasse 160\, Zürich\, 8052\, Schweiz
CATEGORIES:MisterSaxr Event
ATTACH;FMTTYPE=image/jpeg:https://www.saxophonist-live.ch/saxofonist-blog/wp-content/uploads/2020/10/MisterSaxr_Saxophonistlive_Zürich_6.jpeg
END:VEVENT
END:VCALENDAR