BEGIN:VCALENDAR
VERSION:2.0
PRODID:-//MisterSaxr.ch | saxophonist-LIVE.ch | Blog | Firmenanlass Hochzeiten Events Saxofonist Musiker Saxophonist Schweiz Z&uuml;rich - ECPv6.15.8//NONSGML v1.0//EN
CALSCALE:GREGORIAN
METHOD:PUBLISH
X-ORIGINAL-URL:https://www.saxophonist-live.ch/saxofonist-blog
X-WR-CALDESC:Veranstaltungen für MisterSaxr.ch | saxophonist-LIVE.ch | Blog | Firmenanlass Hochzeiten Events Saxofonist Musiker Saxophonist Schweiz Z&uuml;rich
REFRESH-INTERVAL;VALUE=DURATION:PT1H
X-Robots-Tag:noindex
X-PUBLISHED-TTL:PT1H
BEGIN:VTIMEZONE
TZID:Europe/Zurich
BEGIN:DAYLIGHT
TZOFFSETFROM:+0100
TZOFFSETTO:+0200
TZNAME:CEST
DTSTART:20210328T010000
END:DAYLIGHT
BEGIN:STANDARD
TZOFFSETFROM:+0200
TZOFFSETTO:+0100
TZNAME:CET
DTSTART:20211031T010000
END:STANDARD
BEGIN:DAYLIGHT
TZOFFSETFROM:+0100
TZOFFSETTO:+0200
TZNAME:CEST
DTSTART:20220327T010000
END:DAYLIGHT
BEGIN:STANDARD
TZOFFSETFROM:+0200
TZOFFSETTO:+0100
TZNAME:CET
DTSTART:20221030T010000
END:STANDARD
BEGIN:DAYLIGHT
TZOFFSETFROM:+0100
TZOFFSETTO:+0200
TZNAME:CEST
DTSTART:20230326T010000
END:DAYLIGHT
BEGIN:STANDARD
TZOFFSETFROM:+0200
TZOFFSETTO:+0100
TZNAME:CET
DTSTART:20231029T010000
END:STANDARD
END:VTIMEZONE
BEGIN:VEVENT
DTSTART;TZID=Europe/Zurich:20220926T180000
DTEND;TZID=Europe/Zurich:20220926T213000
DTSTAMP:20260424T173225
CREATED:20220419T124738Z
LAST-MODIFIED:20220715T091027Z
UID:3159-1664215200-1664227800@www.saxophonist-live.ch
SUMMARY:Mister Saxr @magicMonday für Stiftung VIVES
DESCRIPTION:Am magicMonday 2022 zu Gunsten der Stiftung VIVES tritt Mister Saxr mit der ehemaligen Schweizer Teilnehmerin des European Song Contests (ESC) in Birmingham auf\, nachdem sie die Schweizer Entscheidung gewonnen hatte. Gunvor hat eine fantastische Stimme und sie ist nicht nur eine begnadete Sängerin\, sondern auch ein Entertainment Supertalent. Sie ist 7fache Schweizermeisterin im Stepptanz. Zusammen mit Mister Saxr hat das Duo schon mehrere VIP-Events musikalisch begleitet. So haben sie am Eröffnungsanlass der AutoZüri auf der Hauptbühne mehrere tausend Gäste perfekt unterhalten. Das feine Smooth-Sax von Mister Saxr ergänzt die Stimme und auch den Tanz der Entertainerin Gunvor perfekt. Natürlich haben die beiden ganz spezielle Songs mit dabei. \nDaniel Kalman gehört zu den schillerndsten Magiern der Schweiz. Er hat in diversen TV-Shows Millionen von Menschen verzaubert. Am Benefizanlass überrascht er die Zuschauerinnen mit Magie. Eine zauberhafte Show\, die seines gleichen sucht. Mit Illusionen\, Magie und Interaktionen\, sein Witz und auch sein Charme verleihen jedem Auftritt das gewisse Etwas. Jeder Auftritt ist maßgeschneidert und einzigartig. Mister Saxr tritt oft mit Daniel Kalman zusammen auf. Die beiden präsentieren seit Jahren in Basel das magicDinner\, welches jedesmal nach Announcement sofort ausverkauft ist. Mister Saxr und Daniel Kalman sind einfach zauberhaft. \nModeriert wird der Anlass von Sarah Andrina Schütz\, die nicht nur als Moderatorin sehr gefragt ist\, sondern auch als Sprecherin in Werbung und Film zahlreichen Botschaften ihre Stimme leiht. Auch als Schauspielerin (u.a. SRF bi de Lüt) und als Moderatorin für verschieden Event- und auch TV-Formate hat sich Sarah Andrina Schütz einen Namen gemacht und sie heute eine gefragte Talk- und Moderationsexpertin. \nWie der Name schon besagt\, wurde der magicMonday ins Leben gerufen\, um magisches zu bewirken. Jeweils an einem Montag bietet der Anlass einer Stiftung oder Non-Profit-Organisation die Möglichkeit sich selbst und ihr Tätigkeitsfeld zu präsentieren. Die Gäste werden werden derweil musikalisch und kulinarisch auf höchster Stufe verwöhnt. Die Einnahme gehen zu Gunsten der zu unterstützenden Stiftung\, mit dem Ziel 5’000 Franken zu generieren\, so kann die Woche erst so richtig beginnen. \nDie Stiftung VIVES setzt sich für Trinkwasserprojekte in notleidenden Gebieten ein. Die Stiftung bezweckt die Sensibilisierung der Öffentlichkeit bezüglich der wichtigen weltweiten Ressource Wasser. Präsentiert und vertreten wird die Non-Profit-Organisation von Roger Harlacher (Präsident Stiftung VIVES). \nDie VIVES-Idee ist einfach:\nWer VIVES Mineralwasser trinkt\, kann direkt mithelfen. Von jeder verkauften Flasche VIVES-Mineralwasser fliessen 10 Rappen (0.5 Liter Flasche) bzw. 20 Rappen (1.5 Liter Flasche) direkt in Hilfsprojekte in notleidenden Gebieten ein. Damit kann jeder durch den Kauf von VIVES Mineralwasser einfach und direkt helfen. \nGastgeber sind Rolf Hiltl (Hiltl\, vegetarische Gastronomie) und Paul Fleischli vom BlumenKrämer AG. \nGemäss dem Guinness World Records ist Hiltl das älteste vegetarische Restaurant der Welt und wird mittlerweile in der vierten Generation immer noch als Familienunternehmen geführt. \nBlumenKrämer\, im Herzen Zürichs\, ist seit 1897 das Fachgeschäft für Blumen. \nZusammen verwandeln sie Pflanzbar an der Talstrasse in eine Eventlocation geschmacksvoll mit viel Grünzeug geschmückt sowie mit allerlei vorzüglichen Köstlichkeiten und Häppchen aus der Hiltl-Küche kann sich jeder Gast auf einen wunderschönen und erlebnisreichen Abend mit Livemusik freuen. \nDie Veranstaltung ist öffentlich. Anmeldungen gerne unter: www.magicmonday.ch. Eine Anmeldung ist notwendig\, da die Teilnehmerzahl beschränkt ist.
URL:https://www.saxophonist-live.ch/saxofonist-blog/event/mister-saxr-magicmonday-fuer-stiftung-vives-2/
LOCATION:Blumen Krämer / Pflanzbar by Hiltl\, Talstrasse 62\, Zürich\, ZH\, 8001\, Schweiz
CATEGORIES:MisterSaxr Event
ATTACH;FMTTYPE=image/jpeg:https://www.saxophonist-live.ch/saxofonist-blog/wp-content/uploads/2022/04/Gunvor_MisterSaxr_DanielKalman_SarahAndrinaSchütz.jpg
END:VEVENT
END:VCALENDAR