BEGIN:VCALENDAR
VERSION:2.0
PRODID:-//MisterSaxr.ch | saxophonist-LIVE.ch | Blog | Firmenanlass Hochzeiten Events Saxofonist Musiker Saxophonist Schweiz Z&uuml;rich - ECPv6.15.8//NONSGML v1.0//EN
CALSCALE:GREGORIAN
METHOD:PUBLISH
X-WR-CALNAME:MisterSaxr.ch | saxophonist-LIVE.ch | Blog | Firmenanlass Hochzeiten Events Saxofonist Musiker Saxophonist Schweiz Z&uuml;rich
X-ORIGINAL-URL:https://www.saxophonist-live.ch/saxofonist-blog
X-WR-CALDESC:Veranstaltungen für MisterSaxr.ch | saxophonist-LIVE.ch | Blog | Firmenanlass Hochzeiten Events Saxofonist Musiker Saxophonist Schweiz Z&uuml;rich
REFRESH-INTERVAL;VALUE=DURATION:PT1H
X-Robots-Tag:noindex
X-PUBLISHED-TTL:PT1H
BEGIN:VTIMEZONE
TZID:Europe/Zurich
BEGIN:DAYLIGHT
TZOFFSETFROM:+0100
TZOFFSETTO:+0200
TZNAME:CEST
DTSTART:20230326T010000
END:DAYLIGHT
BEGIN:STANDARD
TZOFFSETFROM:+0200
TZOFFSETTO:+0100
TZNAME:CET
DTSTART:20231029T010000
END:STANDARD
BEGIN:DAYLIGHT
TZOFFSETFROM:+0100
TZOFFSETTO:+0200
TZNAME:CEST
DTSTART:20240331T010000
END:DAYLIGHT
BEGIN:STANDARD
TZOFFSETFROM:+0200
TZOFFSETTO:+0100
TZNAME:CET
DTSTART:20241027T010000
END:STANDARD
BEGIN:DAYLIGHT
TZOFFSETFROM:+0100
TZOFFSETTO:+0200
TZNAME:CEST
DTSTART:20250330T010000
END:DAYLIGHT
BEGIN:STANDARD
TZOFFSETFROM:+0200
TZOFFSETTO:+0100
TZNAME:CET
DTSTART:20251026T010000
END:STANDARD
END:VTIMEZONE
BEGIN:VEVENT
DTSTART;TZID=Europe/Zurich:20240512T120000
DTEND;TZID=Europe/Zurich:20240512T140000
DTSTAMP:20260423T132246
CREATED:20230609T100334Z
LAST-MODIFIED:20230609T100334Z
UID:3544-1715515200-1715522400@www.saxophonist-live.ch
SUMMARY:Muttertag mit Mister Saxr
DESCRIPTION:Gediegene\, feine und wunderschöne Melodien schaffen ein entspanntes und fröhliches Ambiente. Mister Saxr\, der leidenschaftliche Musiker\, zaubert mit seinem Instrument solche unvergesslichen Momente. Sein Song-Programm erweitert er stetig und greift dabei auf eine breite Palette aller Genres zurück. Die Lieder werden von ihm neu interpretiert und mit einer persönlichen Note versehen\, was seine Auftritte so einzigartig macht. Ganz dem Publikum entsprechend spielt Mister Saxr Bossa-Nova\, Smooth Jazz\, Pop\, Rock\, Dance und Disco\, aber auch aktuelle Hits und einige der schönsten Evergreens aller Zeiten. \nDas einzigartige Programm von Mister Saxr garantiert nicht nur die bestmögliche Unterhaltung\, sondern bietet auch die perfekte Gelegenheit\, einen wunderbaren und entspannenden Muttertag inmitten der schönen Natur zu verbringen. Die idyllische Lage des Restaurants ermöglicht es den Gästen\, die frische Luft und die ruhige Atmosphäre des Zürcher Naherholungsgebiets in vollen Zügen zu geniessen. Die harmonischen Klänge des Saxophons von Mister Saxr fügen sich perfekt in diese natürliche Umgebung ein und schaffen eine entspannte und friedliche Stimmung. \nDas Restaurant setzt dabei auf authentische Zürcher und Schweizer Gerichte\, die mit viel Herzblut und lokalen Produkten zubereitet werden. Von saisonalen Gerichten über Bauernrösti bis hin zum heissen Stein\, die Adlisberger Küche kreiert wahre kulinarische Highlights. Ein entspannter Muttertag im Restaurant Adlisberg ist die ideale Gelegenheit\, sich gemeinsam mit der Familie von den köstlichen Speisen verwöhnen zu lassen und dabei den Blick auf die umliegende Natur zu geniessen. Wie ein guter Wein verleiht das Saxophonspiel von Mister Saxr diesem Erlebnis einen zusätzlichen Hauch von Eleganz. \nDer Adlisberg blickt auf eine lange Geschichte zurück. Von einem einfachen Bauernhaus hat es sich im Laufe der Jahrzehnte zum heutigen Restaurant Adlisberg entwickelt. Das Bauwerk wurde erstmals im Jahr 1675 erwähnt und befand sich bis ins 19. Jahrhundert in Privatbesitz. Nach einem Brand entstand 1882 der heutige Kernbau in Form eines Mehrzweckgebäudes mit Wohnhaus\, Tenn und Stall. In den Jahren 1894 bis 1896 wurde eine umfassende Erweiterung vorgenommen\, und die Gastwirtschaft entstand. 1943 erwarb die Stadt Zürich den Landwirtschaftsbetrieb mit Gaststätte\, um den Erhalt und die Förderung des Naherholungsgebiets für Jung und Alt zu gewährleisten. Heute steht der Adlisberg auf der Liste der denkmalgeschützten Objekte\, und das Restaurant setzt die Geschichte des Hofes fort. \nDas Adlisberg verpflichtet sich der Zürcher und Schweizer Wirtshauskultur. Authentisch und sympathisch werden vorwiegend landwirtschaftliche Produkte aus der Region verwendet\, um den Gästen ein kulinarisches Erlebnis mit einem Hauch der lokalen Natur zu bieten. \nGeniessen Sie einen entspannten Muttertag im wunderschönen Naherholungsgebiet Adlisberg.
URL:https://www.saxophonist-live.ch/saxofonist-blog/event/muttertag-mit-mister-saxr/
LOCATION:Restaurant Adlisberg\, Adlisbergstrasse 75\, Zürich\, Zürich\, 8044\, Schweiz
CATEGORIES:MisterSaxr Event
ATTACH;FMTTYPE=image/jpeg:https://www.saxophonist-live.ch/saxofonist-blog/wp-content/uploads/2018/08/MISTERSAXR_7428.jpg
END:VEVENT
END:VCALENDAR