BEGIN:VCALENDAR
VERSION:2.0
PRODID:-//MisterSaxr.ch | saxophonist-LIVE.ch | Blog | Firmenanlass Hochzeiten Events Saxofonist Musiker Saxophonist Schweiz Z&uuml;rich - ECPv6.15.8//NONSGML v1.0//EN
CALSCALE:GREGORIAN
METHOD:PUBLISH
X-ORIGINAL-URL:https://www.saxophonist-live.ch/saxofonist-blog
X-WR-CALDESC:Veranstaltungen für MisterSaxr.ch | saxophonist-LIVE.ch | Blog | Firmenanlass Hochzeiten Events Saxofonist Musiker Saxophonist Schweiz Z&uuml;rich
REFRESH-INTERVAL;VALUE=DURATION:PT1H
X-Robots-Tag:noindex
X-PUBLISHED-TTL:PT1H
BEGIN:VTIMEZONE
TZID:Europe/Zurich
BEGIN:DAYLIGHT
TZOFFSETFROM:+0100
TZOFFSETTO:+0200
TZNAME:CEST
DTSTART:20220327T010000
END:DAYLIGHT
BEGIN:STANDARD
TZOFFSETFROM:+0200
TZOFFSETTO:+0100
TZNAME:CET
DTSTART:20221030T010000
END:STANDARD
BEGIN:DAYLIGHT
TZOFFSETFROM:+0100
TZOFFSETTO:+0200
TZNAME:CEST
DTSTART:20230326T010000
END:DAYLIGHT
BEGIN:STANDARD
TZOFFSETFROM:+0200
TZOFFSETTO:+0100
TZNAME:CET
DTSTART:20231029T010000
END:STANDARD
BEGIN:DAYLIGHT
TZOFFSETFROM:+0100
TZOFFSETTO:+0200
TZNAME:CEST
DTSTART:20240331T010000
END:DAYLIGHT
BEGIN:STANDARD
TZOFFSETFROM:+0200
TZOFFSETTO:+0100
TZNAME:CET
DTSTART:20241027T010000
END:STANDARD
END:VTIMEZONE
BEGIN:VEVENT
DTSTART;TZID=Europe/Zurich:20230604T120000
DTEND;TZID=Europe/Zurich:20230604T170000
DTSTAMP:20260423T042139
CREATED:20230609T083804Z
LAST-MODIFIED:20230609T083804Z
UID:3538-1685880000-1685898000@www.saxophonist-live.ch
SUMMARY:Mister Saxr verzaubert Ascona
DESCRIPTION:Mister Saxr – Ein Saxophonist verzaubert Ascona mit seiner spontanen Strassenmusik \nAm sonnigen Nachmittag des vergangenen Wochenendes herrschte in Ascona\, dem wunderschönen Ferienort am Ufer des Lago Maggiore\, eine entspannte und friedliche Stimmung. Die Gäste flanierten entlang der Uferpromenade\, genossen die malerische Aussicht und liessen sich von der sommerlichen Atmosphäre verzaubern. \nPlötzlich erklang aus der Ferne ein sanftes Saxophonspiel\, das die Aufmerksamkeit der Passanten auf sich zog. Der sanfte und feine Klang aus dem Tenor Sax Mark VI war so fesselnd und mitreissend\, dass die Menschen neugierig der Melodie folgten. Sie wurden zur Biblioteca Popolare am Piazza Giuseppe Motta geführt\, wo sich ein Musiker namens Mister Saxr niedergelassen hatte. \nMister Saxr\, der leidenschaftliche Saxophonist\, hatte gerade einen Auftritt in der Region beendet. Inspiriert von der wunderbaren Stimmung\, die ihn an dieser wunderbaren Piazza umgeben hatte\, verspürte er den starken Drang\, seine Emotionen und seine Freude durch die Musik auszudrücken. Ohne zu zögern\, beschloss er\, seine Leidenschaft mit den Menschen in Ascona zu teilen und improvisierte spontan eine Strassenmusiksession direkt am Seeufer. \nSeine Klänge verschmolzen mit der Atmosphäre von Ascona zu einer magischen Symbiose. Die sanften Töne seines Saxophons schwebten über den glitzernden Wassern des Lago Maggiore und füllten die Luft mit einer Mischung aus Entspannung und Tessiner Dolce Vita. Die Zuhörer waren fasziniert von der Leidenschaft und dem Talent des Saxophonisten und blieben gebannt stehen\, um seiner Musik zu lauschen. \nMister Saxr verstand es meisterhaft\, die Stimmung des Ortes in seiner Musik widerzuspiegeln. Von entspannten Jazzklängen bis hin zu lebendigen Rhythmen\, seine Melodien führten die Zuhörer auf eine musikalische Reise\, die ihre Herzen berührte. Die Menschen versammelten sich um ihn herum und liessen sich von seiner Musik in eine Welt der Entspannung und des Wohlbefindens entführen. \nDie Strassenmusik von Mister Saxr schuf eine besondere Atmosphäre. Seine spontane Entscheidung\, seine musikalische Stimmung mit den Menschen zu teilen\, wurde von den Besuchern des Ferienorts mit offenen Armen empfangen. Die Gäste genossen die unvergessliche Darbietung und spürten die Magie\, die in der Luft lag. \nMister Saxr bewies mit seiner Strassenmusik in Ascona\, dass Musik eine universelle Sprache ist\, die Menschen miteinander verbindet und Emotionen zum Ausdruck bringt. Sein spontaner Entscheid sich seiner liebsten Leidenschaft hinzugeben\, machten seinen Auftritt nicht nur für die Touristen und Passanten vor Ort\, sondern auch für ihn zu einem speziellen und inspirierenden Erlebnis.
URL:https://www.saxophonist-live.ch/saxofonist-blog/event/mister-saxr-verzaubert-ascona/
LOCATION:Biblioteca Popolare Ascona\, Piazza Giuseppe Motta 37\, Ascona\, 6612\, Schweiz
CATEGORIES:MisterSaxr Event
ATTACH;FMTTYPE=image/jpeg:https://www.saxophonist-live.ch/saxofonist-blog/wp-content/uploads/2023/06/MisterSaxr_Saxophon_Saxophonist_Live_Ascona.jpg
END:VEVENT
END:VCALENDAR