BEGIN:VCALENDAR
VERSION:2.0
PRODID:-//MisterSaxr.ch | saxophonist-LIVE.ch | Blog | Firmenanlass Hochzeiten Events Saxofonist Musiker Saxophonist Schweiz Z&uuml;rich - ECPv6.15.8//NONSGML v1.0//EN
CALSCALE:GREGORIAN
METHOD:PUBLISH
X-ORIGINAL-URL:https://www.saxophonist-live.ch/saxofonist-blog
X-WR-CALDESC:Veranstaltungen für MisterSaxr.ch | saxophonist-LIVE.ch | Blog | Firmenanlass Hochzeiten Events Saxofonist Musiker Saxophonist Schweiz Z&uuml;rich
REFRESH-INTERVAL;VALUE=DURATION:PT1H
X-Robots-Tag:noindex
X-PUBLISHED-TTL:PT1H
BEGIN:VTIMEZONE
TZID:Europe/Zurich
BEGIN:DAYLIGHT
TZOFFSETFROM:+0100
TZOFFSETTO:+0200
TZNAME:CEST
DTSTART:20210328T010000
END:DAYLIGHT
BEGIN:STANDARD
TZOFFSETFROM:+0200
TZOFFSETTO:+0100
TZNAME:CET
DTSTART:20211031T010000
END:STANDARD
BEGIN:DAYLIGHT
TZOFFSETFROM:+0100
TZOFFSETTO:+0200
TZNAME:CEST
DTSTART:20220327T010000
END:DAYLIGHT
BEGIN:STANDARD
TZOFFSETFROM:+0200
TZOFFSETTO:+0100
TZNAME:CET
DTSTART:20221030T010000
END:STANDARD
BEGIN:DAYLIGHT
TZOFFSETFROM:+0100
TZOFFSETTO:+0200
TZNAME:CEST
DTSTART:20230326T010000
END:DAYLIGHT
BEGIN:STANDARD
TZOFFSETFROM:+0200
TZOFFSETTO:+0100
TZNAME:CET
DTSTART:20231029T010000
END:STANDARD
END:VTIMEZONE
BEGIN:VEVENT
DTSTART;TZID=Europe/Zurich:20220214T173000
DTEND;TZID=Europe/Zurich:20220214T220000
DTSTAMP:20260424T224710
CREATED:20211229T100923Z
LAST-MODIFIED:20220121T084702Z
UID:3032-1644859800-1644876000@www.saxophonist-live.ch
SUMMARY:Valentinstag @ Schweizerhof Flims
DESCRIPTION:Mister Saxr\, der leidenschaftliche Saxofonist\, tritt am 14. Februar 2022\, im Hotel Schweizerhof in Flims\, auf. Wie man es an diesem Datum auch erwartet\, verzaubert Mister Saxr die Gäste mit sanften\, romantischen Liedern und schafft so die perfekten Gegebenheiten\, um einen entspannten Abend in Zweisamkeit zu verbringen. Die schönsten Love-Songs und sanften Melodien erhalten durch das Tenor-Sax noch zusätzliche Romantik! \nDie prädestinierte Lage in Flims Waldhaus\, mit Blickh auf das UNESCO Naturgebiet\, in unmittelbarer Nähe zum Caumasee\, und dem Swiss Grand Canyon\, machen den Schweizerhof Flims zum idealen Ausgangspunkt für erlebnisreiche Ausflüge. \nDie Gäste können die Unterhaltung und das Event auch ohne Anmeldung geniessen! \nhttps://www.schweizerhof-flims.ch/hotel/veranstaltungen
URL:https://www.saxophonist-live.ch/saxofonist-blog/event/valentinstag-schweizerhof-flims/
LOCATION:Hotel Schweizerhof Flims\, Rudi Dadens 1\, Flims Waldhaus\, Graubünden\, 7018\, Schweiz
CATEGORIES:MisterSaxr Event
ATTACH;FMTTYPE=image/jpeg:https://www.saxophonist-live.ch/saxofonist-blog/wp-content/uploads/2018/08/MISTERSAXR_7428.jpg
END:VEVENT
END:VCALENDAR