BEGIN:VCALENDAR
VERSION:2.0
PRODID:-//MisterSaxr.ch | saxophonist-LIVE.ch | Blog | Firmenanlass Hochzeiten Events Saxofonist Musiker Saxophonist Schweiz Z&uuml;rich - ECPv6.15.8//NONSGML v1.0//EN
CALSCALE:GREGORIAN
METHOD:PUBLISH
X-ORIGINAL-URL:https://www.saxophonist-live.ch/saxofonist-blog
X-WR-CALDESC:Veranstaltungen für MisterSaxr.ch | saxophonist-LIVE.ch | Blog | Firmenanlass Hochzeiten Events Saxofonist Musiker Saxophonist Schweiz Z&uuml;rich
REFRESH-INTERVAL;VALUE=DURATION:PT1H
X-Robots-Tag:noindex
X-PUBLISHED-TTL:PT1H
BEGIN:VTIMEZONE
TZID:Europe/Zurich
BEGIN:DAYLIGHT
TZOFFSETFROM:+0100
TZOFFSETTO:+0200
TZNAME:CEST
DTSTART:20230326T010000
END:DAYLIGHT
BEGIN:STANDARD
TZOFFSETFROM:+0200
TZOFFSETTO:+0100
TZNAME:CET
DTSTART:20231029T010000
END:STANDARD
BEGIN:DAYLIGHT
TZOFFSETFROM:+0100
TZOFFSETTO:+0200
TZNAME:CEST
DTSTART:20240331T010000
END:DAYLIGHT
BEGIN:STANDARD
TZOFFSETFROM:+0200
TZOFFSETTO:+0100
TZNAME:CET
DTSTART:20241027T010000
END:STANDARD
BEGIN:DAYLIGHT
TZOFFSETFROM:+0100
TZOFFSETTO:+0200
TZNAME:CEST
DTSTART:20250330T010000
END:DAYLIGHT
BEGIN:STANDARD
TZOFFSETFROM:+0200
TZOFFSETTO:+0100
TZNAME:CET
DTSTART:20251026T010000
END:STANDARD
END:VTIMEZONE
BEGIN:VEVENT
DTSTART;TZID=Europe/Zurich:20240214T180000
DTEND;TZID=Europe/Zurich:20240214T220000
DTSTAMP:20260423T153206
CREATED:20230830T074809Z
LAST-MODIFIED:20230830T092747Z
UID:3629-1707933600-1707948000@www.saxophonist-live.ch
SUMMARY:Valentinstag @ Schweizerhof Flims
DESCRIPTION:Mister Saxr\, der Saxofonist voller Leidenschaft\, wird am Mittwoch\, dem 14. Februar 2024\, im Hotel Schweizerhof in Flims auftreten. In perfekter Übereinstimmung mit dem besonderen Datum wird Mister Saxr die Gäste mit seiner Musik verzaubern\, indem er sanfte\, romantische Melodien vorträgt. Diese Darbietung schafft eine einladende Atmosphäre für eine entspannte Zweisamkeit an diesem besonderen Abend. \nDie einzigartige und zarte Tonlage seines Instruments verleiht jedem Lied einen Hauch von Romantik. Mister Saxr versteht es meisterhaft\, das Saxophon\, das einst für Militärkapellen konzipiert wurde\, geschickt in neue musikalische Genres zu integrieren. Diese Anpassungsfähigkeit eröffnet ihm völlig neue künstlerische Möglichkeiten und macht jedes seiner Stücke zu einem wahren Kunstwerk. \nDiese aussergewöhnliche Gelegenheit bietet Ihnen die Chance\, einen Abend mit klassischer Romantik auf moderne Weise zu erleben. Alles findet an einem der schönsten Orte statt\, den die Schweizer Landschaft zu bieten hat. \nKlare\, kühle Bergluft\, während man die Piste hinuntergleitet. Egal ob auf Ski\, Snowboard oder dem Schlitten: In einem der beliebtesten Skigebiete der Schweiz findet man für jede Winteraktivität die perfekte Kulisse. Natürlich lässt sich die verschneite Märchenwelt auch bei diversen Wanderungen ideal zu Fuss erkunden. Das Hotel Schweizerhof in Flims liegt malerisch mit Blick auf das UNESCO-Naturgebiet\, in unmittelbarer Nähe des Caumasees und des Swiss Grand Canyon. Mister Saxr spielt oft und gerne in Flims und Umgebung\, sei es in Alphütten\, Restaurants oder Hotels. \nUnd was gibt es Schöneres als nach einem erlebnisreichen Tag durch die winterliche Landschaft\, einen gemütlichen und sinnlichen Abend zu zweit\, ganz im Zeichen der Romantik\, zu verbringen. \nDie ideale Lage des Hotels\, nur 24 Autominuten von Chur entfernt\, ermöglicht eine bequeme Anreise. Gäste können sich auf ein unterhaltsames Event freuen\, ohne sich vorab anmelden zu müssen. Die romantische Prägung der Saxophon-Tonlage wird die Musik von Mister Saxr auf einzigartige Weise bereichern\, während die Gäste in der traumhaften Umgebung des Hotel Schweizerhof Flims einen Abend voller kultureller Genüsse geniessen können.
URL:https://www.saxophonist-live.ch/saxofonist-blog/event/valentinstag-schweizerhof-flims-3/
LOCATION:Hotel Schweizerhof Flims\, Rudi Dadens 1\, Flims Waldhaus\, Graubünden\, 7018\, Schweiz
CATEGORIES:MisterSaxr Event
ATTACH;FMTTYPE=image/jpeg:https://www.saxophonist-live.ch/saxofonist-blog/wp-content/uploads/2023/06/MisterSAXR_Saxofonist_Saxophonist_Schweiz_Zuerich_Event2.jpg
END:VEVENT
END:VCALENDAR