BEGIN:VCALENDAR
VERSION:2.0
PRODID:-//MisterSaxr.ch | saxophonist-LIVE.ch | Blog | Firmenanlass Hochzeiten Events Saxofonist Musiker Saxophonist Schweiz Z&uuml;rich - ECPv6.15.8//NONSGML v1.0//EN
CALSCALE:GREGORIAN
METHOD:PUBLISH
X-ORIGINAL-URL:https://www.saxophonist-live.ch/saxofonist-blog
X-WR-CALDESC:Veranstaltungen für MisterSaxr.ch | saxophonist-LIVE.ch | Blog | Firmenanlass Hochzeiten Events Saxofonist Musiker Saxophonist Schweiz Z&uuml;rich
REFRESH-INTERVAL;VALUE=DURATION:PT1H
X-Robots-Tag:noindex
X-PUBLISHED-TTL:PT1H
BEGIN:VTIMEZONE
TZID:Europe/Zurich
BEGIN:DAYLIGHT
TZOFFSETFROM:+0100
TZOFFSETTO:+0200
TZNAME:CEST
DTSTART:20210328T010000
END:DAYLIGHT
BEGIN:STANDARD
TZOFFSETFROM:+0200
TZOFFSETTO:+0100
TZNAME:CET
DTSTART:20211031T010000
END:STANDARD
BEGIN:DAYLIGHT
TZOFFSETFROM:+0100
TZOFFSETTO:+0200
TZNAME:CEST
DTSTART:20220327T010000
END:DAYLIGHT
BEGIN:STANDARD
TZOFFSETFROM:+0200
TZOFFSETTO:+0100
TZNAME:CET
DTSTART:20221030T010000
END:STANDARD
BEGIN:DAYLIGHT
TZOFFSETFROM:+0100
TZOFFSETTO:+0200
TZNAME:CEST
DTSTART:20230326T010000
END:DAYLIGHT
BEGIN:STANDARD
TZOFFSETFROM:+0200
TZOFFSETTO:+0100
TZNAME:CET
DTSTART:20231029T010000
END:STANDARD
END:VTIMEZONE
BEGIN:VEVENT
DTSTART;TZID=Europe/Zurich:20220319T190000
DTEND;TZID=Europe/Zurich:20220319T210000
DTSTAMP:20260424T124658
CREATED:20220128T133915Z
LAST-MODIFIED:20220128T134105Z
UID:3041-1647716400-1647723600@www.saxophonist-live.ch
SUMMARY:Private Feier in Flims
DESCRIPTION:Mister Saxr\, der leidenschaftliche Saxophonist\, spielt mit seinem Tenorsax der Marke Selmer\, die schönsten Melodien und Lieder\, welche jeden Anlass ob geschäftlich oder privat ganz sicher bereichern. Sein Repertoire reicht von Smoth-Jazz\, Pop und Boza-Nova bis hin zu Disco\, Evergreens und aktuellen Songs aus der Hitparade. \nSein breitgefächertes Angebot an Liedern erlauben es ihm ganz auf die Vorstellungen und Wünsche des Publikums einzugehen und so für eine unvergessliche musikalische Atmosphäre zu sorgen. \nQuasi vor Heimpublikum für den Musiker\, der sowohl in Zürich\, wie auch in Flims beheimatet ist\, tritt er im Atelier de Mosaique an einer privaten Feier auf. \nDie Gäste dürfen sich auf eine erstklassische musikalische Darbietung freuen.
URL:https://www.saxophonist-live.ch/saxofonist-blog/event/private-feier-in-flims/
LOCATION:Atelier de Mosaique\, Promenade 43\, Flims\, 7018\, Schweiz
CATEGORIES:MisterSaxr Event
ATTACH;FMTTYPE=image/jpeg:https://www.saxophonist-live.ch/saxofonist-blog/wp-content/uploads/2018/09/MISTERSAXR_7397.jpg
END:VEVENT
END:VCALENDAR