BEGIN:VCALENDAR
VERSION:2.0
PRODID:-//MisterSaxr.ch | saxophonist-LIVE.ch | Blog | Firmenanlass Hochzeiten Events Saxofonist Musiker Saxophonist Schweiz Z&uuml;rich - ECPv6.15.8//NONSGML v1.0//EN
CALSCALE:GREGORIAN
METHOD:PUBLISH
X-ORIGINAL-URL:https://www.saxophonist-live.ch/saxofonist-blog
X-WR-CALDESC:Veranstaltungen für MisterSaxr.ch | saxophonist-LIVE.ch | Blog | Firmenanlass Hochzeiten Events Saxofonist Musiker Saxophonist Schweiz Z&uuml;rich
REFRESH-INTERVAL;VALUE=DURATION:PT1H
X-Robots-Tag:noindex
X-PUBLISHED-TTL:PT1H
BEGIN:VTIMEZONE
TZID:Europe/Zurich
BEGIN:DAYLIGHT
TZOFFSETFROM:+0100
TZOFFSETTO:+0200
TZNAME:CEST
DTSTART:20190331T010000
END:DAYLIGHT
BEGIN:STANDARD
TZOFFSETFROM:+0200
TZOFFSETTO:+0100
TZNAME:CET
DTSTART:20191027T010000
END:STANDARD
BEGIN:DAYLIGHT
TZOFFSETFROM:+0100
TZOFFSETTO:+0200
TZNAME:CEST
DTSTART:20200329T010000
END:DAYLIGHT
BEGIN:STANDARD
TZOFFSETFROM:+0200
TZOFFSETTO:+0100
TZNAME:CET
DTSTART:20201025T010000
END:STANDARD
BEGIN:DAYLIGHT
TZOFFSETFROM:+0100
TZOFFSETTO:+0200
TZNAME:CEST
DTSTART:20210328T010000
END:DAYLIGHT
BEGIN:STANDARD
TZOFFSETFROM:+0200
TZOFFSETTO:+0100
TZNAME:CET
DTSTART:20211031T010000
END:STANDARD
END:VTIMEZONE
BEGIN:VEVENT
DTSTART;TZID=Europe/Zurich:20201212T130000
DTEND;TZID=Europe/Zurich:20201212T190000
DTSTAMP:20260423T221420
CREATED:20201123T105633Z
LAST-MODIFIED:20201208T113727Z
UID:2795-1607778000-1607799600@www.saxophonist-live.ch
SUMMARY:Xmas im Circle
DESCRIPTION:Zusammen mit der Top-Sängerin Nyssina tritt Mister Saxr am Samstag\, 12. Dezember und Sonntag\, 13. Dezember 2020 im Circle\, dem neuen Shopping-Center am Zürcher Flughafen Kloten auf! \n\nDer Zürcher Saxophonist und die Sängerin mit holländisch/indonesischen Wurzeln treten in einer vorweihnachtlichen Atmosphäre mitten im neuen Zürcher Einkaufszentrum auf. Mit ihrer sanften Stimme begeistert Nyssina ein breites Publikum. Unterstützt von den weichen Saxklängen von Mister Saxr bietet das musikalische Duo Genuss vom Feinsten. Die Musiker präsentieren weihnachtliche Melodien aber auch romantische Pop-Balladen. Mit ihrer starken Bühnenpräsenz bietet die Show Unterhaltung vom Feinsten.\n\n\nIm Circle laden zahlreiche neue Stores\, Restaurants & Bars zum Shoppen und Verweilen ein. Im neuen Convention Center finden Kongresse für bis zu 2’500 Gäste statt\, Übernachtungsmöglichkeiten bieten zwei Hyatt Hotels. Weitere Dienstleistungen wie Coworking Spaces\, ein Fitness-Center oder eine Kita runden ab 2021 das breite Angebot ab.
URL:https://www.saxophonist-live.ch/saxofonist-blog/event/xmas-im-circle/
LOCATION:The Circle\, The Circle\, Flughafen CH\, Zürich\, ZH\, 8058\, Schweiz
CATEGORIES:MisterSaxr Event
ATTACH;FMTTYPE=image/jpeg:https://www.saxophonist-live.ch/saxofonist-blog/wp-content/uploads/2020/11/Nyssina_MisterSaxr_Live_Zürich.jpg
END:VEVENT
END:VCALENDAR