BEGIN:VCALENDAR
VERSION:2.0
PRODID:-//MisterSaxr.ch | saxophonist-LIVE.ch | Blog | Firmenanlass Hochzeiten Events Saxofonist Musiker Saxophonist Schweiz Z&uuml;rich - ECPv6.15.8//NONSGML v1.0//EN
CALSCALE:GREGORIAN
METHOD:PUBLISH
X-WR-CALNAME:MisterSaxr.ch | saxophonist-LIVE.ch | Blog | Firmenanlass Hochzeiten Events Saxofonist Musiker Saxophonist Schweiz Z&uuml;rich
X-ORIGINAL-URL:https://www.saxophonist-live.ch/saxofonist-blog
X-WR-CALDESC:Veranstaltungen für MisterSaxr.ch | saxophonist-LIVE.ch | Blog | Firmenanlass Hochzeiten Events Saxofonist Musiker Saxophonist Schweiz Z&uuml;rich
REFRESH-INTERVAL;VALUE=DURATION:PT1H
X-Robots-Tag:noindex
X-PUBLISHED-TTL:PT1H
BEGIN:VTIMEZONE
TZID:Europe/Zurich
BEGIN:DAYLIGHT
TZOFFSETFROM:+0100
TZOFFSETTO:+0200
TZNAME:CEST
DTSTART:20210328T010000
END:DAYLIGHT
BEGIN:STANDARD
TZOFFSETFROM:+0200
TZOFFSETTO:+0100
TZNAME:CET
DTSTART:20211031T010000
END:STANDARD
BEGIN:DAYLIGHT
TZOFFSETFROM:+0100
TZOFFSETTO:+0200
TZNAME:CEST
DTSTART:20220327T010000
END:DAYLIGHT
BEGIN:STANDARD
TZOFFSETFROM:+0200
TZOFFSETTO:+0100
TZNAME:CET
DTSTART:20221030T010000
END:STANDARD
BEGIN:DAYLIGHT
TZOFFSETFROM:+0100
TZOFFSETTO:+0200
TZNAME:CEST
DTSTART:20230326T010000
END:DAYLIGHT
BEGIN:STANDARD
TZOFFSETFROM:+0200
TZOFFSETTO:+0100
TZNAME:CET
DTSTART:20231029T010000
END:STANDARD
END:VTIMEZONE
BEGIN:VEVENT
DTSTART;TZID=Europe/Zurich:20220831T140000
DTEND;TZID=Europe/Zurich:20220831T220000
DTSTAMP:20260425T173128
CREATED:20220905T083329Z
LAST-MODIFIED:20220905T083720Z
UID:3287-1661954400-1661983200@www.saxophonist-live.ch
SUMMARY:Mister Saxr & René Bisang
DESCRIPTION:Der Schweizer Saxophonist begleitete im 4 Sterne Superiore WellnessHotel Liebes Rot Flüh im Tannerheimertal\, Österreich den Schlagersänger René Bisang. Vor dem Auftritt im ausverkauften Eventsaal des Hotels\, wo die beiden Live 45 Minuten alle Gäste unterhielten\, wurde im atemberaubenden Ambiente eine Videoproduktion mit Saxophon gemacht. Mister Saxr performte dabei den Titel: “Ich bin für dich geboren”. Das smoothige Sax und auch Mister Saxr selber passt hervorragend in die erholsame Ambiente der Spezialwoche\, welche von der renommierten TV-Station Alpen-Welle seit 11 Jahren sehr erfolgreich durchgeführt wird. Verantworlich dafür sind die beiden Macher und auch Kenner der internationalen Schlagerszene Marco Blind und Elmar Fürer. Mit dabei in der Ausgabe Herbst 2022 waren auch die Partyhelden (Charly Bereiter und Päde Koller)\, die Schweizer Schlagersängerin Monique und das Chuelee Urgestein Christian Duss. Das Tirolerhotel sorgte für deluxe-Wellness und die Musiker für musikalische Feinheiten\, aber auch Schlagerparty ohne Ende. Mister Saxr beweist als versierter und auch abwechslungsreicher Musiker\, dass er auch in diesem Genre und für dieses Publikum bestens passt. Saxophon live gespielt von Mister Saxr gehört zum Highlight eines jeden Anlasses. Mister Saxr ist als Saxophonist immer wieder gerne auch als Gastmusiker in anderen Formationen auf den Bühnen präsent. Dank seinem ausgeprägten Musikgefühl harmonieren auch stilfremde Elemente perfekt. Die Auftritte im Liebes Rot Flüh haben das einmal mehr eindrücklich gezeigt.
URL:https://www.saxophonist-live.ch/saxofonist-blog/event/mister-saxr-rene-bisang/
LOCATION:Wellnesshotel …liebes Rot-Flüh\, Seestraße 26\, Haldensee\, 6673\, Österreich
CATEGORIES:MisterSaxr Event
ATTACH;FMTTYPE=image/jpeg:https://www.saxophonist-live.ch/saxofonist-blog/wp-content/uploads/2016/10/saxophon.jpg
END:VEVENT
END:VCALENDAR