BEGIN:VCALENDAR
VERSION:2.0
PRODID:-//MisterSaxr.ch | saxophonist-LIVE.ch | Blog | Firmenanlass Hochzeiten Events Saxofonist Musiker Saxophonist Schweiz Z&uuml;rich - ECPv6.15.8//NONSGML v1.0//EN
CALSCALE:GREGORIAN
METHOD:PUBLISH
X-ORIGINAL-URL:https://www.saxophonist-live.ch/saxofonist-blog
X-WR-CALDESC:Veranstaltungen für MisterSaxr.ch | saxophonist-LIVE.ch | Blog | Firmenanlass Hochzeiten Events Saxofonist Musiker Saxophonist Schweiz Z&uuml;rich
REFRESH-INTERVAL;VALUE=DURATION:PT1H
X-Robots-Tag:noindex
X-PUBLISHED-TTL:PT1H
BEGIN:VTIMEZONE
TZID:Europe/Zurich
BEGIN:DAYLIGHT
TZOFFSETFROM:+0100
TZOFFSETTO:+0200
TZNAME:CEST
DTSTART:20200329T010000
END:DAYLIGHT
BEGIN:STANDARD
TZOFFSETFROM:+0200
TZOFFSETTO:+0100
TZNAME:CET
DTSTART:20201025T010000
END:STANDARD
BEGIN:DAYLIGHT
TZOFFSETFROM:+0100
TZOFFSETTO:+0200
TZNAME:CEST
DTSTART:20210328T010000
END:DAYLIGHT
BEGIN:STANDARD
TZOFFSETFROM:+0200
TZOFFSETTO:+0100
TZNAME:CET
DTSTART:20211031T010000
END:STANDARD
BEGIN:DAYLIGHT
TZOFFSETFROM:+0100
TZOFFSETTO:+0200
TZNAME:CEST
DTSTART:20220327T010000
END:DAYLIGHT
BEGIN:STANDARD
TZOFFSETFROM:+0200
TZOFFSETTO:+0100
TZNAME:CET
DTSTART:20221030T010000
END:STANDARD
END:VTIMEZONE
BEGIN:VEVENT
DTSTART;TZID=Europe/Zurich:20210911T161500
DTEND;TZID=Europe/Zurich:20210911T190000
DTSTAMP:20260425T060944
CREATED:20210610T135549Z
LAST-MODIFIED:20210819T083245Z
UID:2867-1631376900-1631386800@www.saxophonist-live.ch
SUMMARY:MisterSaxr & Nyssina live
DESCRIPTION:Zusammen mit der Top-Sängerin Nyssina tritt Mister Saxr am Samstag\, 11. September 2021 im Seminarhotel Bocken. Der Schweizer Saxophonist und Sängerin mit holländisch/indonesischen Wurzeln untermalen eine private Hochzeit in Horgen. Stilvolle Hintergrundmusik und auch Show-Dance werden geboten. Das Repertoire reicht von Smooth-Jazz\, Evergreens\, Bossa Nova\, Pop- und Hitsongs über romantische Balladen bis hin zu Party und Disco-Dance Musik. Smooth Sax (Selmer Mark VI) und die feine weibliche Stimme sind eine perfekte Ergänzung. Mister Saxr und Nyssina sind ein bestens eingespieltes Duo. Sie haben auch im 2020 verschiedene Trauungen und Hochzeiten musikalisch umrahmt. Sie gehören zu den begehrtesten Musikern der Schweiz für Privatanlässe mit Stil.
URL:https://www.saxophonist-live.ch/saxofonist-blog/event/mistersaxr-nyssina-live-in-horgen/
LOCATION:Seminarhotel Bocken\, Bockenweg 4\, Horgen\, 8810\, Schweiz
CATEGORIES:MisterSaxr Event
ATTACH;FMTTYPE=image/jpeg:https://www.saxophonist-live.ch/saxofonist-blog/wp-content/uploads/2020/06/MisterSaxr_Nyssina-162.jpg
END:VEVENT
END:VCALENDAR