BEGIN:VCALENDAR
VERSION:2.0
PRODID:-//MisterSaxr.ch | saxophonist-LIVE.ch | Blog | Firmenanlass Hochzeiten Events Saxofonist Musiker Saxophonist Schweiz Z&uuml;rich - ECPv6.15.8//NONSGML v1.0//EN
CALSCALE:GREGORIAN
METHOD:PUBLISH
X-WR-CALNAME:MisterSaxr.ch | saxophonist-LIVE.ch | Blog | Firmenanlass Hochzeiten Events Saxofonist Musiker Saxophonist Schweiz Z&uuml;rich
X-ORIGINAL-URL:https://www.saxophonist-live.ch/saxofonist-blog
X-WR-CALDESC:Veranstaltungen für MisterSaxr.ch | saxophonist-LIVE.ch | Blog | Firmenanlass Hochzeiten Events Saxofonist Musiker Saxophonist Schweiz Z&uuml;rich
REFRESH-INTERVAL;VALUE=DURATION:PT1H
X-Robots-Tag:noindex
X-PUBLISHED-TTL:PT1H
BEGIN:VTIMEZONE
TZID:Europe/Zurich
BEGIN:DAYLIGHT
TZOFFSETFROM:+0100
TZOFFSETTO:+0200
TZNAME:CEST
DTSTART:20220327T010000
END:DAYLIGHT
BEGIN:STANDARD
TZOFFSETFROM:+0200
TZOFFSETTO:+0100
TZNAME:CET
DTSTART:20221030T010000
END:STANDARD
BEGIN:DAYLIGHT
TZOFFSETFROM:+0100
TZOFFSETTO:+0200
TZNAME:CEST
DTSTART:20230326T010000
END:DAYLIGHT
BEGIN:STANDARD
TZOFFSETFROM:+0200
TZOFFSETTO:+0100
TZNAME:CET
DTSTART:20231029T010000
END:STANDARD
BEGIN:DAYLIGHT
TZOFFSETFROM:+0100
TZOFFSETTO:+0200
TZNAME:CEST
DTSTART:20240331T010000
END:DAYLIGHT
BEGIN:STANDARD
TZOFFSETFROM:+0200
TZOFFSETTO:+0100
TZNAME:CET
DTSTART:20241027T010000
END:STANDARD
END:VTIMEZONE
BEGIN:VEVENT
DTSTART;TZID=Europe/Zurich:20230130T180000
DTEND;TZID=Europe/Zurich:20230130T213000
DTSTAMP:20260424T135955
CREATED:20220624T095912Z
LAST-MODIFIED:20220624T115048Z
UID:3228-1675101600-1675114200@www.saxophonist-live.ch
SUMMARY:Mister Saxr @magicMonday für cb-Stiftung
DESCRIPTION:Isabel Florido ist eine gefragte Schauspielerin\, Musicaldarstellerin und auch Moderatorin. Dem deutschsprachigen Publikum ist sie spätestens seit ihrer TV-Rolle Lona Dee in der Serie „UNTER UNS“ wohlbekannt. Die sympathische Bühnenfrau hat zahlreiche internationale Bühnen- und TV-Auftritte gehabt und sie wurde von Sendern wie RTL\, ZDF\, SF1\, sowie auch zahlreichen Grosskonzernen und KMU’s weltwei gebucht. Isabel Florido ist die erste Moderatorin eines magicMonday’s\, die gleichzeitig auch musikalische Beiträge zusammen mit dem Zürcher Saxophonisten Mister Saxr präsentiert. Das wird für die fünfsprachige Musicaldarstellerin ein Heimspiel. Singen\, Sprechen\, Spielen\, das ist die wahre Leidenschaft von Isabel Florido. Als Special-Act wird auch der Influencer und ehemalige Rockmusiker Gregorio Boiano auf der Bühne stehen. Gregi war seit Jahren ein gerngesehener Gast im Publikum von vielen magicMonday. Seine liebevolle Art und sein einzigartiger Stil machen ihn zu einem Rockstar. Dass er auch feine Töne anschlagen kann\, wird er mit viel Groove zusammen mit Mister Saxr beweisen. Diese Showeinlage ist einzigartig und wer das verpasst\, hat es verpasst. Es ist gut möglich\, dass alle drei Musiker auch noch gemeinsam eine Zugabe haben. Seien Sie gespannt auf ein Feuerwerk an Musikshow. \nDer macigMonday wurde geschaffen\, um magisches zu bewirken. Stets an einem Montag ermöglicht der Anlass einer Stiftung oder Non-Profit-Organisiation sich selbst und ihr Tätigkeitsfeld zu präsentieren. Die Gäste werden werden derweil musikalisch und kulinarisch auf höchster Stufe verwöhnt. Die Einnahme gehen zu Gunsten der zu unterstützenden Stiftung\, mit dem Ziel 5’000 Franken zu generieren\, so kann die Woche erst so richtig beginnen. \nDie cb-Stiftung\, von Christian Böhm ins Leben gerufen\, schafft auf privatwirtschaftlicher Basis ohne staatliche Subventionen geschützte Arbeitsplätze für Menschen mit einer gesundheitlichen Beeinträchtigung. Ziel ist es\, durch die zeitlich unbegrenzte Bereitstellung von niederschwelligen Arbeits- und Beschäftigungsformen des zweiten Arbeitsmarktes die Lebens- und Zukunftschancen dieser Menschen zu verbessern und ihnen ein sinnerfülltes Leben sowie eine feste Tagesstruktur inmitten unserer Gesellschaft zu ermöglichen. Wo immer möglich\, wird eine Rückkehr in den ersten Arbeitsmarkt angestrebt Vertreten an diesem wird die Stiftung von der Vize-Präsidentin des Stiftungsrates\, Michelle Wirth. \nGastgeber sind Rolf Hiltl (Hiltl\, vegetarische Gastronomie) und Paul Fleischli vom BlumenKrämer AG. \nIm Buch der Guinness World Records steht\, das Hiltl ist das älteste vegetarische Restaurant der Welt und wird mittlerweile in der vierten Generation immer noch als Familienunternehmen geführt. \nBlumenKrämer\, im Herzen Zürichs\, ist seit 1897 das Fachgeschäft für Blumen. \nZusammen verwandeln sie Pflanzbar an der Talstrasse in eine Eventlocation geschmacksvoll mit viel Grünzeug geschmückt sowie mit allerlei vorzüglichen Köstlichkeiten und Häppchen aus der Hiltl-Küche kann sich jeder Gast auf einen wunderschönen und erlebnisreichen Abend mit Livemusik freuen. \nDie Veranstaltung ist öffentlich. Anmeldungen gerne unter: www.magicmonday.ch. Eine Anmeldung ist notwendig\, da die Teilnehmerzahl beschränkt ist.
URL:https://www.saxophonist-live.ch/saxofonist-blog/event/mister-saxr-magicmonday-fuer-cb-stiftung/
LOCATION:Blumen Krämer / Pflanzbar by Hiltl\, Talstrasse 62\, Zürich\, ZH\, 8001\, Schweiz
CATEGORIES:MisterSaxr Event
ATTACH;FMTTYPE=image/jpeg:https://www.saxophonist-live.ch/saxofonist-blog/wp-content/uploads/2022/04/IsabelFlorido_MisterSaxr_GregorioBoiano_Saxophonist.jpeg
END:VEVENT
END:VCALENDAR