BEGIN:VCALENDAR
VERSION:2.0
PRODID:-//MisterSaxr.ch | saxophonist-LIVE.ch | Blog | Firmenanlass Hochzeiten Events Saxofonist Musiker Saxophonist Schweiz Z&uuml;rich - ECPv6.15.8//NONSGML v1.0//EN
CALSCALE:GREGORIAN
METHOD:PUBLISH
X-ORIGINAL-URL:https://www.saxophonist-live.ch/saxofonist-blog
X-WR-CALDESC:Veranstaltungen für MisterSaxr.ch | saxophonist-LIVE.ch | Blog | Firmenanlass Hochzeiten Events Saxofonist Musiker Saxophonist Schweiz Z&uuml;rich
REFRESH-INTERVAL;VALUE=DURATION:PT1H
X-Robots-Tag:noindex
X-PUBLISHED-TTL:PT1H
BEGIN:VTIMEZONE
TZID:Europe/Zurich
BEGIN:DAYLIGHT
TZOFFSETFROM:+0100
TZOFFSETTO:+0200
TZNAME:CEST
DTSTART:20220327T010000
END:DAYLIGHT
BEGIN:STANDARD
TZOFFSETFROM:+0200
TZOFFSETTO:+0100
TZNAME:CET
DTSTART:20221030T010000
END:STANDARD
BEGIN:DAYLIGHT
TZOFFSETFROM:+0100
TZOFFSETTO:+0200
TZNAME:CEST
DTSTART:20230326T010000
END:DAYLIGHT
BEGIN:STANDARD
TZOFFSETFROM:+0200
TZOFFSETTO:+0100
TZNAME:CET
DTSTART:20231029T010000
END:STANDARD
BEGIN:DAYLIGHT
TZOFFSETFROM:+0100
TZOFFSETTO:+0200
TZNAME:CEST
DTSTART:20240331T010000
END:DAYLIGHT
BEGIN:STANDARD
TZOFFSETFROM:+0200
TZOFFSETTO:+0100
TZNAME:CET
DTSTART:20241027T010000
END:STANDARD
END:VTIMEZONE
BEGIN:VEVENT
DTSTART;TZID=Europe/Zurich:20230805T180000
DTEND;TZID=Europe/Zurich:20230805T220000
DTSTAMP:20260424T043240
CREATED:20230803T080804Z
LAST-MODIFIED:20230803T080804Z
UID:3598-1691258400-1691272800@www.saxophonist-live.ch
SUMMARY:Apéro Golfturnier @ Dolder Golfclub Zürich
DESCRIPTION:Für das bevorstehende private Golfturnier im renommierten Dolder Golfclub Zürich wurde Mister Saxr eingeladen\, um die Veranstaltung mit seinem musikalischen Talent zu bereichern. Der Golfclub gehört zu den ältesten privaten Golfclubs der Schweiz und ist für seine malerische Umgebung am Südhang des Adlisbergs bekannt\, exklusiv für Member und Gäste des bekannten Grand Hotels. Die atemberaubende Aussicht auf den Uetliberg\, den Zürichsee und die Stadt Zürich schafft eine einzigartige Kulisse für das Turnier. Das Clubhaus des Dolder Golfclubs mit seinem hervorragenden Restaurant bietet den Gästen eine erstklassige Verköstigung\, umgeben von einer einladenden und entspannten Atmosphäre. Der anspruchsvolle 9-Loch-Platz lädt zu spannenden und attraktiven Golfpartien ein\, bei denen sich die Spielerinnen und Spieler messen können. Mister Saxr wird die Gäste mit seiner musikalischen Darbietung in eine Welt voller Eleganz und Exklusivität entführen. Die harmonischen Klänge seines Saxophons fügen sich perfekt in die zauberhafte Umgebung des Golfclubs ein und verleihen dem Abend einen zusätzlichen Hauch von Stil und Klasse. \nMister Saxr ist ein wahrer Virtuose am Saxophon und seine Leidenschaft für die Musik ist unverkennbar. Seinem einzigartigen Saxophon vom Typ Supreme dem aus renommierten Hause Selmer entlockt er sanfte und wohlklingende Töne\, die die Zuhörer in ihren Bann ziehen. Sein Repertoire reicht dabei über die letzten sechs Musik-Jahrzehnte und er verleiht jedem Stück eine individuelle Note\, die es zu einem unvergesslichen Höhepunkt macht. \nDas Programm von Mister Saxr ist äusserst flexibel und kann auf jeden Wunsch und Anlass individuell abgestimmt werden. Ob es sich um eine private Feier\, eine Firmenveranstaltung oder ein exklusives Golfturnier handelt\, seine Musik verleiht jedem Ereignis eine gehobene und elegante Atmosphäre. \nDas kleine Paradies des Dolder Golfclubs ist nicht nur ein Ort für sportliche Herausforderungen\, sondern auch eine ideale Lokalität für Anlässe und Feiern im privaten als auch geschäftlichen Rahmen. Die atemberaubende Landschaft und das einzigartige Ambiente schaffen eine unvergessliche Atmosphäre für die Gäste. Die feine Verköstigung mit erlesenen Weinen und köstlichen Speisen lässt keine Wünsche offen und wird von der wunderbaren Musik von Mister Saxr perfekt abgerundet. \nDie Kombination aus herausforderndem Golfspiel\, malerischer Umgebung\, exquisiter Verpflegung und der feinen Musik von Mister Saxr verspricht ein unvergessliches Erlebnis\, das die Sinne begeistern wird. So können wir mit Zuversicht\, dass dieser Abend allen Sportbegeisterten und Gästen in lebhafter Erinnerung bleiben wird\, uns auf diesen Tag im August freuen.
URL:https://www.saxophonist-live.ch/saxofonist-blog/event/apero-golfturnier-dolder-golfclub-zuerich/
LOCATION:Dolder Golfclub Zürich\, Kurhausstrasse 66\, Zürich\, Zürich\, 8032\, Schweiz
CATEGORIES:MisterSaxr Event
END:VEVENT
BEGIN:VEVENT
DTSTART;TZID=Europe/Zurich:20230820T140000
DTEND;TZID=Europe/Zurich:20230820T180000
DTSTAMP:20260424T043240
CREATED:20230623T110546Z
LAST-MODIFIED:20230623T112424Z
UID:3567-1692540000-1692554400@www.saxophonist-live.ch
SUMMARY:Geburtstagsanlass
DESCRIPTION:MisterSaxr\, der leidenschaftliche Musiker beherrscht das Saxophonspiel in all seinen Facetten. Für diese spezielle Veranstaltung hat er sein Repertoire so zusammengestellt\, dass es perfekt zur Stimmung passt. Während des Essens sorgt er mit entspannter Lounge-Musik für eine angenehme Atmosphäre. Ob Bossa Nova\, Smooth Jazz oder Pop – seine sanften und einfühlsamen Klänge erfüllen den Raum und schaffen eine einladende und genussvolle Atmosphäre für die Gäste. \nDoch nach dem Essen ist es Zeit\, die Tanzfläche zu eröffnen und die Energie zu steigern. Mister Saxr wechselt geschickt zu Evergreens\, Disco-Hits und anderen mitreissenden Genres\, die die Gäste dazu bringen\, das Tanzbein zu schwingen und die Nacht in vollen Zügen zu geniessen. Sein Saxophon wird zum Mittelpunkt des Geschehens\, während er mit seiner Virtuosität und Leidenschaft die Melodien spielt\, die die Herzen der Zuhörer höherschlagen lassen. \nDas bekannte Schweizer Transportunternehmen Hess Reisecar lädt zu diesem exklusiven Privatanlass ins Zürcher Unterland ein. Die Region rund um den Zürcher Flughafen\, von Kloten über Rümlang bis nach Dielsdorf\, ist bekannt für ihre ländliche Schönheit und beheimatet viele international tätige Unternehmen. Hess Reisecar\, ansässig in Embrach\, bietet seinen Kunden ein vielseitiges Angebot\, das neben Rund- und Aktivreisen auch aufregende Musikreisen und saisonale Angebote wie Winter- und Weihnachtsreisen umfasst. Die Vielseitigkeit und das Eingehen auf die individuellen Bedürfnisse und Wünsche der Kunden spiegeln sich auch in der Herangehensweise von Mister Saxr und seiner Live-Musik wider. \nDer Veranstaltungsort für diesen unvergesslichen Abend ist das Meiers Come-In in Bülach. Dieser einladende Ort bietet den perfekten Rahmen für ein solch exklusives Ereignis. Mit seiner gemütlichen Atmosphäre und stilvollen Einrichtung schafft das Come-In eine einladende Kulisse\, die die Gäste in eine Welt der Musik und des Vergnügens entführt. Das Meiers Come-In befindet sich inmitten des Zürcher Unterlandes\, einer reizvollen Gegend\, die sowohl durch ihre natürliche Schönheit als auch durch ihre Nähe zum Zürcher Flughafen und den dort ansässigen internationalen Unternehmen besticht. \nMister Saxr\, der leidenschaftliche Saxophonist\, ist bereit\, mit seinem aussergewöhnlichen Talent und seinem breiten musikalischen Repertoire diese private Veranstaltung des bekannten Transportunternehmens Hess Reisecar zu einem unvergesslichen Erlebnis zu machen. Seine musikalische Darbietung wird die Gäste verzaubern und mitreissen\, während sie die Nacht in vollen Zügen geniessen und den Rhythmus des Saxophons spüren.
URL:https://www.saxophonist-live.ch/saxofonist-blog/event/geburtstagsanlass/
CATEGORIES:MisterSaxr Event
ATTACH;FMTTYPE=image/jpeg:https://www.saxophonist-live.ch/saxofonist-blog/wp-content/uploads/2018/09/MISTERSAXR_7406.jpg
END:VEVENT
BEGIN:VEVENT
DTSTART;TZID=Europe/Zurich:20230824T180000
DTEND;TZID=Europe/Zurich:20230824T200000
DTSTAMP:20260424T043240
CREATED:20230803T090028Z
LAST-MODIFIED:20230803T090028Z
UID:3602-1692900000-1692907200@www.saxophonist-live.ch
SUMMARY:Live-Sax @ Universitätsklinik Balgrist
DESCRIPTION:Live-Sax @ Universitätsklinik Balgrist \nIn einem hochmodernen Ambiente\, umgeben von kunstvollen Dekorationen und einem warmen\, einladenden Licht\, beginnt eine exklusive Veranstaltung\, die alle Sinne verwöhnt. Die Gäste werden von einem Team talentierter Servicekräfte herzlich empfangen\, während sie sich auf köstliche Apéro-Plättchen und erlesene Drinks freuen\, die ihnen gereicht werden. \nEin weiterer Höhepunkt dieser besonderen Feierlichkeit liegt in den harmonischen Klängen des Selmer Supreme Sax\, gespielt von keinem Geringeren als Mister Saxr\, dem leidenschaftlichen Saxophonisten. Seine Musik ist ein wahrer Ohrenschmaus\, der die Gäste sofort in seinen Bann zieht. Mit feinstem Smooth-Jazz\, Bozza-Nova und entspannter Lounge-Musik verzaubert er das Publikum und entführt es auf eine sinnliche Reise durch die Welt der Melodien. \nMister Saxr ist ein Meister seines Fachs und versteht es\, die Stimmung und die Wünsche seines Publikums perfekt einzufangen. Er spielt nicht nur für sich selbst\, sondern lässt sich von den Reaktionen und Emotionen der Anwesenden inspirieren. Mit einem breit gefächerten Repertoire an Musikstücken schafft er eine einzigartige Atmosphäre der Entspannung und des Genusses\, die die Gäste in völlige Harmonie eintauchen lässt. \nDie wunderbaren Melodien von Mister Saxr verleihen diesem Empfang eine ganz besondere Note. Jeder Moment wird durch seine Musik zu einem unvergesslichen Erlebnis\, das die Herzen der Gäste berührt und sie in eine Welt der Klänge und Emotionen entführt. Die sorgfältig ausgewählten Backing-Tracks unterstützen sein virtuoses Spiel und lassen das Saxophon in voller Pracht erstrahlen. \nWährend die Gäste sich von den Melodien tragen lassen\, entsteht eine einzigartige Verbindung zwischen ihnen und dem Saxophonisten. Mister Saxr hört aufmerksam zu und spürt die Energie des Raumes. Er lässt seine Musik die Gespräche begleiten und schafft so eine angenehme und entspannte Atmosphäre\, die die Gäste in vollen Zügen geniessen können. \nDas chirurgische Forschungs- und Lehrzentrum OR-X\, an der renommierten Universitätsklinik Balgrist angesiedelt\, eröffnet seine Türen in einer feierlichen Zeremonie (mit Mister Saxr) und markiert damit einen entscheidenden Schritt in der medizinischen Forschung und Ausbildung. Das OR-X ist ein hochmodernes Zentrum für chirurgische Innovationen und Exzellenz\, das die Entwicklung und Anwendung neuer Technologien wie Künstlicher Intelligenz und Robotik in der Chirurgie vorantreibt. Das Herzstück des Zentrums besteht aus einem voll ausgestatteten Operationssaal und einem Skills Lab. Diese Einrichtungen bieten eine ideale Umgebung\, in der Chirurginnen und Chirurgen von morgen nicht nur ihr handwerkliches Geschick verfeinern\, sondern auch wegweisende chirurgische Technologien entwickeln können und für einmal auch als exklusive Bühne für Mister Saxr.Die Bedeutung des OR-X kann nicht unterschätzt werden. Als nationale Forschungsinfrastruktur von höchster Exzellenzstufe (Note A) wurde das Zentrum vom Schweizer Nationalfonds und dem Staatssekretariat für Bildung\, Forschung und Innovation in die Roadmap für Forschungsinfrastrukturen 2023 aufgenommen. Diese Anerkennung unterstreicht die Spitzenstellung des OR-X in der medizinischen Landschaft und stellt sicher\, dass das Zentrum die finanzielle Unterstützung des Bundes erhalten wird.Das OR-X spielt eine entscheidende Rolle bei der Förderung von Forschung und Innovation in der Chirurgie. Mit seinem Fokus auf Künstlicher Intelligenz und Robotik öffnet es Türen zu bisher ungeahnten Möglichkeiten\, die chirurgische Praxis zu verbessern und die Gesundheitsversorgung für die Menschen in der Region Zürich und darüber hinaus zu revolutionieren.Ein weiterer Schlüsselaspekt der Bedeutung des OR-X liegt in seiner Rolle als Ausbildungsstätte für die nächste Generation von Chirurginnen und Chirurgen. Das Zentrum bietet eine einzigartige Lernumgebung\, in der angehende Medizinerinnen und Mediziner Zugang zu den neuesten Technologien und Behandlungsansätzen erhalten. Dies trägt dazu bei\, die Kompetenz und Expertise im medizinischen Bereich kontinuierlich zu steigern und die Patientensicherheit zu erhöhen. \nDie langersehnte Eröffnung wird ein besonderes Erlebnis für alle Gäste und ihnen sicherlich noch lange Zeit in Erinnerung bleiben.
URL:https://www.saxophonist-live.ch/saxofonist-blog/event/live-sax-universitaetsklinik-balgrist/
LOCATION:Universitätsklinik Balgrist\, Forchstrasse 340\, Zürich\, 8008\, Schweiz
CATEGORIES:MisterSaxr Event
ATTACH;FMTTYPE=image/jpeg:https://www.saxophonist-live.ch/saxofonist-blog/wp-content/uploads/2023/08/Saxophonist_SelmerSupreme_MisterSAXR_1147-1-e1691053219904.jpg
END:VEVENT
END:VCALENDAR