BEGIN:VCALENDAR
VERSION:2.0
PRODID:-//MisterSaxr.ch | saxophonist-LIVE.ch | Blog | Firmenanlass Hochzeiten Events Saxofonist Musiker Saxophonist Schweiz Z&uuml;rich - ECPv6.15.8//NONSGML v1.0//EN
CALSCALE:GREGORIAN
METHOD:PUBLISH
X-ORIGINAL-URL:https://www.saxophonist-live.ch/saxofonist-blog
X-WR-CALDESC:Veranstaltungen für MisterSaxr.ch | saxophonist-LIVE.ch | Blog | Firmenanlass Hochzeiten Events Saxofonist Musiker Saxophonist Schweiz Z&uuml;rich
REFRESH-INTERVAL;VALUE=DURATION:PT1H
X-Robots-Tag:noindex
X-PUBLISHED-TTL:PT1H
BEGIN:VTIMEZONE
TZID:Europe/Zurich
BEGIN:DAYLIGHT
TZOFFSETFROM:+0100
TZOFFSETTO:+0200
TZNAME:CEST
DTSTART:20220327T010000
END:DAYLIGHT
BEGIN:STANDARD
TZOFFSETFROM:+0200
TZOFFSETTO:+0100
TZNAME:CET
DTSTART:20221030T010000
END:STANDARD
BEGIN:DAYLIGHT
TZOFFSETFROM:+0100
TZOFFSETTO:+0200
TZNAME:CEST
DTSTART:20230326T010000
END:DAYLIGHT
BEGIN:STANDARD
TZOFFSETFROM:+0200
TZOFFSETTO:+0100
TZNAME:CET
DTSTART:20231029T010000
END:STANDARD
BEGIN:DAYLIGHT
TZOFFSETFROM:+0100
TZOFFSETTO:+0200
TZNAME:CEST
DTSTART:20240331T010000
END:DAYLIGHT
BEGIN:STANDARD
TZOFFSETFROM:+0200
TZOFFSETTO:+0100
TZNAME:CET
DTSTART:20241027T010000
END:STANDARD
END:VTIMEZONE
BEGIN:VEVENT
DTSTART;TZID=Europe/Zurich:20231201T120000
DTEND;TZID=Europe/Zurich:20231201T183000
DTSTAMP:20260423T232724
CREATED:20231130T133031Z
LAST-MODIFIED:20231130T133031Z
UID:3729-1701432000-1701455400@www.saxophonist-live.ch
SUMMARY:Mister Saxr @ Ledergerber Baden
DESCRIPTION:Mister Saxr\, der leidenschaftliche Saxophonist aus Zürich\, wird am ersten Adventswochenende eine aussergewöhnliche musikalische Darbietung im aargauischen Baden präsentieren. Dieser Auftritt ist ein wesentlicher Bestandteil der feierlichen Eröffnung des neuen Standortes von Ledergerber Mode\, einem renommierten Damenmodehaus\, das seit über 150 Jahren das Stadtbild von Baden prägt und weit über die Kantonsgrenzen hinaus für seine hochwertige und exklusive Mode bekannt ist. \nMister Saxrs Performance wird durch seine leidenschaftlich gespielten Melodien geprägt sein\, die das Publikum mit einem beeindruckenden Mix aus verschiedenen Musikgenres begeistern sollen. Bei dieser Veranstaltung plant er\, eine reiche Auswahl aus Swing\, Bossa Nova\, Smooth Jazz sowie bekannte Hits aus der Hitparade und die schönsten Evergreens aller Zeiten zu präsentieren. Diese musikalische Vielfalt ist darauf ausgerichtet\, die feierliche Atmosphäre der Modeschau\, die von zwei eleganten Models begleitet wird\, zu unterstreichen. \nDie Kombination von Musik und Mode\, zwei Ausdrucksformen der Kunst\, wird bei diesem Ereignis Hand in Hand gehen und den Besuchern eine exklusive und elegante Show für Augen und Ohren bieten. Mister Saxrs Fähigkeit\, mit dem Saxophon emotionale und mitreissende Klänge zu erzeugen\, verspricht\, eine perfekte Ergänzung zur visuellen Darstellung der neuesten Modetrends von Ledergerber zu sein. \nDie Eröffnung des neuen Standortes von Ledergerber Mode\, begleitet von der musikalischen Darbietung Mister Saxrs und dem Highlight in Form der Modeshow\, wird nicht nur ein Highlight für die treue Kundschaft sein\, sondern auch die langjährige Tradition und das Engagement des Modehauses für Qualität und Stil unterstreichen.
URL:https://www.saxophonist-live.ch/saxofonist-blog/event/mister-saxr-ledergerber-baden/
LOCATION:ledergerber. mode\, Weite Gasse 14\, Baden\, 5400\, Schweiz
CATEGORIES:MisterSaxr Event
ATTACH;FMTTYPE=image/jpeg:https://www.saxophonist-live.ch/saxofonist-blog/wp-content/uploads/2023/07/Saxophonist_SelmerSupreme_MisterS-e1689335926796.jpg
END:VEVENT
END:VCALENDAR